| Back to Multiple platform build/check report for BioC 3.6 | 
 | 
This page was generated on 2018-04-12 13:16:23 -0400 (Thu, 12 Apr 2018).
| Package 846/1472 | Hostname | OS / Arch | INSTALL | BUILD | CHECK | BUILD BIN | ||||||
| mfa 1.0.0 Kieran Campbell 
 | malbec1 | Linux (Ubuntu 16.04.1 LTS) / x86_64 | [ OK ] | OK | OK |  | ||||||
| tokay1 | Windows Server 2012 R2 Standard / x64 | OK | OK | OK | OK |  | ||||||
| veracruz1 | OS X 10.11.6 El Capitan / x86_64 | OK | OK | OK | OK |  | 
| Package: mfa | 
| Version: 1.0.0 | 
| Command: /home/biocbuild/bbs-3.6-bioc/R/bin/R CMD INSTALL mfa | 
| StartedAt: 2018-04-11 17:59:41 -0400 (Wed, 11 Apr 2018) | 
| EndedAt: 2018-04-11 17:59:54 -0400 (Wed, 11 Apr 2018) | 
| EllapsedTime: 13.0 seconds | 
| RetCode: 0 | 
| Status: OK | 
############################################################################## ############################################################################## ### ### Running command: ### ### /home/biocbuild/bbs-3.6-bioc/R/bin/R CMD INSTALL mfa ### ############################################################################## ############################################################################## * installing to library ‘/home/biocbuild/bbs-3.6-bioc/R/library’ * installing *source* package ‘mfa’ ... ** libs g++ -I/home/biocbuild/bbs-3.6-bioc/R/include -DNDEBUG -I"/home/biocbuild/bbs-3.6-bioc/R/library/Rcpp/include" -I/usr/local/include -fpic -g -O2 -Wall -c RcppExports.cpp -o RcppExports.o g++ -I/home/biocbuild/bbs-3.6-bioc/R/include -DNDEBUG -I"/home/biocbuild/bbs-3.6-bioc/R/library/Rcpp/include" -I/usr/local/include -fpic -g -O2 -Wall -c gibbs.cpp -o gibbs.o g++ -shared -L/home/biocbuild/bbs-3.6-bioc/R/lib -L/usr/local/lib -o mfa.so RcppExports.o gibbs.o -L/home/biocbuild/bbs-3.6-bioc/R/lib -lR installing to /home/biocbuild/bbs-3.6-bioc/R/library/mfa/libs ** R ** inst ** preparing package for lazy loading ** help *** installing help indices ** building package indices ** installing vignettes ** testing if installed package can be loaded * DONE (mfa)