| Back to Multiple platform build/check report for BioC 3.6 |
|
This page was generated on 2018-04-12 13:24:49 -0400 (Thu, 12 Apr 2018).
| Package 842/1472 | Hostname | OS / Arch | INSTALL | BUILD | CHECK | BUILD BIN | ||||||
| methylPipe 1.12.0 Kamal Kishore
| malbec1 | Linux (Ubuntu 16.04.1 LTS) / x86_64 | OK | OK | WARNINGS | |||||||
| tokay1 | Windows Server 2012 R2 Standard / x64 | [ OK ] | OK | WARNINGS | OK | |||||||
| veracruz1 | OS X 10.11.6 El Capitan / x86_64 | OK | OK | WARNINGS | OK |
| Package: methylPipe |
| Version: 1.12.0 |
| Command: rm -rf methylPipe.buildbin-libdir && mkdir methylPipe.buildbin-libdir && C:\cygwin\bin\curl.exe -O https://malbec1.bioconductor.org/BBS/3.6/bioc/src/contrib/methylPipe_1.12.0.tar.gz && C:\Users\biocbuild\bbs-3.6-bioc\R\bin\R.exe CMD INSTALL --build --library=methylPipe.buildbin-libdir --merge-multiarch methylPipe_1.12.0.tar.gz && C:\Users\biocbuild\bbs-3.6-bioc\R\bin\R.exe CMD INSTALL methylPipe_1.12.0.zip && rm methylPipe_1.12.0.tar.gz methylPipe_1.12.0.zip |
| StartedAt: 2018-04-11 18:56:28 -0400 (Wed, 11 Apr 2018) |
| EndedAt: 2018-04-11 18:58:34 -0400 (Wed, 11 Apr 2018) |
| EllapsedTime: 126.2 seconds |
| RetCode: 0 |
| Status: OK |
##############################################################################
##############################################################################
###
### Running command:
###
### rm -rf methylPipe.buildbin-libdir && mkdir methylPipe.buildbin-libdir && C:\cygwin\bin\curl.exe -O https://malbec1.bioconductor.org/BBS/3.6/bioc/src/contrib/methylPipe_1.12.0.tar.gz && C:\Users\biocbuild\bbs-3.6-bioc\R\bin\R.exe CMD INSTALL --build --library=methylPipe.buildbin-libdir --merge-multiarch methylPipe_1.12.0.tar.gz && C:\Users\biocbuild\bbs-3.6-bioc\R\bin\R.exe CMD INSTALL methylPipe_1.12.0.zip && rm methylPipe_1.12.0.tar.gz methylPipe_1.12.0.zip
###
##############################################################################
##############################################################################
% Total % Received % Xferd Average Speed Time Time Time Current
Dload Upload Total Spent Left Speed
0 0 0 0 0 0 0 0 --:--:-- --:--:-- --:--:-- 0
100 389k 100 389k 0 0 2941k 0 --:--:-- --:--:-- --:--:-- 3020k
install for i386
* installing *source* package 'methylPipe' ...
** libs
C:/Rtools/mingw_32/bin/gcc -I"C:/Users/BIOCBU˜1/BBS-3˜1.6-B/R/include" -DNDEBUG -I"C:/local323/include" -O3 -Wall -std=gnu99 -mtune=generic -c R_init_methylPipe.c -o R_init_methylPipe.o
C:/Rtools/mingw_32/bin/gcc -I"C:/Users/BIOCBU˜1/BBS-3˜1.6-B/R/include" -DNDEBUG -I"C:/local323/include" -O3 -Wall -std=gnu99 -mtune=generic -c binning.c -o binning.o
C:/Rtools/mingw_32/bin/g++ -shared -s -static-libgcc -o methylPipe.dll tmp.def R_init_methylPipe.o binning.o -LC:/local323/lib/i386 -LC:/local323/lib -LC:/Users/BIOCBU˜1/BBS-3˜1.6-B/R/bin/i386 -lR
installing to C:/Users/biocbuild/bbs-3.6-bioc/meat/methylPipe.buildbin-libdir/methylPipe/libs/i386
** R
** exec
** inst
** preparing package for lazy loading
** help
*** installing help indices
converting help for package 'methylPipe'
finding HTML links ... done
BSdata-class html
finding level-2 HTML links ... done
BSdataSet-class html
BSprepare html
GEcollection-class html
GElist-class html
chiCombP html
consolidateDMRs html
extractBinGRanges html
findDMR html
findPMDs html
getCpos html
getCposDensity html
mCsmoothing html
mapBSdata2GRanges html
meth.call html
methstats html
methylPipe-package html
plotMeth html
pool.reads html
process.hmc html
profileDNAmetBin html
splitChrs html
tabixdata2GR html
** building package indices
** installing vignettes
** testing if installed package can be loaded
In R CMD INSTALL
install for x64
* installing *source* package 'methylPipe' ...
** libs
C:/Rtools/mingw_64/bin/gcc -I"C:/Users/BIOCBU˜1/BBS-3˜1.6-B/R/include" -DNDEBUG -I"C:/local323/include" -O2 -Wall -std=gnu99 -mtune=generic -c R_init_methylPipe.c -o R_init_methylPipe.o
C:/Rtools/mingw_64/bin/gcc -I"C:/Users/BIOCBU˜1/BBS-3˜1.6-B/R/include" -DNDEBUG -I"C:/local323/include" -O2 -Wall -std=gnu99 -mtune=generic -c binning.c -o binning.o
C:/Rtools/mingw_64/bin/g++ -shared -s -static-libgcc -o methylPipe.dll tmp.def R_init_methylPipe.o binning.o -LC:/local323/lib/x64 -LC:/local323/lib -LC:/Users/BIOCBU˜1/BBS-3˜1.6-B/R/bin/x64 -lR
installing to C:/Users/biocbuild/bbs-3.6-bioc/meat/methylPipe.buildbin-libdir/methylPipe/libs/x64
** testing if installed package can be loaded
* MD5 sums
packaged installation of 'methylPipe' as methylPipe_1.12.0.zip
* DONE (methylPipe)
In R CMD INSTALL
In R CMD INSTALL
* installing to library 'C:/Users/biocbuild/bbs-3.6-bioc/R/library'
package 'methylPipe' successfully unpacked and MD5 sums checked
In R CMD INSTALL