| Back to Multiple platform build/check report for BioC 3.6 |
|
This page was generated on 2018-04-12 13:36:43 -0400 (Thu, 12 Apr 2018).
| Package 824/1472 | Hostname | OS / Arch | INSTALL | BUILD | CHECK | BUILD BIN | ||||||
| metagenomeSeq 1.20.1 Joseph N. Paulson
| malbec1 | Linux (Ubuntu 16.04.1 LTS) / x86_64 | OK | OK | OK | |||||||
| tokay1 | Windows Server 2012 R2 Standard / x64 | OK | OK | OK | OK | |||||||
| veracruz1 | OS X 10.11.6 El Capitan / x86_64 | OK | OK | [ OK ] | OK |
| Package: metagenomeSeq |
| Version: 1.20.1 |
| Command: /Library/Frameworks/R.framework/Versions/Current/Resources/bin/R CMD check --no-vignettes --timings metagenomeSeq_1.20.1.tar.gz |
| StartedAt: 2018-04-12 06:08:22 -0400 (Thu, 12 Apr 2018) |
| EndedAt: 2018-04-12 06:11:05 -0400 (Thu, 12 Apr 2018) |
| EllapsedTime: 163.6 seconds |
| RetCode: 0 |
| Status: OK |
| CheckDir: metagenomeSeq.Rcheck |
| Warnings: 0 |
############################################################################## ############################################################################## ### ### Running command: ### ### /Library/Frameworks/R.framework/Versions/Current/Resources/bin/R CMD check --no-vignettes --timings metagenomeSeq_1.20.1.tar.gz ### ############################################################################## ############################################################################## * using log directory ‘/Users/biocbuild/bbs-3.6-bioc/meat/metagenomeSeq.Rcheck’ * using R version 3.4.4 (2018-03-15) * using platform: x86_64-apple-darwin15.6.0 (64-bit) * using session charset: UTF-8 * using option ‘--no-vignettes’ * checking for file ‘metagenomeSeq/DESCRIPTION’ ... OK * this is package ‘metagenomeSeq’ version ‘1.20.1’ * checking package namespace information ... OK * checking package dependencies ... OK * checking if this is a source package ... OK * checking if there is a namespace ... OK * checking for hidden files and directories ... OK * checking for portable file names ... OK * checking for sufficient/correct file permissions ... OK * checking whether package ‘metagenomeSeq’ can be installed ... OK * checking installed package size ... OK * checking package directory ... OK * checking ‘build’ directory ... OK * checking DESCRIPTION meta-information ... OK * checking top-level files ... OK * checking for left-over files ... OK * checking index information ... OK * checking package subdirectories ... OK * checking R files for non-ASCII characters ... OK * checking R files for syntax errors ... OK * checking whether the package can be loaded ... OK * checking whether the package can be loaded with stated dependencies ... OK * checking whether the package can be unloaded cleanly ... OK * checking whether the namespace can be loaded with stated dependencies ... OK * checking whether the namespace can be unloaded cleanly ... OK * checking dependencies in R code ... OK * checking S3 generic/method consistency ... OK * checking replacement functions ... OK * checking foreign function calls ... OK * checking R code for possible problems ... OK * checking Rd files ... OK * checking Rd metadata ... OK * checking Rd cross-references ... OK * checking for missing documentation entries ... OK * checking for code/documentation mismatches ... OK * checking Rd \usage sections ... OK * checking Rd contents ... OK * checking for unstated dependencies in examples ... OK * checking contents of ‘data’ directory ... OK * checking data for non-ASCII characters ... OK * checking data for ASCII and uncompressed saves ... OK * checking sizes of PDF files under ‘inst/doc’ ... OK * checking installed files from ‘inst/doc’ ... OK * checking files in ‘vignettes’ ... OK * checking examples ... OK * checking for unstated dependencies in ‘tests’ ... OK * checking tests ... Running ‘testthat.R’ OK * checking for unstated dependencies in vignettes ... OK * checking package vignettes in ‘inst/doc’ ... OK * checking running R code from vignettes ... SKIPPED * checking re-building of vignette outputs ... SKIPPED * checking PDF version of manual ... OK * DONE Status: OK
metagenomeSeq.Rcheck/00install.out
* installing *source* package ‘metagenomeSeq’ ... ** R ** data ** inst ** preparing package for lazy loading ** help *** installing help indices ** building package indices ** installing vignettes ** testing if installed package can be loaded * DONE (metagenomeSeq)
metagenomeSeq.Rcheck/tests/testthat.Rout
R version 3.4.4 (2018-03-15) -- "Someone to Lean On"
Copyright (C) 2018 The R Foundation for Statistical Computing
Platform: x86_64-apple-darwin15.6.0 (64-bit)
R is free software and comes with ABSOLUTELY NO WARRANTY.
You are welcome to redistribute it under certain conditions.
Type 'license()' or 'licence()' for distribution details.
R is a collaborative project with many contributors.
Type 'contributors()' for more information and
'citation()' on how to cite R or R packages in publications.
Type 'demo()' for some demos, 'help()' for on-line help, or
'help.start()' for an HTML browser interface to help.
Type 'q()' to quit R.
> library("testthat")
> packageVersion("metagenomeSeq")
[1] '1.20.1'
> # As suggested for opt-out option on testing by users,
> # recommended by CRAN: http://adv-r.had.co.nz/Testing.html
> # Previously, best practice was to put all test files in inst/tests
> # and ensure that R CMD check ran them by putting the following code in tests/test-all.R:
> # >library(testthat)
> # >library(yourpackage)
> # >test_package("yourpackage")
> # Now, recommended practice is to put your tests in tests/testthat,
> # and ensure R CMD check runs them by putting the following code in tests/test-all.R:
> # >library(testthat)
> # >test_check("yourpackage")
> # The advantage of this new structure is that the user has control over whether or not tests are installed using the –install-tests parameter to
> # R CMD install, or INSTALL_opts = c(“–install-tests”) argument to install.packages(). I’m not sure why you wouldn’t want to install the tests,
> # but now you have the flexibility as requested by CRAN maintainers.
> test_check("metagenomeSeq")
Loading required package: metagenomeSeq
Loading required package: Biobase
Loading required package: BiocGenerics
Loading required package: parallel
Attaching package: 'BiocGenerics'
The following objects are masked from 'package:parallel':
clusterApply, clusterApplyLB, clusterCall, clusterEvalQ,
clusterExport, clusterMap, parApply, parCapply, parLapply,
parLapplyLB, parRapply, parSapply, parSapplyLB
The following objects are masked from 'package:stats':
IQR, mad, sd, var, xtabs
The following objects are masked from 'package:base':
Filter, Find, Map, Position, Reduce, anyDuplicated, append,
as.data.frame, cbind, colMeans, colSums, colnames, do.call,
duplicated, eval, evalq, get, grep, grepl, intersect, is.unsorted,
lapply, lengths, mapply, match, mget, order, paste, pmax, pmax.int,
pmin, pmin.int, rank, rbind, rowMeans, rowSums, rownames, sapply,
setdiff, sort, table, tapply, union, unique, unsplit, which,
which.max, which.min
Welcome to Bioconductor
Vignettes contain introductory material; view with
'browseVignettes()'. To cite Bioconductor, see
'citation("Biobase")', and for packages 'citation("pkgname")'.
Loading required package: limma
Attaching package: 'limma'
The following object is masked from 'package:BiocGenerics':
plotMA
Loading required package: glmnet
Loading required package: Matrix
Loading required package: foreach
Loaded glmnet 2.0-16
Loading required package: RColorBrewer
══ testthat results ═══════════════════════════════════════════════════════════
OK: 13 SKIPPED: 0 FAILED: 0
>
> proc.time()
user system elapsed
17.379 2.174 19.828
metagenomeSeq.Rcheck/metagenomeSeq-Ex.timings
| name | user | system | elapsed | |
| MRcoefs | 2.703 | 0.094 | 2.836 | |
| MRcounts | 0.409 | 0.022 | 0.439 | |
| MRexperiment-class | 0.001 | 0.000 | 0.001 | |
| MRfulltable | 1.882 | 0.040 | 1.954 | |
| MRtable | 1.337 | 0.027 | 1.389 | |
| aggregateBySample | 0.246 | 0.015 | 0.265 | |
| aggregateByTaxonomy | 0.269 | 0.015 | 0.289 | |
| biom2MRexperiment | 0.574 | 0.007 | 0.594 | |
| calcNormFactors | 0.552 | 0.086 | 0.651 | |
| correctIndices | 0.161 | 0.018 | 0.181 | |
| correlationTest | 0.386 | 0.032 | 0.444 | |
| cumNorm | 0.691 | 0.073 | 0.799 | |
| cumNormMat | 0.532 | 0.073 | 0.621 | |
| cumNormStat | 0.504 | 0.043 | 0.552 | |
| cumNormStatFast | 0.492 | 0.029 | 0.523 | |
| expSummary | 0.126 | 0.012 | 0.142 | |
| exportMat | 2.017 | 1.725 | 3.812 | |
| exportStats | 0.716 | 0.041 | 0.767 | |
| extractMR | 3.175 | 0.809 | 4.031 | |
| filterData | 0.233 | 0.026 | 0.266 | |
| fitDO | 0.730 | 0.042 | 3.761 | |
| fitFeatureModel | 1.368 | 0.060 | 1.462 | |
| fitLogNormal | 2.058 | 0.238 | 2.343 | |
| fitMultipleTimeSeries | 3.658 | 0.164 | 3.870 | |
| fitPA | 0.511 | 0.048 | 3.043 | |
| fitSSTimeSeries | 1.144 | 0.101 | 1.250 | |
| fitTimeSeries | 1.009 | 0.038 | 1.052 | |
| fitZig | 2.334 | 0.304 | 2.669 | |
| libSize-set | 0.455 | 0.031 | 0.489 | |
| libSize | 0.406 | 0.019 | 0.429 | |
| loadBiom | 0.307 | 0.013 | 0.325 | |
| loadMeta | 0.035 | 0.000 | 0.038 | |
| loadMetaQ | 0.001 | 0.000 | 0.001 | |
| loadPhenoData | 0.025 | 0.000 | 0.027 | |
| makeLabels | 0.001 | 0.000 | 0.000 | |
| mergeMRexperiments | 2.082 | 0.438 | 2.563 | |
| newMRexperiment | 0.037 | 0.000 | 0.037 | |
| normFactors-set | 0.436 | 0.020 | 0.459 | |
| normFactors | 0.394 | 0.019 | 0.428 | |
| plotBubble | 0.685 | 0.158 | 3.168 | |
| plotClassTimeSeries | 0.902 | 0.089 | 1.006 | |
| plotCorr | 0.536 | 0.072 | 0.614 | |
| plotFeature | 0.164 | 0.015 | 0.194 | |
| plotGenus | 0.150 | 0.024 | 0.179 | |
| plotMRheatmap | 4.273 | 0.103 | 4.455 | |
| plotOTU | 0.177 | 0.019 | 0.199 | |
| plotOrd | 0.320 | 0.045 | 0.367 | |
| plotRare | 0.152 | 0.019 | 0.177 | |
| plotTimeSeries | 0.978 | 0.100 | 1.097 | |
| posteriorProbs | 1.993 | 0.353 | 2.382 | |
| returnAppropriateObj | 0.414 | 0.041 | 0.458 | |
| ssFit | 0.000 | 0.000 | 0.001 | |
| ssIntervalCandidate | 0.000 | 0.001 | 0.000 | |
| ssPerm | 0 | 0 | 0 | |
| ssPermAnalysis | 0 | 0 | 0 | |
| trapz | 0.001 | 0.000 | 0.002 | |
| ts2MRexperiment | 2.046 | 0.171 | 2.264 | |
| uniqueFeatures | 0.157 | 0.014 | 0.172 | |
| zigControl | 0 | 0 | 0 | |