| Back to Multiple platform build/check report for BioC 3.6 |
|
This page was generated on 2018-04-12 13:06:55 -0400 (Thu, 12 Apr 2018).
| Package 777/1472 | Hostname | OS / Arch | INSTALL | BUILD | CHECK | BUILD BIN | ||||||
| makecdfenv 1.54.0 James W. MacDonald
| malbec1 | Linux (Ubuntu 16.04.1 LTS) / x86_64 | OK | OK | [ OK ] | |||||||
| tokay1 | Windows Server 2012 R2 Standard / x64 | OK | OK | OK | OK | |||||||
| veracruz1 | OS X 10.11.6 El Capitan / x86_64 | OK | OK | OK | OK |
| Package: makecdfenv |
| Version: 1.54.0 |
| Command: /home/biocbuild/bbs-3.6-bioc/R/bin/R CMD check --no-vignettes --timings makecdfenv_1.54.0.tar.gz |
| StartedAt: 2018-04-12 00:44:37 -0400 (Thu, 12 Apr 2018) |
| EndedAt: 2018-04-12 00:45:27 -0400 (Thu, 12 Apr 2018) |
| EllapsedTime: 49.3 seconds |
| RetCode: 0 |
| Status: OK |
| CheckDir: makecdfenv.Rcheck |
| Warnings: 0 |
##############################################################################
##############################################################################
###
### Running command:
###
### /home/biocbuild/bbs-3.6-bioc/R/bin/R CMD check --no-vignettes --timings makecdfenv_1.54.0.tar.gz
###
##############################################################################
##############################################################################
* using log directory ‘/home/biocbuild/bbs-3.6-bioc/meat/makecdfenv.Rcheck’
* using R version 3.4.4 (2018-03-15)
* using platform: x86_64-pc-linux-gnu (64-bit)
* using session charset: UTF-8
* using option ‘--no-vignettes’
* checking for file ‘makecdfenv/DESCRIPTION’ ... OK
* this is package ‘makecdfenv’ version ‘1.54.0’
* checking package namespace information ... OK
* checking package dependencies ... OK
* checking if this is a source package ... OK
* checking if there is a namespace ... OK
* checking for hidden files and directories ... OK
* checking for portable file names ... OK
* checking for sufficient/correct file permissions ... OK
* checking whether package ‘makecdfenv’ can be installed ... OK
* checking installed package size ... OK
* checking package directory ... OK
* checking ‘build’ directory ... OK
* checking DESCRIPTION meta-information ... OK
* checking top-level files ... OK
* checking for left-over files ... OK
* checking index information ... OK
* checking package subdirectories ... OK
* checking R files for non-ASCII characters ... OK
* checking R files for syntax errors ... OK
* checking whether the package can be loaded ... OK
* checking whether the package can be loaded with stated dependencies ... OK
* checking whether the package can be unloaded cleanly ... OK
* checking whether the namespace can be loaded with stated dependencies ... OK
* checking whether the namespace can be unloaded cleanly ... OK
* checking dependencies in R code ... OK
* checking S3 generic/method consistency ... OK
* checking replacement functions ... OK
* checking foreign function calls ... NOTE
Foreign function calls to a different package:
.Call("CheckCDFXDA", ..., PACKAGE = "affyio")
.Call("ReadCDFFile", ..., PACKAGE = "affyio")
See chapter ‘System and foreign language interfaces’ in the ‘Writing R
Extensions’ manual.
* checking R code for possible problems ... OK
* checking Rd files ... OK
* checking Rd metadata ... OK
* checking Rd cross-references ... OK
* checking for missing documentation entries ... OK
* checking for code/documentation mismatches ... OK
* checking Rd \usage sections ... OK
* checking Rd contents ... OK
* checking for unstated dependencies in examples ... OK
* checking line endings in shell scripts ... OK
* checking line endings in C/C++/Fortran sources/headers ... OK
* checking line endings in Makefiles ... OK
* checking compilation flags in Makevars ... NOTE
Package has both ‘src/Makevars.in’ and ‘src/Makevars’.
Installation with --no-configure' is unlikely to work. If you intended
‘src/Makevars’ to be used on Windows, rename it to ‘src/Makevars.win’
otherwise remove it. If ‘configure’ created ‘src/Makevars’, you need a
‘cleanup’ script.
* checking for GNU extensions in Makefiles ... OK
* checking for portable use of $(BLAS_LIBS) and $(LAPACK_LIBS) ... OK
* checking compiled code ... OK
* checking installed files from ‘inst/doc’ ... OK
* checking files in ‘vignettes’ ... OK
* checking examples ... OK
* checking for unstated dependencies in vignettes ... OK
* checking package vignettes in ‘inst/doc’ ... OK
* checking running R code from vignettes ... SKIPPED
* checking re-building of vignette outputs ... SKIPPED
* checking PDF version of manual ... OK
* DONE
Status: 2 NOTEs
See
‘/home/biocbuild/bbs-3.6-bioc/meat/makecdfenv.Rcheck/00check.log’
for details.
makecdfenv.Rcheck/00install.out
* installing *source* package ‘makecdfenv’ ...
creating cache ./config.cache
checking how to run the C preprocessor... cc -E
checking for main in -lz... yes
checking for zlib.h... yes
checking if zlib version >= 1.1.3... yes
updating cache ./config.cache
creating ./config.status
creating src/Makevars
** libs
gcc -I/home/biocbuild/bbs-3.6-bioc/R/include -DNDEBUG -DHAVE_ZLIB=1 -I/usr/local/include -fpic -g -O2 -Wall -c read_cdffile.c -o read_cdffile.o
read_cdffile.c: In function ‘readQC’:
read_cdffile.c:576:7: warning: variable ‘typeQC’ set but not used [-Wunused-but-set-variable]
int typeQC;
^
read_cdffile.c: In function ‘openCDFfile’:
read_cdffile.c:340:7: warning: ignoring return value of ‘fgets’, declared with attribute warn_unused_result [-Wunused-result]
fgets(buffy, SIZE_LINE, affyFile->stream);
^
g++ -shared -L/home/biocbuild/bbs-3.6-bioc/R/lib -L/usr/local/lib -o makecdfenv.so read_cdffile.o -lz -L/home/biocbuild/bbs-3.6-bioc/R/lib -lR
installing to /home/biocbuild/bbs-3.6-bioc/meat/makecdfenv.Rcheck/makecdfenv/libs
** R
** inst
** preparing package for lazy loading
** help
*** installing help indices
** building package indices
** installing vignettes
** testing if installed package can be loaded
* DONE (makecdfenv)
makecdfenv.Rcheck/makecdfenv-Ex.timings
| name | user | system | elapsed | |
| make.cdf.env | 4.012 | 0.048 | 4.065 | |
| make.cdf.package | 3.544 | 0.044 | 3.591 | |
| read.cdffile | 2.792 | 0.000 | 2.795 | |