| Back to Multiple platform build/check report for BioC 3.6 |
|
This page was generated on 2018-04-12 13:17:46 -0400 (Thu, 12 Apr 2018).
| Package 772/1472 | Hostname | OS / Arch | INSTALL | BUILD | CHECK | BUILD BIN | ||||||
| made4 1.52.0 Aedin Culhane
| malbec1 | Linux (Ubuntu 16.04.1 LTS) / x86_64 | OK | OK | WARNINGS | |||||||
| tokay1 | Windows Server 2012 R2 Standard / x64 | [ OK ] | OK | WARNINGS | OK | |||||||
| veracruz1 | OS X 10.11.6 El Capitan / x86_64 | OK | OK | WARNINGS | OK |
| Package: made4 |
| Version: 1.52.0 |
| Command: rm -rf made4.buildbin-libdir && mkdir made4.buildbin-libdir && C:\cygwin\bin\curl.exe -O https://malbec1.bioconductor.org/BBS/3.6/bioc/src/contrib/made4_1.52.0.tar.gz && C:\Users\biocbuild\bbs-3.6-bioc\R\bin\R.exe CMD INSTALL --build --library=made4.buildbin-libdir --merge-multiarch made4_1.52.0.tar.gz && C:\Users\biocbuild\bbs-3.6-bioc\R\bin\R.exe CMD INSTALL made4_1.52.0.zip && rm made4_1.52.0.tar.gz made4_1.52.0.zip |
| StartedAt: 2018-04-11 18:25:09 -0400 (Wed, 11 Apr 2018) |
| EndedAt: 2018-04-11 18:26:59 -0400 (Wed, 11 Apr 2018) |
| EllapsedTime: 110.2 seconds |
| RetCode: 0 |
| Status: OK |
##############################################################################
##############################################################################
###
### Running command:
###
### rm -rf made4.buildbin-libdir && mkdir made4.buildbin-libdir && C:\cygwin\bin\curl.exe -O https://malbec1.bioconductor.org/BBS/3.6/bioc/src/contrib/made4_1.52.0.tar.gz && C:\Users\biocbuild\bbs-3.6-bioc\R\bin\R.exe CMD INSTALL --build --library=made4.buildbin-libdir --merge-multiarch made4_1.52.0.tar.gz && C:\Users\biocbuild\bbs-3.6-bioc\R\bin\R.exe CMD INSTALL made4_1.52.0.zip && rm made4_1.52.0.tar.gz made4_1.52.0.zip
###
##############################################################################
##############################################################################
% Total % Received % Xferd Average Speed Time Time Time Current
Dload Upload Total Spent Left Speed
0 0 0 0 0 0 0 0 --:--:-- --:--:-- --:--:-- 0
100 344k 100 344k 0 0 13.2M 0 --:--:-- --:--:-- --:--:-- 15.2M
install for i386
* installing *source* package 'made4' ...
** R
** data
** inst
** preparing package for lazy loading
** help
*** installing help indices
converting help for package 'made4'
finding HTML links ... done
NCI60 html
array2ade4 html
Rd warning: C:/Users/biocbuild/bbs-3.6-bioc/tmpdir/RtmpwDEwQA/R.INSTALL10843d644bb6/made4/man/array2ade4.Rd:15: missing file link 'ExpressionSet-class'
Rd warning: C:/Users/biocbuild/bbs-3.6-bioc/tmpdir/RtmpwDEwQA/R.INSTALL10843d644bb6/made4/man/array2ade4.Rd:30: missing file link 'ExpressionSet-class'
bet.coinertia html
Rd warning: C:/Users/biocbuild/bbs-3.6-bioc/tmpdir/RtmpwDEwQA/R.INSTALL10843d644bb6/made4/man/bet.coinertia.Rd:14: missing file link 'ExpressionSet-class'
Rd warning: C:/Users/biocbuild/bbs-3.6-bioc/tmpdir/RtmpwDEwQA/R.INSTALL10843d644bb6/made4/man/bet.coinertia.Rd:21: missing file link 'ExpressionSet-class'
between.graph html
bga html
Rd warning: C:/Users/biocbuild/bbs-3.6-bioc/tmpdir/RtmpwDEwQA/R.INSTALL10843d644bb6/made4/man/bga.Rd:16: missing file link 'ExpressionSet-class'
bga.jackknife html
Rd warning: C:/Users/biocbuild/bbs-3.6-bioc/tmpdir/RtmpwDEwQA/R.INSTALL10843d644bb6/made4/man/bga.jackknife.Rd:37: missing file link 'plot.bga'
bga.suppl html
Rd warning: C:/Users/biocbuild/bbs-3.6-bioc/tmpdir/RtmpwDEwQA/R.INSTALL10843d644bb6/made4/man/bga.suppl.Rd:13: missing file link 'ExpressionSet-class'
Rd warning: C:/Users/biocbuild/bbs-3.6-bioc/tmpdir/RtmpwDEwQA/R.INSTALL10843d644bb6/made4/man/bga.suppl.Rd:19: missing file link 'ExpressionSet-class'
Rd warning: C:/Users/biocbuild/bbs-3.6-bioc/tmpdir/RtmpwDEwQA/R.INSTALL10843d644bb6/made4/man/bga.suppl.Rd:45: missing file link 'plot.bga'
Rd warning: C:/Users/biocbuild/bbs-3.6-bioc/tmpdir/RtmpwDEwQA/R.INSTALL10843d644bb6/made4/man/bga.suppl.Rd:63: missing file link 'plot.bga'
checkfac html
chime3D html
cia html
Rd warning: C:/Users/biocbuild/bbs-3.6-bioc/tmpdir/RtmpwDEwQA/R.INSTALL10843d644bb6/made4/man/cia.Rd:14: missing file link 'ExpressionSet-class'
Rd warning: C:/Users/biocbuild/bbs-3.6-bioc/tmpdir/RtmpwDEwQA/R.INSTALL10843d644bb6/made4/man/cia.Rd:20: missing file link 'ExpressionSet-class'
commonMap html
comparelists html
do3d html
dudi.rwcoa html
forrwcoa html
genes html
genes1d html
getcol html
getdata html
Rd warning: C:/Users/biocbuild/bbs-3.6-bioc/tmpdir/RtmpwDEwQA/R.INSTALL10843d644bb6/made4/man/getdata.Rd:14: missing file link 'ExpressionSet-class'
Rd warning: C:/Users/biocbuild/bbs-3.6-bioc/tmpdir/RtmpwDEwQA/R.INSTALL10843d644bb6/made4/man/getdata.Rd:25: missing file link 'ExpressionSet-class'
Rd warning: C:/Users/biocbuild/bbs-3.6-bioc/tmpdir/RtmpwDEwQA/R.INSTALL10843d644bb6/made4/man/getdata.Rd:29: file link 'vsn' in package 'vsn' does not exist and so has been treated as a topic
graph1D html
heatplot html
Rd warning: C:/Users/biocbuild/bbs-3.6-bioc/tmpdir/RtmpwDEwQA/R.INSTALL10843d644bb6/made4/man/heatplot.Rd:14: missing file link 'ExpressionSet-class'
html3D html
jmol3D html
khan html
ord html
Rd warning: C:/Users/biocbuild/bbs-3.6-bioc/tmpdir/RtmpwDEwQA/R.INSTALL10843d644bb6/made4/man/ord.Rd:13: missing file link 'ExpressionSet-class'
overview html
Rd warning: C:/Users/biocbuild/bbs-3.6-bioc/tmpdir/RtmpwDEwQA/R.INSTALL10843d644bb6/made4/man/overview.Rd:10: missing file link 'ExpressionSet-class'
plotarrays html
Rd warning: C:/Users/biocbuild/bbs-3.6-bioc/tmpdir/RtmpwDEwQA/R.INSTALL10843d644bb6/made4/man/plotarrays.Rd:45: missing file link 's.groups'
Rd warning: C:/Users/biocbuild/bbs-3.6-bioc/tmpdir/RtmpwDEwQA/R.INSTALL10843d644bb6/made4/man/plotarrays.Rd:46: missing file link 's.match.col'
plotgenes html
prettyDend html
Rd warning: C:/Users/biocbuild/bbs-3.6-bioc/tmpdir/RtmpwDEwQA/R.INSTALL10843d644bb6/made4/man/prettyDend.Rd:11: missing file link 'ExpressionSet-class'
randomiser html
s.var html
Rd warning: C:/Users/biocbuild/bbs-3.6-bioc/tmpdir/RtmpwDEwQA/R.INSTALL10843d644bb6/made4/man/s.var.Rd:65: missing file link 'plot.bga'
Rd warning: C:/Users/biocbuild/bbs-3.6-bioc/tmpdir/RtmpwDEwQA/R.INSTALL10843d644bb6/made4/man/s.var.Rd:65: missing file link 'plot.cia'
sumstats html
suppl html
Rd warning: C:/Users/biocbuild/bbs-3.6-bioc/tmpdir/RtmpwDEwQA/R.INSTALL10843d644bb6/made4/man/suppl.Rd:17: missing file link 'ExpressionSet-class'
Rd warning: C:/Users/biocbuild/bbs-3.6-bioc/tmpdir/RtmpwDEwQA/R.INSTALL10843d644bb6/made4/man/suppl.Rd:38: missing file link 'plot.bga'
Rd warning: C:/Users/biocbuild/bbs-3.6-bioc/tmpdir/RtmpwDEwQA/R.INSTALL10843d644bb6/made4/man/suppl.Rd:47: missing file link 'plot.bga'
topgenes html
** building package indices
** installing vignettes
** testing if installed package can be loaded
In R CMD INSTALL
install for x64
* installing *source* package 'made4' ...
** testing if installed package can be loaded
* MD5 sums
packaged installation of 'made4' as made4_1.52.0.zip
* DONE (made4)
In R CMD INSTALL
In R CMD INSTALL
* installing to library 'C:/Users/biocbuild/bbs-3.6-bioc/R/library'
package 'made4' successfully unpacked and MD5 sums checked
In R CMD INSTALL