| Back to Multiple platform build/check report for BioC 3.6 |
|
This page was generated on 2018-04-12 13:18:02 -0400 (Thu, 12 Apr 2018).
| Package 785/1472 | Hostname | OS / Arch | INSTALL | BUILD | CHECK | BUILD BIN | ||||||
| maSigPro 1.50.0 Maria Jose Nueda
| malbec1 | Linux (Ubuntu 16.04.1 LTS) / x86_64 | OK | OK | OK | |||||||
| tokay1 | Windows Server 2012 R2 Standard / x64 | [ OK ] | OK | OK | OK | |||||||
| veracruz1 | OS X 10.11.6 El Capitan / x86_64 | OK | OK | OK | OK |
| Package: maSigPro |
| Version: 1.50.0 |
| Command: rm -rf maSigPro.buildbin-libdir && mkdir maSigPro.buildbin-libdir && C:\cygwin\bin\curl.exe -O https://malbec1.bioconductor.org/BBS/3.6/bioc/src/contrib/maSigPro_1.50.0.tar.gz && C:\Users\biocbuild\bbs-3.6-bioc\R\bin\R.exe CMD INSTALL --build --library=maSigPro.buildbin-libdir --merge-multiarch maSigPro_1.50.0.tar.gz && C:\Users\biocbuild\bbs-3.6-bioc\R\bin\R.exe CMD INSTALL maSigPro_1.50.0.zip && rm maSigPro_1.50.0.tar.gz maSigPro_1.50.0.zip |
| StartedAt: 2018-04-11 18:21:18 -0400 (Wed, 11 Apr 2018) |
| EndedAt: 2018-04-11 18:22:49 -0400 (Wed, 11 Apr 2018) |
| EllapsedTime: 91.2 seconds |
| RetCode: 0 |
| Status: OK |
##############################################################################
##############################################################################
###
### Running command:
###
### rm -rf maSigPro.buildbin-libdir && mkdir maSigPro.buildbin-libdir && C:\cygwin\bin\curl.exe -O https://malbec1.bioconductor.org/BBS/3.6/bioc/src/contrib/maSigPro_1.50.0.tar.gz && C:\Users\biocbuild\bbs-3.6-bioc\R\bin\R.exe CMD INSTALL --build --library=maSigPro.buildbin-libdir --merge-multiarch maSigPro_1.50.0.tar.gz && C:\Users\biocbuild\bbs-3.6-bioc\R\bin\R.exe CMD INSTALL maSigPro_1.50.0.zip && rm maSigPro_1.50.0.tar.gz maSigPro_1.50.0.zip
###
##############################################################################
##############################################################################
% Total % Received % Xferd Average Speed Time Time Time Current
Dload Upload Total Spent Left Speed
0 0 0 0 0 0 0 0 --:--:-- --:--:-- --:--:-- 0
100 1516k 100 1516k 0 0 41.7M 0 --:--:-- --:--:-- --:--:-- 46.2M
install for i386
* installing *source* package 'maSigPro' ...
** R
** data
** inst
** preparing package for lazy loading
** help
*** installing help indices
converting help for package 'maSigPro'
finding HTML links ... done
ISOdata html
ISOdesign html
IsoModel html
IsoPlot html
NBdata html
NBdesign html
PlotGroups html
PlotProfiles html
PodiumChange html
T.fit html
average.rows html
data.abiotic html
edesign.abiotic html
edesignCT html
edesignDR html
get.siggenes html
getDS html
getDSPatterns html
i.rank html
maSigPro html
maSigProUsersGuide html
make.design.matrix html
p.vector html
position html
reg.coeffs html
see.genes html
seeDS html
stepback html
stepfor html
suma2Venn html
tableDS html
two.ways.stepback html
two.ways.stepfor html
** building package indices
** installing vignettes
'maSigPro.Rnw'
** testing if installed package can be loaded
In R CMD INSTALL
install for x64
* installing *source* package 'maSigPro' ...
** testing if installed package can be loaded
* MD5 sums
packaged installation of 'maSigPro' as maSigPro_1.50.0.zip
* DONE (maSigPro)
In R CMD INSTALL
In R CMD INSTALL
* installing to library 'C:/Users/biocbuild/bbs-3.6-bioc/R/library'
package 'maSigPro' successfully unpacked and MD5 sums checked
In R CMD INSTALL