| Back to Multiple platform build/check report for BioC 3.6 |
|
This page was generated on 2018-04-12 13:23:34 -0400 (Thu, 12 Apr 2018).
| Package 701/1472 | Hostname | OS / Arch | INSTALL | BUILD | CHECK | BUILD BIN | ||||||
| interactiveDisplay 1.16.0 Shawn Balcome
| malbec1 | Linux (Ubuntu 16.04.1 LTS) / x86_64 | OK | OK | WARNINGS | |||||||
| tokay1 | Windows Server 2012 R2 Standard / x64 | [ OK ] | OK | WARNINGS | OK | |||||||
| veracruz1 | OS X 10.11.6 El Capitan / x86_64 | OK | OK | WARNINGS | OK |
| Package: interactiveDisplay |
| Version: 1.16.0 |
| Command: rm -rf interactiveDisplay.buildbin-libdir && mkdir interactiveDisplay.buildbin-libdir && C:\cygwin\bin\curl.exe -O https://malbec1.bioconductor.org/BBS/3.6/bioc/src/contrib/interactiveDisplay_1.16.0.tar.gz && C:\Users\biocbuild\bbs-3.6-bioc\R\bin\R.exe CMD INSTALL --build --library=interactiveDisplay.buildbin-libdir --merge-multiarch interactiveDisplay_1.16.0.tar.gz && C:\Users\biocbuild\bbs-3.6-bioc\R\bin\R.exe CMD INSTALL interactiveDisplay_1.16.0.zip && rm interactiveDisplay_1.16.0.tar.gz interactiveDisplay_1.16.0.zip |
| StartedAt: 2018-04-11 18:35:50 -0400 (Wed, 11 Apr 2018) |
| EndedAt: 2018-04-11 18:37:15 -0400 (Wed, 11 Apr 2018) |
| EllapsedTime: 85.4 seconds |
| RetCode: 0 |
| Status: OK |
##############################################################################
##############################################################################
###
### Running command:
###
### rm -rf interactiveDisplay.buildbin-libdir && mkdir interactiveDisplay.buildbin-libdir && C:\cygwin\bin\curl.exe -O https://malbec1.bioconductor.org/BBS/3.6/bioc/src/contrib/interactiveDisplay_1.16.0.tar.gz && C:\Users\biocbuild\bbs-3.6-bioc\R\bin\R.exe CMD INSTALL --build --library=interactiveDisplay.buildbin-libdir --merge-multiarch interactiveDisplay_1.16.0.tar.gz && C:\Users\biocbuild\bbs-3.6-bioc\R\bin\R.exe CMD INSTALL interactiveDisplay_1.16.0.zip && rm interactiveDisplay_1.16.0.tar.gz interactiveDisplay_1.16.0.zip
###
##############################################################################
##############################################################################
% Total % Received % Xferd Average Speed Time Time Time Current
Dload Upload Total Spent Left Speed
0 0 0 0 0 0 0 0 --:--:-- --:--:-- --:--:-- 0
100 3189k 100 3189k 0 0 62.7M 0 --:--:-- --:--:-- --:--:-- 66.2M
install for i386
* installing *source* package 'interactiveDisplay' ...
** R
** data
** inst
** preparing package for lazy loading
Bioconductor version 3.6 (BiocInstaller 1.28.0), ?biocLite for help
in method for 'display' with signature 'object="GRanges"': no definition for class "GRanges"
in method for 'display' with signature 'object="GRangesList"': no definition for class "GRangesList"
in method for 'display' with signature 'object="RangedSummarizedExperiment"': no definition for class "RangedSummarizedExperiment"
in method for 'display' with signature 'object="MRexperiment"': no definition for class "MRexperiment"
** help
*** installing help indices
converting help for package 'interactiveDisplay'
finding HTML links ... done
altgr html
bicgo html
expr html
gridsvgjs html
gridtweak html
interactiveDisplay-methods html
mmgr html
mmgrl html
se html
simplenet html
** building package indices
** installing vignettes
** testing if installed package can be loaded
In R CMD INSTALL
install for x64
* installing *source* package 'interactiveDisplay' ...
** testing if installed package can be loaded
* MD5 sums
packaged installation of 'interactiveDisplay' as interactiveDisplay_1.16.0.zip
* DONE (interactiveDisplay)
In R CMD INSTALL
In R CMD INSTALL
* installing to library 'C:/Users/biocbuild/bbs-3.6-bioc/R/library'
package 'interactiveDisplay' successfully unpacked and MD5 sums checked
In R CMD INSTALL