| Back to Multiple platform build/check report for BioC 3.6 |
|
This page was generated on 2018-04-12 13:17:51 -0400 (Thu, 12 Apr 2018).
| Package 681/1472 | Hostname | OS / Arch | INSTALL | BUILD | CHECK | BUILD BIN | ||||||
| idiogram 1.54.0 Karl J. Dykema
| malbec1 | Linux (Ubuntu 16.04.1 LTS) / x86_64 | OK | OK | OK | |||||||
| tokay1 | Windows Server 2012 R2 Standard / x64 | [ OK ] | OK | OK | OK | |||||||
| veracruz1 | OS X 10.11.6 El Capitan / x86_64 | OK | OK | OK | OK |
| Package: idiogram |
| Version: 1.54.0 |
| Command: rm -rf idiogram.buildbin-libdir && mkdir idiogram.buildbin-libdir && C:\cygwin\bin\curl.exe -O https://malbec1.bioconductor.org/BBS/3.6/bioc/src/contrib/idiogram_1.54.0.tar.gz && C:\Users\biocbuild\bbs-3.6-bioc\R\bin\R.exe CMD INSTALL --build --library=idiogram.buildbin-libdir --merge-multiarch idiogram_1.54.0.tar.gz && C:\Users\biocbuild\bbs-3.6-bioc\R\bin\R.exe CMD INSTALL idiogram_1.54.0.zip && rm idiogram_1.54.0.tar.gz idiogram_1.54.0.zip |
| StartedAt: 2018-04-11 18:31:23 -0400 (Wed, 11 Apr 2018) |
| EndedAt: 2018-04-11 18:32:10 -0400 (Wed, 11 Apr 2018) |
| EllapsedTime: 46.7 seconds |
| RetCode: 0 |
| Status: OK |
##############################################################################
##############################################################################
###
### Running command:
###
### rm -rf idiogram.buildbin-libdir && mkdir idiogram.buildbin-libdir && C:\cygwin\bin\curl.exe -O https://malbec1.bioconductor.org/BBS/3.6/bioc/src/contrib/idiogram_1.54.0.tar.gz && C:\Users\biocbuild\bbs-3.6-bioc\R\bin\R.exe CMD INSTALL --build --library=idiogram.buildbin-libdir --merge-multiarch idiogram_1.54.0.tar.gz && C:\Users\biocbuild\bbs-3.6-bioc\R\bin\R.exe CMD INSTALL idiogram_1.54.0.zip && rm idiogram_1.54.0.tar.gz idiogram_1.54.0.zip
###
##############################################################################
##############################################################################
% Total % Received % Xferd Average Speed Time Time Time Current
Dload Upload Total Spent Left Speed
0 0 0 0 0 0 0 0 --:--:-- --:--:-- --:--:-- 0
100 1671k 100 1671k 0 0 43.3M 0 --:--:-- --:--:-- --:--:-- 48.0M
install for i386
* installing *source* package 'idiogram' ...
** R
** data
*** moving datasets to lazyload DB
** preparing package for lazy loading
** help
*** installing help indices
converting help for package 'idiogram'
finding HTML links ... done
Hs.cytoband html
buildChromLocation.2 html
cytoband html
idiograb html
idiogram html
idiogramExample html
** building package indices
** installing vignettes
** testing if installed package can be loaded
In R CMD INSTALL
install for x64
* installing *source* package 'idiogram' ...
** testing if installed package can be loaded
* MD5 sums
packaged installation of 'idiogram' as idiogram_1.54.0.zip
* DONE (idiogram)
In R CMD INSTALL
In R CMD INSTALL
* installing to library 'C:/Users/biocbuild/bbs-3.6-bioc/R/library'
package 'idiogram' successfully unpacked and MD5 sums checked
In R CMD INSTALL