| Back to Multiple platform build/check report for BioC 3.6 |
|
This page was generated on 2018-04-12 13:21:56 -0400 (Thu, 12 Apr 2018).
| Package 709/1472 | Hostname | OS / Arch | INSTALL | BUILD | CHECK | BUILD BIN | ||||||
| iPAC 1.22.0 Gregory Ryslik
| malbec1 | Linux (Ubuntu 16.04.1 LTS) / x86_64 | OK | OK | OK | |||||||
| tokay1 | Windows Server 2012 R2 Standard / x64 | [ OK ] | OK | OK | OK | |||||||
| veracruz1 | OS X 10.11.6 El Capitan / x86_64 | OK | OK | OK | OK |
| Package: iPAC |
| Version: 1.22.0 |
| Command: rm -rf iPAC.buildbin-libdir && mkdir iPAC.buildbin-libdir && C:\cygwin\bin\curl.exe -O https://malbec1.bioconductor.org/BBS/3.6/bioc/src/contrib/iPAC_1.22.0.tar.gz && C:\Users\biocbuild\bbs-3.6-bioc\R\bin\R.exe CMD INSTALL --build --library=iPAC.buildbin-libdir --merge-multiarch iPAC_1.22.0.tar.gz && C:\Users\biocbuild\bbs-3.6-bioc\R\bin\R.exe CMD INSTALL iPAC_1.22.0.zip && rm iPAC_1.22.0.tar.gz iPAC_1.22.0.zip |
| StartedAt: 2018-04-11 18:34:07 -0400 (Wed, 11 Apr 2018) |
| EndedAt: 2018-04-11 18:34:46 -0400 (Wed, 11 Apr 2018) |
| EllapsedTime: 39.0 seconds |
| RetCode: 0 |
| Status: OK |
##############################################################################
##############################################################################
###
### Running command:
###
### rm -rf iPAC.buildbin-libdir && mkdir iPAC.buildbin-libdir && C:\cygwin\bin\curl.exe -O https://malbec1.bioconductor.org/BBS/3.6/bioc/src/contrib/iPAC_1.22.0.tar.gz && C:\Users\biocbuild\bbs-3.6-bioc\R\bin\R.exe CMD INSTALL --build --library=iPAC.buildbin-libdir --merge-multiarch iPAC_1.22.0.tar.gz && C:\Users\biocbuild\bbs-3.6-bioc\R\bin\R.exe CMD INSTALL iPAC_1.22.0.zip && rm iPAC_1.22.0.tar.gz iPAC_1.22.0.zip
###
##############################################################################
##############################################################################
% Total % Received % Xferd Average Speed Time Time Time Current
Dload Upload Total Spent Left Speed
0 0 0 0 0 0 0 0 --:--:-- --:--:-- --:--:-- 0
9 163k 9 16384 0 0 51917 0 0:00:03 --:--:-- 0:00:03 52345
100 163k 100 163k 0 0 516k 0 --:--:-- --:--:-- --:--:-- 520k
install for i386
* installing *source* package 'iPAC' ...
** R
** data
** inst
** preparing package for lazy loading
** help
*** installing help indices
converting help for package 'iPAC'
finding HTML links ... done
ClusterFind html
KRAS.Mutations html
PIK3CA.Mutations html
Plot.Protein.Linear html
get.AASeq html
get.AlignedPositions html
get.Positions html
get.Remapped.Order html
get.SingleLetterCode html
iPAC-package html
nmc html
** building package indices
** installing vignettes
** testing if installed package can be loaded
In R CMD INSTALL
install for x64
* installing *source* package 'iPAC' ...
** testing if installed package can be loaded
* MD5 sums
packaged installation of 'iPAC' as iPAC_1.22.0.zip
* DONE (iPAC)
In R CMD INSTALL
In R CMD INSTALL
* installing to library 'C:/Users/biocbuild/bbs-3.6-bioc/R/library'
package 'iPAC' successfully unpacked and MD5 sums checked
In R CMD INSTALL