| Back to Multiple platform build/check report for BioC 3.6 |
|
This page was generated on 2018-04-12 13:07:15 -0400 (Thu, 12 Apr 2018).
| Package 659/1472 | Hostname | OS / Arch | INSTALL | BUILD | CHECK | BUILD BIN | ||||||
| hopach 2.38.0 Katherine S. Pollard
| malbec1 | Linux (Ubuntu 16.04.1 LTS) / x86_64 | OK | OK | [ OK ] | |||||||
| tokay1 | Windows Server 2012 R2 Standard / x64 | OK | OK | OK | OK | |||||||
| veracruz1 | OS X 10.11.6 El Capitan / x86_64 | OK | OK | OK | OK |
| Package: hopach |
| Version: 2.38.0 |
| Command: /home/biocbuild/bbs-3.6-bioc/R/bin/R CMD check --no-vignettes --timings hopach_2.38.0.tar.gz |
| StartedAt: 2018-04-12 00:17:05 -0400 (Thu, 12 Apr 2018) |
| EndedAt: 2018-04-12 00:18:11 -0400 (Thu, 12 Apr 2018) |
| EllapsedTime: 65.4 seconds |
| RetCode: 0 |
| Status: OK |
| CheckDir: hopach.Rcheck |
| Warnings: 0 |
##############################################################################
##############################################################################
###
### Running command:
###
### /home/biocbuild/bbs-3.6-bioc/R/bin/R CMD check --no-vignettes --timings hopach_2.38.0.tar.gz
###
##############################################################################
##############################################################################
* using log directory ‘/home/biocbuild/bbs-3.6-bioc/meat/hopach.Rcheck’
* using R version 3.4.4 (2018-03-15)
* using platform: x86_64-pc-linux-gnu (64-bit)
* using session charset: UTF-8
* using option ‘--no-vignettes’
* checking for file ‘hopach/DESCRIPTION’ ... OK
* this is package ‘hopach’ version ‘2.38.0’
* checking package namespace information ... OK
* checking package dependencies ... OK
* checking if this is a source package ... OK
* checking if there is a namespace ... OK
* checking for hidden files and directories ... OK
* checking for portable file names ... OK
* checking for sufficient/correct file permissions ... OK
* checking whether package ‘hopach’ can be installed ... OK
* checking installed package size ... OK
* checking package directory ... OK
* checking ‘build’ directory ... OK
* checking DESCRIPTION meta-information ... OK
* checking top-level files ... OK
* checking for left-over files ... OK
* checking index information ... OK
* checking package subdirectories ... OK
* checking R files for non-ASCII characters ... OK
* checking R files for syntax errors ... OK
* checking whether the package can be loaded ... OK
* checking whether the package can be loaded with stated dependencies ... OK
* checking whether the package can be unloaded cleanly ... OK
* checking whether the namespace can be loaded with stated dependencies ... OK
* checking whether the namespace can be unloaded cleanly ... OK
* checking dependencies in R code ... OK
* checking S3 generic/method consistency ... OK
* checking replacement functions ... OK
* checking foreign function calls ... OK
* checking R code for possible problems ... OK
* checking Rd files ... OK
* checking Rd metadata ... OK
* checking Rd cross-references ... OK
* checking for missing documentation entries ... OK
* checking for code/documentation mismatches ... OK
* checking Rd \usage sections ... OK
* checking Rd contents ... OK
* checking for unstated dependencies in examples ... OK
* checking contents of ‘data’ directory ... OK
* checking data for non-ASCII characters ... OK
* checking data for ASCII and uncompressed saves ... OK
* checking line endings in C/C++/Fortran sources/headers ... OK
* checking compiled code ... OK
* checking installed files from ‘inst/doc’ ... OK
* checking files in ‘vignettes’ ... OK
* checking examples ... OK
Examples with CPU or elapsed time > 5s
user system elapsed
boot2fuzzy 7.560 0.004 7.573
bootplot 6.932 0.000 6.937
makeoutput 6.860 0.004 6.872
bootstrap 6.812 0.004 6.823
* checking for unstated dependencies in vignettes ... OK
* checking package vignettes in ‘inst/doc’ ... OK
* checking running R code from vignettes ... SKIPPED
* checking re-building of vignette outputs ... SKIPPED
* checking PDF version of manual ... OK
* DONE
Status: OK
hopach.Rcheck/00install.out
* installing *source* package ‘hopach’ ... ** libs gcc -I/home/biocbuild/bbs-3.6-bioc/R/include -DNDEBUG -I/usr/local/include -fpic -g -O2 -Wall -c Rdistances.c -o Rdistances.o gcc -I/home/biocbuild/bbs-3.6-bioc/R/include -DNDEBUG -I/usr/local/include -fpic -g -O2 -Wall -c hdist.c -o hdist.o g++ -shared -L/home/biocbuild/bbs-3.6-bioc/R/lib -L/usr/local/lib -o hopach.so Rdistances.o hdist.o -L/home/biocbuild/bbs-3.6-bioc/R/lib -lR installing to /home/biocbuild/bbs-3.6-bioc/meat/hopach.Rcheck/hopach/libs ** R ** data ** inst ** preparing package for lazy loading Creating a generic function from function ‘as.hdist’ in package ‘hopach’ ** help *** installing help indices ** building package indices ** installing vignettes ** testing if installed package can be loaded * DONE (hopach)
hopach.Rcheck/hopach-Ex.timings
| name | user | system | elapsed | |
| boot2fuzzy | 7.560 | 0.004 | 7.573 | |
| bootplot | 6.932 | 0.000 | 6.937 | |
| bootstrap | 6.812 | 0.004 | 6.823 | |
| correlationordering | 0.024 | 0.004 | 0.026 | |
| disscosangle | 0.000 | 0.000 | 0.002 | |
| distancematrix | 0.004 | 0.000 | 0.006 | |
| dplot | 0.092 | 0.000 | 0.092 | |
| hdist-class | 0.028 | 0.000 | 0.025 | |
| hopach | 0.348 | 0.000 | 0.348 | |
| hopach.internal | 0 | 0 | 0 | |
| hopach2tree | 0.216 | 0.000 | 0.216 | |
| labelstomss | 0.168 | 0.000 | 0.169 | |
| makeoutput | 6.860 | 0.004 | 6.872 | |
| prune | 1.300 | 0.004 | 1.307 | |