| Back to Multiple platform build/check report for BioC 3.6 |
|
This page was generated on 2018-04-12 13:40:35 -0400 (Thu, 12 Apr 2018).
| Package 630/1472 | Hostname | OS / Arch | INSTALL | BUILD | CHECK | BUILD BIN | ||||||
| gtrellis 1.11.1 Zuguang Gu
| malbec1 | Linux (Ubuntu 16.04.1 LTS) / x86_64 | OK | OK | OK | |||||||
| tokay1 | Windows Server 2012 R2 Standard / x64 | OK | OK | WARNINGS | OK | |||||||
| veracruz1 | OS X 10.11.6 El Capitan / x86_64 | OK | OK | [ OK ] | OK |
| Package: gtrellis |
| Version: 1.11.1 |
| Command: /Library/Frameworks/R.framework/Versions/Current/Resources/bin/R CMD check --no-vignettes --timings gtrellis_1.11.1.tar.gz |
| StartedAt: 2018-04-12 04:53:22 -0400 (Thu, 12 Apr 2018) |
| EndedAt: 2018-04-12 04:55:22 -0400 (Thu, 12 Apr 2018) |
| EllapsedTime: 120.1 seconds |
| RetCode: 0 |
| Status: OK |
| CheckDir: gtrellis.Rcheck |
| Warnings: 0 |
##############################################################################
##############################################################################
###
### Running command:
###
### /Library/Frameworks/R.framework/Versions/Current/Resources/bin/R CMD check --no-vignettes --timings gtrellis_1.11.1.tar.gz
###
##############################################################################
##############################################################################
* using log directory ‘/Users/biocbuild/bbs-3.6-bioc/meat/gtrellis.Rcheck’
* using R version 3.4.4 (2018-03-15)
* using platform: x86_64-apple-darwin15.6.0 (64-bit)
* using session charset: UTF-8
* using option ‘--no-vignettes’
* checking for file ‘gtrellis/DESCRIPTION’ ... OK
* checking extension type ... Package
* this is package ‘gtrellis’ version ‘1.11.1’
* checking package namespace information ... OK
* checking package dependencies ... OK
* checking if this is a source package ... OK
* checking if there is a namespace ... OK
* checking for hidden files and directories ... OK
* checking for portable file names ... OK
* checking for sufficient/correct file permissions ... OK
* checking whether package ‘gtrellis’ can be installed ... OK
* checking installed package size ... NOTE
installed size is 5.5Mb
sub-directories of 1Mb or more:
doc 4.5Mb
* checking package directory ... OK
* checking ‘build’ directory ... OK
* checking DESCRIPTION meta-information ... NOTE
License components which are templates and need '+ file LICENSE':
MIT
* checking top-level files ... OK
* checking for left-over files ... OK
* checking index information ... OK
* checking package subdirectories ... OK
* checking R files for non-ASCII characters ... OK
* checking R files for syntax errors ... OK
* checking whether the package can be loaded ... OK
* checking whether the package can be loaded with stated dependencies ... OK
* checking whether the package can be unloaded cleanly ... OK
* checking whether the namespace can be loaded with stated dependencies ... OK
* checking whether the namespace can be unloaded cleanly ... OK
* checking dependencies in R code ... OK
* checking S3 generic/method consistency ... OK
* checking replacement functions ... OK
* checking foreign function calls ... OK
* checking R code for possible problems ... OK
* checking Rd files ... OK
* checking Rd metadata ... OK
* checking Rd cross-references ... OK
* checking for missing documentation entries ... OK
* checking for code/documentation mismatches ... OK
* checking Rd \usage sections ... OK
* checking Rd contents ... OK
* checking for unstated dependencies in examples ... OK
* checking installed files from ‘inst/doc’ ... OK
* checking files in ‘vignettes’ ... OK
* checking examples ... OK
* checking for unstated dependencies in ‘tests’ ... OK
* checking tests ...
Running ‘test-all.R’
OK
* checking for unstated dependencies in vignettes ... OK
* checking package vignettes in ‘inst/doc’ ... OK
* checking running R code from vignettes ... SKIPPED
* checking re-building of vignette outputs ... SKIPPED
* checking PDF version of manual ... OK
* DONE
Status: 2 NOTEs
See
‘/Users/biocbuild/bbs-3.6-bioc/meat/gtrellis.Rcheck/00check.log’
for details.
gtrellis.Rcheck/00install.out
* installing *source* package ‘gtrellis’ ... ** R ** inst ** preparing package for lazy loading ** help *** installing help indices ** building package indices ** installing vignettes ** testing if installed package can be loaded * DONE (gtrellis)
gtrellis.Rcheck/tests/test-all.Rout
R version 3.4.4 (2018-03-15) -- "Someone to Lean On"
Copyright (C) 2018 The R Foundation for Statistical Computing
Platform: x86_64-apple-darwin15.6.0 (64-bit)
R is free software and comes with ABSOLUTELY NO WARRANTY.
You are welcome to redistribute it under certain conditions.
Type 'license()' or 'licence()' for distribution details.
R is a collaborative project with many contributors.
Type 'contributors()' for more information and
'citation()' on how to cite R or R packages in publications.
Type 'demo()' for some demos, 'help()' for on-line help, or
'help.start()' for an HTML browser interface to help.
Type 'q()' to quit R.
> library(testthat)
> suppressWarnings(suppressPackageStartupMessages(library(gtrellis)))
>
> test_check("gtrellis")
══ testthat results ═══════════════════════════════════════════════════════════
OK: 5 SKIPPED: 0 FAILED: 0
>
> proc.time()
user system elapsed
6.344 0.170 6.645
gtrellis.Rcheck/gtrellis-Ex.timings
| name | user | system | elapsed | |
| add_heatmap_track | 4.497 | 0.048 | 4.645 | |
| add_ideogram_track | 3.277 | 0.014 | 3.359 | |
| add_lines_track | 2.838 | 0.009 | 2.915 | |
| add_points_track | 1.879 | 0.028 | 1.946 | |
| add_rect_track | 1.660 | 0.009 | 1.705 | |
| add_segments_track | 1.490 | 0.005 | 1.531 | |
| add_track | 2.441 | 0.018 | 2.507 | |
| current_track | 0.000 | 0.001 | 0.001 | |
| get_cell_meta_data | 2.820 | 0.017 | 2.897 | |
| gtrellis_layout | 3.839 | 0.012 | 3.949 | |
| gtrellis_show_index | 1.427 | 0.005 | 1.470 | |