| Back to Multiple platform build/check report for BioC 3.6 |
|
This page was generated on 2018-04-12 13:17:11 -0400 (Thu, 12 Apr 2018).
| Package 612/1472 | Hostname | OS / Arch | INSTALL | BUILD | CHECK | BUILD BIN | ||||||
| graph 1.56.0 Bioconductor Package Maintainer
| malbec1 | Linux (Ubuntu 16.04.1 LTS) / x86_64 | OK | OK | OK | |||||||
| tokay1 | Windows Server 2012 R2 Standard / x64 | OK | OK | [ OK ] | OK | |||||||
| veracruz1 | OS X 10.11.6 El Capitan / x86_64 | OK | OK | OK | OK |
| Package: graph |
| Version: 1.56.0 |
| Command: rm -rf graph.buildbin-libdir graph.Rcheck && mkdir graph.buildbin-libdir graph.Rcheck && C:\Users\biocbuild\bbs-3.6-bioc\R\bin\R.exe CMD INSTALL --build --merge-multiarch --library=graph.buildbin-libdir graph_1.56.0.tar.gz >graph.Rcheck\00install.out 2>&1 && cp graph.Rcheck\00install.out graph-install.out && C:\Users\biocbuild\bbs-3.6-bioc\R\bin\R.exe CMD check --library=graph.buildbin-libdir --install="check:graph-install.out" --force-multiarch --no-vignettes --timings graph_1.56.0.tar.gz |
| StartedAt: 2018-04-12 00:31:46 -0400 (Thu, 12 Apr 2018) |
| EndedAt: 2018-04-12 00:33:49 -0400 (Thu, 12 Apr 2018) |
| EllapsedTime: 122.8 seconds |
| RetCode: 0 |
| Status: OK |
| CheckDir: graph.Rcheck |
| Warnings: 0 |
##############################################################################
##############################################################################
###
### Running command:
###
### rm -rf graph.buildbin-libdir graph.Rcheck && mkdir graph.buildbin-libdir graph.Rcheck && C:\Users\biocbuild\bbs-3.6-bioc\R\bin\R.exe CMD INSTALL --build --merge-multiarch --library=graph.buildbin-libdir graph_1.56.0.tar.gz >graph.Rcheck\00install.out 2>&1 && cp graph.Rcheck\00install.out graph-install.out && C:\Users\biocbuild\bbs-3.6-bioc\R\bin\R.exe CMD check --library=graph.buildbin-libdir --install="check:graph-install.out" --force-multiarch --no-vignettes --timings graph_1.56.0.tar.gz
###
##############################################################################
##############################################################################
* using log directory 'C:/Users/biocbuild/bbs-3.6-bioc/meat/graph.Rcheck'
* using R version 3.4.4 (2018-03-15)
* using platform: x86_64-w64-mingw32 (64-bit)
* using session charset: ISO8859-1
* using option '--no-vignettes'
* checking for file 'graph/DESCRIPTION' ... OK
* this is package 'graph' version '1.56.0'
* checking package namespace information ... OK
* checking package dependencies ... OK
* checking if this is a source package ... OK
* checking if there is a namespace ... OK
* checking for hidden files and directories ... OK
* checking for portable file names ... OK
* checking whether package 'graph' can be installed ... OK
* checking installed package size ... OK
* checking package directory ... OK
* checking 'build' directory ... OK
* checking DESCRIPTION meta-information ... OK
* checking top-level files ... OK
* checking for left-over files ... OK
* checking index information ... OK
* checking package subdirectories ... OK
* checking R files for non-ASCII characters ... OK
* checking R files for syntax errors ... OK
* loading checks for arch 'i386'
** checking whether the package can be loaded ... OK
** checking whether the package can be loaded with stated dependencies ... OK
** checking whether the package can be unloaded cleanly ... OK
** checking whether the namespace can be loaded with stated dependencies ... OK
** checking whether the namespace can be unloaded cleanly ... OK
* loading checks for arch 'x64'
** checking whether the package can be loaded ... OK
** checking whether the package can be loaded with stated dependencies ... OK
** checking whether the package can be unloaded cleanly ... OK
** checking whether the namespace can be loaded with stated dependencies ... OK
** checking whether the namespace can be unloaded cleanly ... OK
* checking dependencies in R code ... NOTE
'library' or 'require' call to 'package' in package code.
Please use :: or requireNamespace() instead.
See section 'Suggested packages' in the 'Writing R Extensions' manual.
Unexported object imported by a ':::' call: 'BiocGenerics:::testPackage'
See the note in ?`:::` about the use of this operator.
* checking S3 generic/method consistency ... OK
* checking replacement functions ... OK
* checking foreign function calls ... OK
* checking R code for possible problems ... NOTE
.mg_validate_node_names: no visible global function definition for
'head'
MultiDiGraph: no visible global function definition for 'head'
plot,graph-ANY: no visible global function definition for 'getMethod'
show,MultiGraph: no visible global function definition for 'head'
Undefined global functions or variables:
getMethod head
Consider adding
importFrom("methods", "getMethod")
importFrom("utils", "head")
to your NAMESPACE file (and ensure that your DESCRIPTION Imports field
contains 'methods').
* checking Rd files ... OK
* checking Rd metadata ... OK
* checking Rd cross-references ... OK
* checking for missing documentation entries ... OK
* checking for code/documentation mismatches ... OK
* checking Rd \usage sections ... OK
* checking Rd contents ... OK
* checking for unstated dependencies in examples ... OK
* checking contents of 'data' directory ... OK
* checking data for non-ASCII characters ... OK
* checking data for ASCII and uncompressed saves ... OK
* checking line endings in C/C++/Fortran sources/headers ... OK
* checking line endings in Makefiles ... OK
* checking compilation flags in Makevars ... OK
* checking for GNU extensions in Makefiles ... OK
* checking for portable use of $(BLAS_LIBS) and $(LAPACK_LIBS) ... OK
* checking compiled code ... NOTE
Note: information on .o files for i386 is not available
Note: information on .o files for x64 is not available
File 'C:/Users/biocbuild/bbs-3.6-bioc/meat/graph.buildbin-libdir/graph/libs/i386/BioC_graph.dll':
Found 'abort', possibly from 'abort' (C), 'runtime' (Fortran)
Compiled code should not call entry points which might terminate R nor
write to stdout/stderr instead of to the console, nor use Fortran I/O
nor system RNGs. The detected symbols are linked into the code but
might come from libraries and not actually be called.
See 'Writing portable packages' in the 'Writing R Extensions' manual.
* checking installed files from 'inst/doc' ... OK
* checking files in 'vignettes' ... OK
* checking examples ...
** running examples for arch 'i386' ... OK
** running examples for arch 'x64' ... OK
* checking for unstated dependencies in 'tests' ... OK
* checking tests ...
** running tests for arch 'i386' ...
Running 'graph_unit_tests.R'
OK
** running tests for arch 'x64' ...
Running 'graph_unit_tests.R'
OK
* checking for unstated dependencies in vignettes ... OK
* checking package vignettes in 'inst/doc' ... OK
* checking running R code from vignettes ... SKIPPED
* checking re-building of vignette outputs ... SKIPPED
* checking PDF version of manual ... OK
* DONE
Status: 3 NOTEs
See
'C:/Users/biocbuild/bbs-3.6-bioc/meat/graph.Rcheck/00check.log'
for details.
graph.Rcheck/00install.out
install for i386
* installing *source* package 'graph' ...
** libs
C:/Rtools/mingw_32/bin/gcc -I"C:/Users/BIOCBU˜1/BBS-3˜1.6-B/R/include" -DNDEBUG -I"C:/local323/include" -O3 -Wall -std=gnu99 -mtune=generic -c graph.c -o graph.o
C:/Rtools/mingw_32/bin/g++ -shared -s -static-libgcc -o graph.dll tmp.def graph.o -LC:/local323/lib/i386 -LC:/local323/lib -LC:/Users/BIOCBU˜1/BBS-3˜1.6-B/R/bin/i386 -lR
mv graph.dll BioC_graph.dll
installing to C:/Users/biocbuild/bbs-3.6-bioc/meat/graph.buildbin-libdir/graph/libs/i386
** R
** data
** inst
** preparing package for lazy loading
** help
*** installing help indices
converting help for package 'graph'
finding HTML links ... done
DFS html
IMCA html
MAPKsig html
MultiGraph-class html
acc-methods html
addEdge html
addNode html
adj-methods html
adjacencyMatrix html
apoptosisGraph html
attrData-class html
attrDataItem-methods html
attrDefaults-methods html
aveNumEdges html
biocRepos html
boundary html
calcProb html
calcSumProb html
clearNode html
clusterGraph-class html
clusteringCoefficient-methods html
combineNodes html
defunct html
distGraph-class html
duplicatedEdges html
edgeData-methods html
edgeDataDefaults-methods html
edgeMatrix html
edgeSets html
edgeWeights html
fromGXL-methods html
graph-class html
graph2SparseM html
graphAM-class html
graphBAM-class html
graphExamples html
graphNEL-class html
inEdges html
internal html
isAdjacent-methods html
isDirected-methods html
leaves html
listEdges html
matrix2Graph html
mostEdges html
multigraph html
nodeData-methods html
nodeDataDefaults-methods html
numNoEdges html
pancrCaIni html
randomEGraph html
randomGraph html
randomNodeGraph html
removeEdge html
removeNode html
renderInfo-class html
reverseEdgeDirections html
settings html
simpleEdge-class html
standardLabeling html
subGraph html
toDotR-methods html
toDotWithRI html
ugraph html
validGraph html
write.tlp html
** building package indices
** installing vignettes
** testing if installed package can be loaded
In R CMD INSTALL
install for x64
* installing *source* package 'graph' ...
** libs
C:/Rtools/mingw_64/bin/gcc -I"C:/Users/BIOCBU˜1/BBS-3˜1.6-B/R/include" -DNDEBUG -I"C:/local323/include" -O2 -Wall -std=gnu99 -mtune=generic -c graph.c -o graph.o
C:/Rtools/mingw_64/bin/g++ -shared -s -static-libgcc -o graph.dll tmp.def graph.o -LC:/local323/lib/x64 -LC:/local323/lib -LC:/Users/BIOCBU˜1/BBS-3˜1.6-B/R/bin/x64 -lR
mv graph.dll BioC_graph.dll
installing to C:/Users/biocbuild/bbs-3.6-bioc/meat/graph.buildbin-libdir/graph/libs/x64
** testing if installed package can be loaded
* MD5 sums
packaged installation of 'graph' as graph_1.56.0.zip
* DONE (graph)
In R CMD INSTALL
In R CMD INSTALL
|
graph.Rcheck/tests_i386/graph_unit_tests.Rout
R version 3.4.4 (2018-03-15) -- "Someone to Lean On"
Copyright (C) 2018 The R Foundation for Statistical Computing
Platform: i386-w64-mingw32/i386 (32-bit)
R is free software and comes with ABSOLUTELY NO WARRANTY.
You are welcome to redistribute it under certain conditions.
Type 'license()' or 'licence()' for distribution details.
R is a collaborative project with many contributors.
Type 'contributors()' for more information and
'citation()' on how to cite R or R packages in publications.
Type 'demo()' for some demos, 'help()' for on-line help, or
'help.start()' for an HTML browser interface to help.
Type 'q()' to quit R.
> BiocGenerics:::testPackage("graph", pattern="_test.R")
Attaching package: 'BiocGenerics'
The following objects are masked from 'package:parallel':
clusterApply, clusterApplyLB, clusterCall, clusterEvalQ,
clusterExport, clusterMap, parApply, parCapply, parLapply,
parLapplyLB, parRapply, parSapply, parSapplyLB
The following objects are masked from 'package:stats':
IQR, mad, sd, var, xtabs
The following objects are masked from 'package:base':
Filter, Find, Map, Position, Reduce, anyDuplicated, append,
as.data.frame, cbind, colMeans, colSums, colnames, do.call,
duplicated, eval, evalq, get, grep, grepl, intersect, is.unsorted,
lapply, lengths, mapply, match, mget, order, paste, pmax, pmax.int,
pmin, pmin.int, rank, rbind, rowMeans, rowSums, rownames, sapply,
setdiff, sort, table, tapply, union, unique, unsplit, which,
which.max, which.min
RUNIT TEST PROTOCOL -- Thu Apr 12 00:33:15 2018
***********************************************
Number of test functions: 206
Number of errors: 0
Number of failures: 0
1 Test Suite :
graph RUnit Tests - 206 test functions, 0 errors, 0 failures
Number of test functions: 206
Number of errors: 0
Number of failures: 0
Warning message:
In readLines(con) : seek on a gzfile connection returned an internal error
>
> proc.time()
user system elapsed
15.21 0.06 15.26
|
graph.Rcheck/tests_x64/graph_unit_tests.Rout
R version 3.4.4 (2018-03-15) -- "Someone to Lean On"
Copyright (C) 2018 The R Foundation for Statistical Computing
Platform: x86_64-w64-mingw32/x64 (64-bit)
R is free software and comes with ABSOLUTELY NO WARRANTY.
You are welcome to redistribute it under certain conditions.
Type 'license()' or 'licence()' for distribution details.
R is a collaborative project with many contributors.
Type 'contributors()' for more information and
'citation()' on how to cite R or R packages in publications.
Type 'demo()' for some demos, 'help()' for on-line help, or
'help.start()' for an HTML browser interface to help.
Type 'q()' to quit R.
> BiocGenerics:::testPackage("graph", pattern="_test.R")
Attaching package: 'BiocGenerics'
The following objects are masked from 'package:parallel':
clusterApply, clusterApplyLB, clusterCall, clusterEvalQ,
clusterExport, clusterMap, parApply, parCapply, parLapply,
parLapplyLB, parRapply, parSapply, parSapplyLB
The following objects are masked from 'package:stats':
IQR, mad, sd, var, xtabs
The following objects are masked from 'package:base':
Filter, Find, Map, Position, Reduce, anyDuplicated, append,
as.data.frame, cbind, colMeans, colSums, colnames, do.call,
duplicated, eval, evalq, get, grep, grepl, intersect, is.unsorted,
lapply, lengths, mapply, match, mget, order, paste, pmax, pmax.int,
pmin, pmin.int, rank, rbind, rowMeans, rowSums, rownames, sapply,
setdiff, sort, table, tapply, union, unique, unsplit, which,
which.max, which.min
RUNIT TEST PROTOCOL -- Thu Apr 12 00:33:42 2018
***********************************************
Number of test functions: 206
Number of errors: 0
Number of failures: 0
1 Test Suite :
graph RUnit Tests - 206 test functions, 0 errors, 0 failures
Number of test functions: 206
Number of errors: 0
Number of failures: 0
Warning message:
In readLines(con) : seek on a gzfile connection returned an internal error
>
> proc.time()
user system elapsed
26.79 0.09 26.87
|
|
graph.Rcheck/examples_i386/graph-Ex.timings
|
graph.Rcheck/examples_x64/graph-Ex.timings
|