| Back to Multiple platform build/check report for BioC 3.6 |
|
This page was generated on 2018-04-12 13:17:36 -0400 (Thu, 12 Apr 2018).
| Package 592/1472 | Hostname | OS / Arch | INSTALL | BUILD | CHECK | BUILD BIN | ||||||
| globaltest 5.32.0 Jelle Goeman
| malbec1 | Linux (Ubuntu 16.04.1 LTS) / x86_64 | OK | OK | OK | |||||||
| tokay1 | Windows Server 2012 R2 Standard / x64 | [ OK ] | OK | OK | OK | |||||||
| veracruz1 | OS X 10.11.6 El Capitan / x86_64 | OK | OK | OK | OK |
| Package: globaltest |
| Version: 5.32.0 |
| Command: rm -rf globaltest.buildbin-libdir && mkdir globaltest.buildbin-libdir && C:\cygwin\bin\curl.exe -O https://malbec1.bioconductor.org/BBS/3.6/bioc/src/contrib/globaltest_5.32.0.tar.gz && C:\Users\biocbuild\bbs-3.6-bioc\R\bin\R.exe CMD INSTALL --build --library=globaltest.buildbin-libdir --merge-multiarch globaltest_5.32.0.tar.gz && C:\Users\biocbuild\bbs-3.6-bioc\R\bin\R.exe CMD INSTALL globaltest_5.32.0.zip && rm globaltest_5.32.0.tar.gz globaltest_5.32.0.zip |
| StartedAt: 2018-04-11 18:29:14 -0400 (Wed, 11 Apr 2018) |
| EndedAt: 2018-04-11 18:30:15 -0400 (Wed, 11 Apr 2018) |
| EllapsedTime: 61.4 seconds |
| RetCode: 0 |
| Status: OK |
##############################################################################
##############################################################################
###
### Running command:
###
### rm -rf globaltest.buildbin-libdir && mkdir globaltest.buildbin-libdir && C:\cygwin\bin\curl.exe -O https://malbec1.bioconductor.org/BBS/3.6/bioc/src/contrib/globaltest_5.32.0.tar.gz && C:\Users\biocbuild\bbs-3.6-bioc\R\bin\R.exe CMD INSTALL --build --library=globaltest.buildbin-libdir --merge-multiarch globaltest_5.32.0.tar.gz && C:\Users\biocbuild\bbs-3.6-bioc\R\bin\R.exe CMD INSTALL globaltest_5.32.0.zip && rm globaltest_5.32.0.tar.gz globaltest_5.32.0.zip
###
##############################################################################
##############################################################################
% Total % Received % Xferd Average Speed Time Time Time Current
Dload Upload Total Spent Left Speed
0 0 0 0 0 0 0 0 --:--:-- --:--:-- --:--:-- 0
100 96809 100 96809 0 0 4019k 0 --:--:-- --:--:-- --:--:-- 4727k
install for i386
* installing *source* package 'globaltest' ...
** R
** inst
** preparing package for lazy loading
** help
*** installing help indices
converting help for package 'globaltest'
finding HTML links ... done
comparative html
diagnostics html
genesettesting html
goodnessoffit html
gt html
gt.object-class html
gtoptions html
mlogit html
multtest html
** building package indices
** installing vignettes
** testing if installed package can be loaded
In R CMD INSTALL
install for x64
* installing *source* package 'globaltest' ...
** testing if installed package can be loaded
* MD5 sums
packaged installation of 'globaltest' as globaltest_5.32.0.zip
* DONE (globaltest)
In R CMD INSTALL
In R CMD INSTALL
* installing to library 'C:/Users/biocbuild/bbs-3.6-bioc/R/library'
package 'globaltest' successfully unpacked and MD5 sums checked
In R CMD INSTALL