| Back to Multiple platform build/check report for BioC 3.6 |
|
This page was generated on 2018-04-12 13:36:01 -0400 (Thu, 12 Apr 2018).
| Package 521/1472 | Hostname | OS / Arch | INSTALL | BUILD | CHECK | BUILD BIN | ||||||
| gCMAP 1.22.1 Thomas Sandmann
| malbec1 | Linux (Ubuntu 16.04.1 LTS) / x86_64 | OK | OK | OK | |||||||
| tokay1 | Windows Server 2012 R2 Standard / x64 | ...NOT SUPPORTED...NOT SUPPORTED...NOT SUPPORTED... | ||||||||||
| veracruz1 | OS X 10.11.6 El Capitan / x86_64 | OK | OK | [ OK ] | OK | |||||||
| Package: gCMAP |
| Version: 1.22.1 |
| Command: /Library/Frameworks/R.framework/Versions/Current/Resources/bin/R CMD check --no-vignettes --timings gCMAP_1.22.1.tar.gz |
| StartedAt: 2018-04-12 04:01:48 -0400 (Thu, 12 Apr 2018) |
| EndedAt: 2018-04-12 04:05:40 -0400 (Thu, 12 Apr 2018) |
| EllapsedTime: 231.6 seconds |
| RetCode: 0 |
| Status: OK |
| CheckDir: gCMAP.Rcheck |
| Warnings: 0 |
##############################################################################
##############################################################################
###
### Running command:
###
### /Library/Frameworks/R.framework/Versions/Current/Resources/bin/R CMD check --no-vignettes --timings gCMAP_1.22.1.tar.gz
###
##############################################################################
##############################################################################
* using log directory ‘/Users/biocbuild/bbs-3.6-bioc/meat/gCMAP.Rcheck’
* using R version 3.4.4 (2018-03-15)
* using platform: x86_64-apple-darwin15.6.0 (64-bit)
* using session charset: UTF-8
* using option ‘--no-vignettes’
* checking for file ‘gCMAP/DESCRIPTION’ ... OK
* checking extension type ... Package
* this is package ‘gCMAP’ version ‘1.22.1’
* checking package namespace information ... OK
* checking package dependencies ... OK
* checking if this is a source package ... OK
* checking if there is a namespace ... OK
* checking for hidden files and directories ... NOTE
Found the following hidden files and directories:
.BBSoptions
These were most likely included in error. See section ‘Package
structure’ in the ‘Writing R Extensions’ manual.
* checking for portable file names ... OK
* checking for sufficient/correct file permissions ... OK
* checking whether package ‘gCMAP’ can be installed ... OK
* checking installed package size ... OK
* checking package directory ... OK
* checking ‘build’ directory ... OK
* checking DESCRIPTION meta-information ... OK
* checking top-level files ... OK
* checking for left-over files ... OK
* checking index information ... OK
* checking package subdirectories ... OK
* checking R files for non-ASCII characters ... OK
* checking R files for syntax errors ... OK
* checking whether the package can be loaded ... OK
* checking whether the package can be loaded with stated dependencies ... OK
* checking whether the package can be unloaded cleanly ... OK
* checking whether the namespace can be loaded with stated dependencies ... OK
* checking whether the namespace can be unloaded cleanly ... OK
* checking dependencies in R code ... NOTE
Namespace in Imports field not imported from: ‘bigmemory’
All declared Imports should be used.
* checking S3 generic/method consistency ... OK
* checking replacement functions ... OK
* checking foreign function calls ... OK
* checking R code for possible problems ... OK
* checking Rd files ... OK
* checking Rd metadata ... OK
* checking Rd cross-references ... OK
* checking for missing documentation entries ... OK
* checking for code/documentation mismatches ... OK
* checking Rd \usage sections ... OK
* checking Rd contents ... OK
* checking for unstated dependencies in examples ... OK
* checking contents of ‘data’ directory ... OK
* checking data for non-ASCII characters ... OK
* checking data for ASCII and uncompressed saves ... OK
* checking sizes of PDF files under ‘inst/doc’ ... OK
* checking installed files from ‘inst/doc’ ... OK
* checking files in ‘vignettes’ ... OK
* checking examples ... OK
Examples with CPU or elapsed time > 5s
user system elapsed
mgsa_score-methods 20.139 0.435 6.671
romer_score-methods 6.233 0.413 7.229
connectivity_score-methods 3.155 2.056 1.659
* checking for unstated dependencies in ‘tests’ ... OK
* checking tests ...
Running ‘runTests.R’
OK
* checking for unstated dependencies in vignettes ... OK
* checking package vignettes in ‘inst/doc’ ... OK
* checking running R code from vignettes ... SKIPPED
* checking re-building of vignette outputs ... SKIPPED
* checking PDF version of manual ... OK
* DONE
Status: 2 NOTEs
See
‘/Users/biocbuild/bbs-3.6-bioc/meat/gCMAP.Rcheck/00check.log’
for details.
gCMAP.Rcheck/00install.out
* installing *source* package ‘gCMAP’ ... ** R ** data ** inst ** byte-compile and prepare package for lazy loading ** help *** installing help indices ** building package indices ** installing vignettes ** testing if installed package can be loaded * DONE (gCMAP)
gCMAP.Rcheck/tests/runTests.Rout
R version 3.4.4 (2018-03-15) -- "Someone to Lean On"
Copyright (C) 2018 The R Foundation for Statistical Computing
Platform: x86_64-apple-darwin15.6.0 (64-bit)
R is free software and comes with ABSOLUTELY NO WARRANTY.
You are welcome to redistribute it under certain conditions.
Type 'license()' or 'licence()' for distribution details.
R is a collaborative project with many contributors.
Type 'contributors()' for more information and
'citation()' on how to cite R or R packages in publications.
Type 'demo()' for some demos, 'help()' for on-line help, or
'help.start()' for an HTML browser interface to help.
Type 'q()' to quit R.
> require("gCMAP") || stop("unable to load gCMAP")
Loading required package: gCMAP
Loading required package: GSEABase
Loading required package: BiocGenerics
Loading required package: parallel
Attaching package: 'BiocGenerics'
The following objects are masked from 'package:parallel':
clusterApply, clusterApplyLB, clusterCall, clusterEvalQ,
clusterExport, clusterMap, parApply, parCapply, parLapply,
parLapplyLB, parRapply, parSapply, parSapplyLB
The following objects are masked from 'package:stats':
IQR, mad, sd, var, xtabs
The following objects are masked from 'package:base':
Filter, Find, Map, Position, Reduce, anyDuplicated, append,
as.data.frame, cbind, colMeans, colSums, colnames, do.call,
duplicated, eval, evalq, get, grep, grepl, intersect, is.unsorted,
lapply, lengths, mapply, match, mget, order, paste, pmax, pmax.int,
pmin, pmin.int, rank, rbind, rowMeans, rowSums, rownames, sapply,
setdiff, sort, table, tapply, union, unique, unsplit, which,
which.max, which.min
Loading required package: Biobase
Welcome to Bioconductor
Vignettes contain introductory material; view with
'browseVignettes()'. To cite Bioconductor, see
'citation("Biobase")', and for packages 'citation("pkgname")'.
Loading required package: annotate
Loading required package: AnnotationDbi
Loading required package: stats4
Loading required package: IRanges
Loading required package: S4Vectors
Attaching package: 'S4Vectors'
The following object is masked from 'package:base':
expand.grid
Loading required package: XML
Loading required package: graph
Attaching package: 'graph'
The following object is masked from 'package:XML':
addNode
Loading required package: limma
Attaching package: 'limma'
The following object is masked from 'package:BiocGenerics':
plotMA
Attaching package: 'gCMAP'
The following object is masked from 'package:IRanges':
members
[1] TRUE
> BiocGenerics:::testPackage("gCMAP")
Loading required package: bigmemory
Loading required package: bigmemory
Design is based on 'predictor' parameter.
Loading required package: bigmemory
Loading required package: bigmemory
Loading required package: bigmemory
Loading required package: bigmemory
Loading required package: bigmemory
Loading required package: bigmemory
Loading required package: bigmemory
Loading required package: bigmemory
Loading required package: bigmemory
Loading required package: bigmemory
eSets 'x' and 'y' share 500 common features.
Attaching package: 'gplots'
The following object is masked from 'package:IRanges':
space
The following object is masked from 'package:S4Vectors':
space
The following object is masked from 'package:stats':
lowess
Loading required package: bigmemory
Loading required package: bigmemory
Found more than one class "MgsaMcmcResults" in cache; using the first, from namespace 'gCMAP'
Also defined by 'mgsa'
Loading required package: bigmemory
Loading required package: bigmemory
Loading required package: bigmemory
Loading required package: bigmemory
Design is based on 'predictor' parameter.
Loading required package: bigmemory
Loading required package: bigmemory
Design is based on 'predictor' parameter.
The following factor(s) will be ignored: score
Using type as factor of interest.
Loading required package: bigmemory
Loading required package: bigmemory
RUNIT TEST PROTOCOL -- Thu Apr 12 04:05:34 2018
***********************************************
Number of test functions: 19
Number of errors: 0
Number of failures: 0
1 Test Suite :
gCMAP RUnit Tests - 19 test functions, 0 errors, 0 failures
Number of test functions: 19
Number of errors: 0
Number of failures: 0
>
> proc.time()
user system elapsed
36.143 4.726 32.119
gCMAP.Rcheck/gCMAP-Ex.timings
| name | user | system | elapsed | |
| CMAPCollection-class | 2.262 | 0.852 | 2.128 | |
| CMAPResults-class | 2.454 | 0.120 | 2.637 | |
| KEGG2cmap | 0.000 | 0.000 | 0.001 | |
| SignedGeneSet-class | 0.023 | 0.000 | 0.024 | |
| annotate_eset_list | 0.094 | 0.007 | 0.102 | |
| camera_score-methods | 0.654 | 0.100 | 1.914 | |
| center_eSet | 0.033 | 0.005 | 0.038 | |
| connectivity_score-methods | 3.155 | 2.056 | 1.659 | |
| eSetOnDisk | 1.232 | 0.100 | 1.366 | |
| eset_instances | 0.052 | 0.007 | 0.061 | |
| featureScores-methods | 0.295 | 0.080 | 0.606 | |
| fisher_score-methods | 1.062 | 0.509 | 0.675 | |
| gCMAPData-dataset | 0.139 | 0.072 | 0.460 | |
| geneIndex-methods | 0.491 | 0.255 | 0.397 | |
| generate_gCMAP_NChannelSet | 1.010 | 0.046 | 1.076 | |
| gsealm_jg_score-methods | 0.967 | 0.494 | 0.646 | |
| gsealm_score-methods | 2.719 | 0.186 | 3.116 | |
| induceCMAPCollection-methods | 0.416 | 0.209 | 0.349 | |
| mapNmerge | 0.001 | 0.000 | 0.001 | |
| memorize | 0.756 | 0.095 | 0.882 | |
| mergeCMAPs | 0.255 | 0.009 | 0.266 | |
| mgsa_score-methods | 20.139 | 0.435 | 6.671 | |
| minSetSize-methods | 0.455 | 0.290 | 0.373 | |
| mroast_score-methods | 1.150 | 0.278 | 1.152 | |
| romer_score-methods | 6.233 | 0.413 | 7.229 | |
| signedRankSumTest | 0.003 | 0.000 | 0.003 | |
| splitPerturbations | 0.058 | 0.003 | 0.061 | |
| wilcox_score-methods | 1.518 | 1.238 | 0.605 | |