| Back to Multiple platform build/check report for BioC 3.6 |
|
This page was generated on 2018-04-12 13:18:30 -0400 (Thu, 12 Apr 2018).
| Package 498/1472 | Hostname | OS / Arch | INSTALL | BUILD | CHECK | BUILD BIN | ||||||
| flowViz 1.42.0 Mike Jiang
| malbec1 | Linux (Ubuntu 16.04.1 LTS) / x86_64 | OK | OK | OK | |||||||
| tokay1 | Windows Server 2012 R2 Standard / x64 | [ OK ] | OK | WARNINGS | OK | |||||||
| veracruz1 | OS X 10.11.6 El Capitan / x86_64 | OK | OK | OK | OK |
| Package: flowViz |
| Version: 1.42.0 |
| Command: rm -rf flowViz.buildbin-libdir && mkdir flowViz.buildbin-libdir && C:\cygwin\bin\curl.exe -O https://malbec1.bioconductor.org/BBS/3.6/bioc/src/contrib/flowViz_1.42.0.tar.gz && C:\Users\biocbuild\bbs-3.6-bioc\R\bin\R.exe CMD INSTALL --build --library=flowViz.buildbin-libdir --merge-multiarch flowViz_1.42.0.tar.gz && C:\Users\biocbuild\bbs-3.6-bioc\R\bin\R.exe CMD INSTALL flowViz_1.42.0.zip && rm flowViz_1.42.0.tar.gz flowViz_1.42.0.zip |
| StartedAt: 2018-04-11 18:32:27 -0400 (Wed, 11 Apr 2018) |
| EndedAt: 2018-04-11 18:33:18 -0400 (Wed, 11 Apr 2018) |
| EllapsedTime: 51.1 seconds |
| RetCode: 0 |
| Status: OK |
##############################################################################
##############################################################################
###
### Running command:
###
### rm -rf flowViz.buildbin-libdir && mkdir flowViz.buildbin-libdir && C:\cygwin\bin\curl.exe -O https://malbec1.bioconductor.org/BBS/3.6/bioc/src/contrib/flowViz_1.42.0.tar.gz && C:\Users\biocbuild\bbs-3.6-bioc\R\bin\R.exe CMD INSTALL --build --library=flowViz.buildbin-libdir --merge-multiarch flowViz_1.42.0.tar.gz && C:\Users\biocbuild\bbs-3.6-bioc\R\bin\R.exe CMD INSTALL flowViz_1.42.0.zip && rm flowViz_1.42.0.tar.gz flowViz_1.42.0.zip
###
##############################################################################
##############################################################################
% Total % Received % Xferd Average Speed Time Time Time Current
Dload Upload Total Spent Left Speed
0 0 0 0 0 0 0 0 --:--:-- --:--:-- --:--:-- 0
100 804k 100 804k 0 0 25.2M 0 --:--:-- --:--:-- --:--:-- 29.0M
install for i386
* installing *source* package 'flowViz' ...
** R
** inst
** preparing package for lazy loading
** help
*** installing help indices
converting help for package 'flowViz'
finding HTML links ... done
addName-methods html
contour-methods html
densityplot html
ecdfplot html
flowPlot html
flowViz-package html
flowViz.par.get html
glines-methods html
glpoints-methods html
glpolygon-methods html
gpoints-methods html
gpolygon-methods html
lattice-methods html
plot html
splom html
timeLinePlot html
xyplot html
Rd warning: C:/Users/biocbuild/bbs-3.6-bioc/tmpdir/RtmpIXTUEy/R.INSTALL1024d377014/flowViz/man/xyplot.Rd:104: missing file link 'filtersList-class'
Rd warning: C:/Users/biocbuild/bbs-3.6-bioc/tmpdir/RtmpIXTUEy/R.INSTALL1024d377014/flowViz/man/xyplot.Rd:174: missing file link 'sqrt'
** building package indices
** installing vignettes
'filters.Rmd'
** testing if installed package can be loaded
In R CMD INSTALL
install for x64
* installing *source* package 'flowViz' ...
** testing if installed package can be loaded
* MD5 sums
packaged installation of 'flowViz' as flowViz_1.42.0.zip
* DONE (flowViz)
In R CMD INSTALL
In R CMD INSTALL
* installing to library 'C:/Users/biocbuild/bbs-3.6-bioc/R/library'
package 'flowViz' successfully unpacked and MD5 sums checked
In R CMD INSTALL