| Back to Multiple platform build/check report for BioC 3.6 |
|
This page was generated on 2018-04-12 13:35:38 -0400 (Thu, 12 Apr 2018).
| Package 486/1472 | Hostname | OS / Arch | INSTALL | BUILD | CHECK | BUILD BIN | ||||||
| flowPeaks 1.22.0 Yongchao Ge
| malbec1 | Linux (Ubuntu 16.04.1 LTS) / x86_64 | OK | OK | OK | |||||||
| tokay1 | Windows Server 2012 R2 Standard / x64 | OK | OK | OK | OK | |||||||
| veracruz1 | OS X 10.11.6 El Capitan / x86_64 | [ OK ] | OK | OK | OK |
| Package: flowPeaks |
| Version: 1.22.0 |
| Command: /Library/Frameworks/R.framework/Versions/Current/Resources/bin/R CMD INSTALL flowPeaks |
| StartedAt: 2018-04-11 17:56:42 -0400 (Wed, 11 Apr 2018) |
| EndedAt: 2018-04-11 17:56:59 -0400 (Wed, 11 Apr 2018) |
| EllapsedTime: 16.7 seconds |
| RetCode: 0 |
| Status: OK |
##############################################################################
##############################################################################
###
### Running command:
###
### /Library/Frameworks/R.framework/Versions/Current/Resources/bin/R CMD INSTALL flowPeaks
###
##############################################################################
##############################################################################
* installing to library ‘/Library/Frameworks/R.framework/Versions/3.4/Resources/library’
* installing *source* package ‘flowPeaks’ ...
** libs
clang++ -I/Library/Frameworks/R.framework/Resources/include -DNDEBUG -I/usr/local/include `gsl-config --cflags` -fPIC -Wall -g -O2 -c Rpack.cpp -o Rpack.o
clang++ -I/Library/Frameworks/R.framework/Resources/include -DNDEBUG -I/usr/local/include `gsl-config --cflags` -fPIC -Wall -g -O2 -c Rregistrate.cpp -o Rregistrate.o
clang++ -I/Library/Frameworks/R.framework/Resources/include -DNDEBUG -I/usr/local/include `gsl-config --cflags` -fPIC -Wall -g -O2 -c VoronoiDiagramGenerator.cpp -o VoronoiDiagramGenerator.o
VoronoiDiagramGenerator.cpp:803:5: warning: logical not is only applied to the left hand side of this bitwise operator [-Wlogical-not-parentheses]
if(!triangulate & plot & !debug)
^ ˜
VoronoiDiagramGenerator.cpp:803:5: note: add parentheses after the '!' to evaluate the bitwise operator first
if(!triangulate & plot & !debug)
^
( )
VoronoiDiagramGenerator.cpp:803:5: note: add parentheses around left hand side expression to silence this warning
if(!triangulate & plot & !debug)
^
( )
1 warning generated.
clang++ -I/Library/Frameworks/R.framework/Resources/include -DNDEBUG -I/usr/local/include `gsl-config --cflags` -fPIC -Wall -g -O2 -c flowPeaks.cpp -o flowPeaks.o
clang++ -I/Library/Frameworks/R.framework/Resources/include -DNDEBUG -I/usr/local/include `gsl-config --cflags` -fPIC -Wall -g -O2 -c func_collect.cpp -o func_collect.o
clang++ -I/Library/Frameworks/R.framework/Resources/include -DNDEBUG -I/usr/local/include `gsl-config --cflags` -fPIC -Wall -g -O2 -c func_collect_supp.cpp -o func_collect_supp.o
clang++ -I/Library/Frameworks/R.framework/Resources/include -DNDEBUG -I/usr/local/include `gsl-config --cflags` -fPIC -Wall -g -O2 -c gvector_gmatrix.cpp -o gvector_gmatrix.o
clang++ -I/Library/Frameworks/R.framework/Resources/include -DNDEBUG -I/usr/local/include `gsl-config --cflags` -fPIC -Wall -g -O2 -c kd_tree.cpp -o kd_tree.o
clang++ -I/Library/Frameworks/R.framework/Resources/include -DNDEBUG -I/usr/local/include `gsl-config --cflags` -fPIC -Wall -g -O2 -c kmns.cpp -o kmns.o
clang++ -dynamiclib -Wl,-headerpad_max_install_names -undefined dynamic_lookup -single_module -multiply_defined suppress -L/Library/Frameworks/R.framework/Resources/lib -L/usr/local/lib -o flowPeaks.so Rpack.o Rregistrate.o VoronoiDiagramGenerator.o flowPeaks.o func_collect.o func_collect_supp.o gvector_gmatrix.o kd_tree.o kmns.o -L/usr/local/lib -lgsl -lgslcblas -F/Library/Frameworks/R.framework/.. -framework R -Wl,-framework -Wl,CoreFoundation
installing to /Library/Frameworks/R.framework/Versions/3.4/Resources/library/flowPeaks/libs
** R
** data
** inst
** preparing package for lazy loading
** help
*** installing help indices
** building package indices
** installing vignettes
** testing if installed package can be loaded
* DONE (flowPeaks)