| Back to Multiple platform build/check report for BioC 3.6 |
|
This page was generated on 2018-04-12 13:20:15 -0400 (Thu, 12 Apr 2018).
| Package 450/1472 | Hostname | OS / Arch | INSTALL | BUILD | CHECK | BUILD BIN | ||||||
| fabia 2.24.0 Sepp Hochreiter
| malbec1 | Linux (Ubuntu 16.04.1 LTS) / x86_64 | OK | OK | OK | |||||||
| tokay1 | Windows Server 2012 R2 Standard / x64 | OK | [ OK ] | OK | OK | |||||||
| veracruz1 | OS X 10.11.6 El Capitan / x86_64 | OK | OK | OK | OK |
| Package: fabia |
| Version: 2.24.0 |
| Command: chmod a+r fabia -R && C:\Users\biocbuild\bbs-3.6-bioc\R\bin\R.exe CMD build --keep-empty-dirs --no-resave-data fabia |
| StartedAt: 2018-04-11 19:31:46 -0400 (Wed, 11 Apr 2018) |
| EndedAt: 2018-04-11 19:32:19 -0400 (Wed, 11 Apr 2018) |
| EllapsedTime: 33.1 seconds |
| RetCode: 0 |
| Status: OK |
| PackageFile: fabia_2.24.0.tar.gz |
| PackageFileSize: 795.4 KiB |
############################################################################## ############################################################################## ### ### Running command: ### ### chmod a+r fabia -R && C:\Users\biocbuild\bbs-3.6-bioc\R\bin\R.exe CMD build --keep-empty-dirs --no-resave-data fabia ### ############################################################################## ############################################################################## * checking for file 'fabia/DESCRIPTION' ... OK * preparing 'fabia': * checking DESCRIPTION meta-information ... OK * cleaning src * installing the package to build vignettes * creating vignettes ... OK * cleaning src * checking for LF line-endings in source and make files and shell scripts * checking for empty or unneeded directories * building 'fabia_2.24.0.tar.gz' Warning: file 'fabia/cleanup' did not have execute permissions: corrected Warning: file 'fabia/configure' did not have execute permissions: corrected