| Back to Multiple platform build/check report for BioC 3.6 |
|
This page was generated on 2018-04-12 13:13:47 -0400 (Thu, 12 Apr 2018).
| Package 436/1472 | Hostname | OS / Arch | INSTALL | BUILD | CHECK | BUILD BIN | ||||||
| erma 0.10.1 VJ Carey
| malbec1 | Linux (Ubuntu 16.04.1 LTS) / x86_64 | OK | OK | [ OK ] | |||||||
| tokay1 | Windows Server 2012 R2 Standard / x64 | OK | OK | WARNINGS | OK | |||||||
| veracruz1 | OS X 10.11.6 El Capitan / x86_64 | OK | OK | OK | OK |
| Package: erma |
| Version: 0.10.1 |
| Command: /home/biocbuild/bbs-3.6-bioc/R/bin/R CMD check --no-vignettes --timings erma_0.10.1.tar.gz |
| StartedAt: 2018-04-11 23:18:53 -0400 (Wed, 11 Apr 2018) |
| EndedAt: 2018-04-11 23:23:08 -0400 (Wed, 11 Apr 2018) |
| EllapsedTime: 254.7 seconds |
| RetCode: 0 |
| Status: OK |
| CheckDir: erma.Rcheck |
| Warnings: 0 |
##############################################################################
##############################################################################
###
### Running command:
###
### /home/biocbuild/bbs-3.6-bioc/R/bin/R CMD check --no-vignettes --timings erma_0.10.1.tar.gz
###
##############################################################################
##############################################################################
* using log directory ‘/home/biocbuild/bbs-3.6-bioc/meat/erma.Rcheck’
* using R version 3.4.4 (2018-03-15)
* using platform: x86_64-pc-linux-gnu (64-bit)
* using session charset: UTF-8
* using option ‘--no-vignettes’
* checking for file ‘erma/DESCRIPTION’ ... OK
* this is package ‘erma’ version ‘0.10.1’
* checking package namespace information ... OK
* checking package dependencies ... OK
* checking if this is a source package ... OK
* checking if there is a namespace ... OK
* checking for hidden files and directories ... OK
* checking for portable file names ... OK
* checking for sufficient/correct file permissions ... OK
* checking whether package ‘erma’ can be installed ... OK
* checking installed package size ... NOTE
installed size is 200.5Mb
sub-directories of 1Mb or more:
bed_tabix 161.3Mb
data 37.1Mb
doc 1.4Mb
* checking package directory ... OK
* checking ‘build’ directory ... OK
* checking DESCRIPTION meta-information ... OK
* checking top-level files ... OK
* checking for left-over files ... OK
* checking index information ... OK
* checking package subdirectories ... OK
* checking R files for non-ASCII characters ... OK
* checking R files for syntax errors ... OK
* checking whether the package can be loaded ... OK
* checking whether the package can be loaded with stated dependencies ... OK
* checking whether the package can be unloaded cleanly ... OK
* checking whether the namespace can be loaded with stated dependencies ... OK
* checking whether the namespace can be unloaded cleanly ... OK
* checking dependencies in R code ... OK
* checking S3 generic/method consistency ... OK
* checking replacement functions ... OK
* checking foreign function calls ... OK
* checking R code for possible problems ... NOTE
geneTxRange: no visible global function definition for ‘select’
geneTxRange: no visible global function definition for ‘IRanges’
genemodel: no visible global function definition for ‘IRanges’
genemodelOLD: no visible binding for global variable ‘exonsBy’
map2range: no visible global function definition for ‘IRanges’
mapmeta: no visible global function definition for ‘read.csv’
stateProf: no visible global function definition for ‘keys’
stateProfile: no visible binding for global variable ‘i’
stateProfile: no visible global function definition for ‘genome’
stateProfile: no visible global function definition for ‘seqlevels<-’
stateProfile: no visible global function definition for ‘seqlevels’
stateProfile : <anonymous>: no visible global function definition for
‘IRanges’
stateProfile: no visible global function definition for ‘data’
stateProfile: no visible binding for global variable ‘short_celltype’
stateProfile: no visible binding for global variable ‘states_25’
stateProfile: no visible binding for global variable ‘name’
statesByRange: no visible binding for global variable ‘mod’
statesByRange: no visible binding for global variable ‘upstream’
statesByRange: no visible binding for global variable ‘downstream’
statesByRange: no visible binding for global variable ‘i’
statesByRange: no visible global function definition for ‘genome’
statesByRange: no visible global function definition for ‘seqlevels<-’
statesByRange: no visible global function definition for ‘seqlevels’
statesByRange : <anonymous>: no visible global function definition for
‘IRanges’
statesByRange : <anonymous>: no visible binding for global variable
‘tss’
statesByRange: no visible global function definition for ‘data’
statesByRange: no visible binding for global variable ‘short_celltype’
statesByRange: no visible binding for global variable ‘states_25’
subsetByRanges : <anonymous>: no visible global function definition for
‘genome’
subsetByRanges : <anonymous>: no visible global function definition for
‘seqlevels<-’
subsetByRanges : <anonymous>: no visible global function definition for
‘seqlevels’
Undefined global functions or variables:
IRanges data downstream exonsBy genome i keys mod name read.csv
select seqlevels seqlevels<- short_celltype states_25 tss upstream
Consider adding
importFrom("utils", "data", "read.csv")
to your NAMESPACE file.
* checking Rd files ... OK
* checking Rd metadata ... OK
* checking Rd cross-references ... OK
* checking for missing documentation entries ... OK
* checking for code/documentation mismatches ... OK
* checking Rd \usage sections ... OK
* checking Rd contents ... OK
* checking for unstated dependencies in examples ... OK
* checking contents of ‘data’ directory ... OK
* checking data for non-ASCII characters ... OK
* checking data for ASCII and uncompressed saves ... OK
* checking installed files from ‘inst/doc’ ... OK
* checking files in ‘vignettes’ ... OK
* checking examples ... OK
Examples with CPU or elapsed time > 5s
user system elapsed
erma-package 9.008 0.164 9.43
* checking for unstated dependencies in vignettes ... OK
* checking package vignettes in ‘inst/doc’ ... OK
* checking running R code from vignettes ... SKIPPED
* checking re-building of vignette outputs ... SKIPPED
* checking PDF version of manual ... OK
* DONE
Status: 2 NOTEs
See
‘/home/biocbuild/bbs-3.6-bioc/meat/erma.Rcheck/00check.log’
for details.
erma.Rcheck/00install.out
* installing *source* package ‘erma’ ... ** R ** data ** inst ** preparing package for lazy loading ** help *** installing help indices ** building package indices ** installing vignettes ** testing if installed package can be loaded * DONE (erma)
erma.Rcheck/erma-Ex.timings
| name | user | system | elapsed | |
| ErmaSet-class | 0.588 | 0.016 | 0.605 | |
| erma-package | 9.008 | 0.164 | 9.430 | |
| genemodel | 1.524 | 0.028 | 2.089 | |
| mapmeta | 0.080 | 0.000 | 0.079 | |
| stateProfile | 4.436 | 0.052 | 4.803 | |
| states_25 | 0.004 | 0.000 | 0.004 | |