| Back to Multiple platform build/check report for BioC 3.6 |
|
This page was generated on 2018-04-12 13:42:54 -0400 (Thu, 12 Apr 2018).
| Package 433/1472 | Hostname | OS / Arch | INSTALL | BUILD | CHECK | BUILD BIN | ||||||
| epivizrServer 1.6.0 Hector Corrada Bravo
| malbec1 | Linux (Ubuntu 16.04.1 LTS) / x86_64 | OK | OK | OK | |||||||
| tokay1 | Windows Server 2012 R2 Standard / x64 | OK | OK | OK | OK | |||||||
| veracruz1 | OS X 10.11.6 El Capitan / x86_64 | OK | OK | OK | [ OK ] |
| Package: epivizrServer |
| Version: 1.6.0 |
| Command: rm -rf epivizrServer.buildbin-libdir && mkdir epivizrServer.buildbin-libdir && /Users/biocbuild/BBS/utils/build-universal.sh epivizrServer_1.6.0.tar.gz /Library/Frameworks/R.framework/Versions/Current/Resources/bin/R epivizrServer.buildbin-libdir |
| StartedAt: 2018-04-12 11:26:30 -0400 (Thu, 12 Apr 2018) |
| EndedAt: 2018-04-12 11:26:35 -0400 (Thu, 12 Apr 2018) |
| EllapsedTime: 5.3 seconds |
| RetCode: 0 |
| Status: OK |
| PackageFile: epivizrServer_1.6.0.tgz |
| PackageFileSize: 304.8 KiB |
############################################################################## ############################################################################## ### ### Running command: ### ### rm -rf epivizrServer.buildbin-libdir && mkdir epivizrServer.buildbin-libdir && /Users/biocbuild/BBS/utils/build-universal.sh epivizrServer_1.6.0.tar.gz /Library/Frameworks/R.framework/Versions/Current/Resources/bin/R epivizrServer.buildbin-libdir ### ############################################################################## ############################################################################## >>>>>>> >>>>>>> INSTALLATION WITH 'R CMD INSTALL --preclean --no-multiarch --library=epivizrServer.buildbin-libdir epivizrServer_1.6.0.tar.gz' >>>>>>> * installing *source* package ‘epivizrServer’ ... ** R ** inst ** preparing package for lazy loading ** help *** installing help indices ** building package indices ** installing vignettes ** testing if installed package can be loaded * DONE (epivizrServer)