| Back to Multiple platform build/check report for BioC 3.6 |
|
This page was generated on 2018-04-12 13:27:09 -0400 (Thu, 12 Apr 2018).
| Package 287/1472 | Hostname | OS / Arch | INSTALL | BUILD | CHECK | BUILD BIN | ||||||
| consensusSeekeR 1.6.0 Astrid Deschenes
| malbec1 | Linux (Ubuntu 16.04.1 LTS) / x86_64 | OK | OK | OK | |||||||
| tokay1 | Windows Server 2012 R2 Standard / x64 | [ OK ] | OK | OK | OK | |||||||
| veracruz1 | OS X 10.11.6 El Capitan / x86_64 | OK | OK | OK | OK |
| Package: consensusSeekeR |
| Version: 1.6.0 |
| Command: rm -rf consensusSeekeR.buildbin-libdir && mkdir consensusSeekeR.buildbin-libdir && C:\cygwin\bin\curl.exe -O https://malbec1.bioconductor.org/BBS/3.6/bioc/src/contrib/consensusSeekeR_1.6.0.tar.gz && C:\Users\biocbuild\bbs-3.6-bioc\R\bin\R.exe CMD INSTALL --build --library=consensusSeekeR.buildbin-libdir --merge-multiarch consensusSeekeR_1.6.0.tar.gz && C:\Users\biocbuild\bbs-3.6-bioc\R\bin\R.exe CMD INSTALL consensusSeekeR_1.6.0.zip && rm consensusSeekeR_1.6.0.tar.gz consensusSeekeR_1.6.0.zip |
| StartedAt: 2018-04-11 18:47:25 -0400 (Wed, 11 Apr 2018) |
| EndedAt: 2018-04-11 18:48:52 -0400 (Wed, 11 Apr 2018) |
| EllapsedTime: 87.8 seconds |
| RetCode: 0 |
| Status: OK |
##############################################################################
##############################################################################
###
### Running command:
###
### rm -rf consensusSeekeR.buildbin-libdir && mkdir consensusSeekeR.buildbin-libdir && C:\cygwin\bin\curl.exe -O https://malbec1.bioconductor.org/BBS/3.6/bioc/src/contrib/consensusSeekeR_1.6.0.tar.gz && C:\Users\biocbuild\bbs-3.6-bioc\R\bin\R.exe CMD INSTALL --build --library=consensusSeekeR.buildbin-libdir --merge-multiarch consensusSeekeR_1.6.0.tar.gz && C:\Users\biocbuild\bbs-3.6-bioc\R\bin\R.exe CMD INSTALL consensusSeekeR_1.6.0.zip && rm consensusSeekeR_1.6.0.tar.gz consensusSeekeR_1.6.0.zip
###
##############################################################################
##############################################################################
% Total % Received % Xferd Average Speed Time Time Time Current
Dload Upload Total Spent Left Speed
0 0 0 0 0 0 0 0 --:--:-- --:--:-- --:--:-- 0
100 286k 100 286k 0 0 3705k 0 --:--:-- --:--:-- --:--:-- 3869k
install for i386
* installing *source* package 'consensusSeekeR' ...
** R
** data
** inst
** preparing package for lazy loading
** help
*** installing help indices
converting help for package 'consensusSeekeR'
finding HTML links ... done
A549_CTCF_MYJ_NarrowPeaks_partial html
A549_CTCF_MYJ_Peaks_partial html
A549_CTCF_MYN_NarrowPeaks_partial html
A549_CTCF_MYN_Peaks_partial html
A549_FOSL2_01_NarrowPeaks_partial html
A549_FOSL2_01_Peaks_partial html
A549_FOXA1_01_NarrowPeaks_partial html
A549_FOXA1_01_Peaks_partial html
A549_NR3C1_CFQ_NarrowPeaks_partial html
A549_NR3C1_CFQ_Peaks_partial html
A549_NR3C1_CFR_NarrowPeaks_partial html
A549_NR3C1_CFR_Peaks_partial html
A549_NR3C1_CFS_NarrowPeaks_partial html
A549_NR3C1_CFS_Peaks_partial html
NOrMAL_nucleosome_positions html
NOrMAL_nucleosome_ranges html
NucPosSimulator_nucleosome_positions html
NucPosSimulator_nucleosome_ranges html
PING_nucleosome_positions html
PING_nucleosome_ranges html
consensusSeekeR-package html
findConsensusPeakRegions html
findConsensusPeakRegionsForOneChrom html
findConsensusPeakRegionsValidation html
isInteger html
readNarrowPeakFile html
refineRegion html
** building package indices
** installing vignettes
** testing if installed package can be loaded
In R CMD INSTALL
install for x64
* installing *source* package 'consensusSeekeR' ...
** testing if installed package can be loaded
* MD5 sums
packaged installation of 'consensusSeekeR' as consensusSeekeR_1.6.0.zip
* DONE (consensusSeekeR)
In R CMD INSTALL
In R CMD INSTALL
* installing to library 'C:/Users/biocbuild/bbs-3.6-bioc/R/library'
package 'consensusSeekeR' successfully unpacked and MD5 sums checked
In R CMD INSTALL