| Back to Multiple platform build/check report for BioC 3.6 |
|
This page was generated on 2018-04-12 13:18:06 -0400 (Thu, 12 Apr 2018).
| Package 271/1472 | Hostname | OS / Arch | INSTALL | BUILD | CHECK | BUILD BIN | ||||||
| codelink 1.46.0 Diego Diez
| malbec1 | Linux (Ubuntu 16.04.1 LTS) / x86_64 | OK | OK | OK | |||||||
| tokay1 | Windows Server 2012 R2 Standard / x64 | [ OK ] | OK | OK | OK | |||||||
| veracruz1 | OS X 10.11.6 El Capitan / x86_64 | OK | OK | OK | OK |
| Package: codelink |
| Version: 1.46.0 |
| Command: rm -rf codelink.buildbin-libdir && mkdir codelink.buildbin-libdir && C:\cygwin\bin\curl.exe -O https://malbec1.bioconductor.org/BBS/3.6/bioc/src/contrib/codelink_1.46.0.tar.gz && C:\Users\biocbuild\bbs-3.6-bioc\R\bin\R.exe CMD INSTALL --build --library=codelink.buildbin-libdir --merge-multiarch codelink_1.46.0.tar.gz && C:\Users\biocbuild\bbs-3.6-bioc\R\bin\R.exe CMD INSTALL codelink_1.46.0.zip && rm codelink_1.46.0.tar.gz codelink_1.46.0.zip |
| StartedAt: 2018-04-11 18:29:15 -0400 (Wed, 11 Apr 2018) |
| EndedAt: 2018-04-11 18:31:12 -0400 (Wed, 11 Apr 2018) |
| EllapsedTime: 117.5 seconds |
| RetCode: 0 |
| Status: OK |
##############################################################################
##############################################################################
###
### Running command:
###
### rm -rf codelink.buildbin-libdir && mkdir codelink.buildbin-libdir && C:\cygwin\bin\curl.exe -O https://malbec1.bioconductor.org/BBS/3.6/bioc/src/contrib/codelink_1.46.0.tar.gz && C:\Users\biocbuild\bbs-3.6-bioc\R\bin\R.exe CMD INSTALL --build --library=codelink.buildbin-libdir --merge-multiarch codelink_1.46.0.tar.gz && C:\Users\biocbuild\bbs-3.6-bioc\R\bin\R.exe CMD INSTALL codelink_1.46.0.zip && rm codelink_1.46.0.tar.gz codelink_1.46.0.zip
###
##############################################################################
##############################################################################
% Total % Received % Xferd Average Speed Time Time Time Current
Dload Upload Total Spent Left Speed
0 0 0 0 0 0 0 0 --:--:-- --:--:-- --:--:-- 0
100 2409k 100 2409k 0 0 52.0M 0 --:--:-- --:--:-- --:--:-- 56.0M
install for i386
* installing *source* package 'codelink' ...
** R
** data
** inst
** byte-compile and prepare package for lazy loading
** help
*** installing help indices
converting help for package 'codelink'
finding HTML links ... done
Codelink-class html
CodelinkSet-class html
finding level-2 HTML links ... done
CodelinkSetUnique-class html
Nondocumented-objects html
SNR html
arrayNew html
arraySize html
as.matrix.Codelink html
averageProbes html
bkgdCorrect html
codPlot html
codelink.example html
codset html
createWeights html
cutCV html
decDetect html
dim.Codelink html
fc2Cond html
imageCodelink html
logCodelink html
mergeArray html
na2false html
normalize html
plotCV html
plotCorrelation html
plotDensities html
plotMA html
printHead html
readCodelink html
readHeader html
readHeaderXLS html
reportCodelink html
selCV html
writeCodelink html
** building package indices
** installing vignettes
'Codelink_Introduction.Rnw' using 'UTF-8'
'Codelink_Legacy.Rnw' using 'UTF-8'
** testing if installed package can be loaded
In R CMD INSTALL
install for x64
* installing *source* package 'codelink' ...
** testing if installed package can be loaded
* MD5 sums
packaged installation of 'codelink' as codelink_1.46.0.zip
* DONE (codelink)
In R CMD INSTALL
In R CMD INSTALL
* installing to library 'C:/Users/biocbuild/bbs-3.6-bioc/R/library'
package 'codelink' successfully unpacked and MD5 sums checked
In R CMD INSTALL