| Back to Multiple platform build/check report for BioC 3.6 |
|
This page was generated on 2018-04-12 13:19:44 -0400 (Thu, 12 Apr 2018).
| Package 222/1472 | Hostname | OS / Arch | INSTALL | BUILD | CHECK | BUILD BIN | ||||||
| chipseq 1.28.0 Bioconductor Package Maintainer
| malbec1 | Linux (Ubuntu 16.04.1 LTS) / x86_64 | OK | OK | WARNINGS | |||||||
| tokay1 | Windows Server 2012 R2 Standard / x64 | [ OK ] | OK | WARNINGS | OK | |||||||
| veracruz1 | OS X 10.11.6 El Capitan / x86_64 | OK | OK | WARNINGS | OK |
| Package: chipseq |
| Version: 1.28.0 |
| Command: rm -rf chipseq.buildbin-libdir && mkdir chipseq.buildbin-libdir && C:\cygwin\bin\curl.exe -O https://malbec1.bioconductor.org/BBS/3.6/bioc/src/contrib/chipseq_1.28.0.tar.gz && C:\Users\biocbuild\bbs-3.6-bioc\R\bin\R.exe CMD INSTALL --build --library=chipseq.buildbin-libdir --merge-multiarch chipseq_1.28.0.tar.gz && C:\Users\biocbuild\bbs-3.6-bioc\R\bin\R.exe CMD INSTALL chipseq_1.28.0.zip && rm chipseq_1.28.0.tar.gz chipseq_1.28.0.zip |
| StartedAt: 2018-04-11 18:47:39 -0400 (Wed, 11 Apr 2018) |
| EndedAt: 2018-04-11 18:48:57 -0400 (Wed, 11 Apr 2018) |
| EllapsedTime: 78.3 seconds |
| RetCode: 0 |
| Status: OK |
##############################################################################
##############################################################################
###
### Running command:
###
### rm -rf chipseq.buildbin-libdir && mkdir chipseq.buildbin-libdir && C:\cygwin\bin\curl.exe -O https://malbec1.bioconductor.org/BBS/3.6/bioc/src/contrib/chipseq_1.28.0.tar.gz && C:\Users\biocbuild\bbs-3.6-bioc\R\bin\R.exe CMD INSTALL --build --library=chipseq.buildbin-libdir --merge-multiarch chipseq_1.28.0.tar.gz && C:\Users\biocbuild\bbs-3.6-bioc\R\bin\R.exe CMD INSTALL chipseq_1.28.0.zip && rm chipseq_1.28.0.tar.gz chipseq_1.28.0.zip
###
##############################################################################
##############################################################################
% Total % Received % Xferd Average Speed Time Time Time Current
Dload Upload Total Spent Left Speed
0 0 0 0 0 0 0 0 --:--:-- --:--:-- --:--:-- 0
100 1706k 100 1706k 0 0 31.8M 0 --:--:-- --:--:-- --:--:-- 34.0M
install for i386
* installing *source* package 'chipseq' ...
** libs
C:/Rtools/mingw_32/bin/gcc -I"C:/Users/BIOCBU˜1/BBS-3˜1.6-B/R/include" -DNDEBUG -I"C:/local323/include" -O3 -Wall -std=gnu99 -mtune=generic -c rlesumprod.c -o rlesumprod.o
C:/Rtools/mingw_32/bin/g++ -shared -s -static-libgcc -o chipseq.dll tmp.def rlesumprod.o -LC:/local323/lib/i386 -LC:/local323/lib -LC:/Users/BIOCBU˜1/BBS-3˜1.6-B/R/bin/i386 -lR
installing to C:/Users/biocbuild/bbs-3.6-bioc/meat/chipseq.buildbin-libdir/chipseq/libs/i386
** R
** data
** inst
** preparing package for lazy loading
** help
*** installing help indices
converting help for package 'chipseq'
finding HTML links ... done
chipseqFilter html
coverageplot html
cstest html
diffPeakSummary html
estimate.mean.fraglen html
Rd warning: C:/Users/biocbuild/bbs-3.6-bioc/tmpdir/RtmpWwZ5DJ/R.INSTALL16f865346f0c/chipseq/man/estimate.mean.fraglen.Rd:56: missing file link 'IntegerList-class'
islandDepthPlot html
Rd warning: C:/Users/biocbuild/bbs-3.6-bioc/tmpdir/RtmpWwZ5DJ/R.INSTALL16f865346f0c/chipseq/man/islandDepthPlot.Rd:17: missing file link 'RleList-class'
laneSubsample html
peakCutoff html
Rd warning: C:/Users/biocbuild/bbs-3.6-bioc/tmpdir/RtmpWwZ5DJ/R.INSTALL16f865346f0c/chipseq/man/peakCutoff.Rd:17: missing file link 'RleList-class'
peakSummary-methods html
subsetSummary html
** building package indices
** installing vignettes
** testing if installed package can be loaded
In R CMD INSTALL
install for x64
* installing *source* package 'chipseq' ...
** libs
C:/Rtools/mingw_64/bin/gcc -I"C:/Users/BIOCBU˜1/BBS-3˜1.6-B/R/include" -DNDEBUG -I"C:/local323/include" -O2 -Wall -std=gnu99 -mtune=generic -c rlesumprod.c -o rlesumprod.o
C:/Rtools/mingw_64/bin/g++ -shared -s -static-libgcc -o chipseq.dll tmp.def rlesumprod.o -LC:/local323/lib/x64 -LC:/local323/lib -LC:/Users/BIOCBU˜1/BBS-3˜1.6-B/R/bin/x64 -lR
installing to C:/Users/biocbuild/bbs-3.6-bioc/meat/chipseq.buildbin-libdir/chipseq/libs/x64
** testing if installed package can be loaded
* MD5 sums
packaged installation of 'chipseq' as chipseq_1.28.0.zip
* DONE (chipseq)
In R CMD INSTALL
In R CMD INSTALL
* installing to library 'C:/Users/biocbuild/bbs-3.6-bioc/R/library'
package 'chipseq' successfully unpacked and MD5 sums checked
In R CMD INSTALL