| Back to Multiple platform build/check report for BioC 3.6 |
|
This page was generated on 2018-04-12 13:18:52 -0400 (Thu, 12 Apr 2018).
| Package 193/1472 | Hostname | OS / Arch | INSTALL | BUILD | CHECK | BUILD BIN | ||||||
| cellHTS2 2.42.0 Joseph Barry
| malbec1 | Linux (Ubuntu 16.04.1 LTS) / x86_64 | OK | OK | WARNINGS | |||||||
| tokay1 | Windows Server 2012 R2 Standard / x64 | OK | [ OK ] | WARNINGS | OK | |||||||
| veracruz1 | OS X 10.11.6 El Capitan / x86_64 | OK | OK | WARNINGS | OK |
| Package: cellHTS2 |
| Version: 2.42.0 |
| Command: chmod a+r cellHTS2 -R && C:\Users\biocbuild\bbs-3.6-bioc\R\bin\R.exe CMD build --keep-empty-dirs --no-resave-data cellHTS2 |
| StartedAt: 2018-04-11 19:14:43 -0400 (Wed, 11 Apr 2018) |
| EndedAt: 2018-04-11 19:21:20 -0400 (Wed, 11 Apr 2018) |
| EllapsedTime: 397.5 seconds |
| RetCode: 0 |
| Status: OK |
| PackageFile: cellHTS2_2.42.0.tar.gz |
| PackageFileSize: 2.871 MiB |
##############################################################################
##############################################################################
###
### Running command:
###
### chmod a+r cellHTS2 -R && C:\Users\biocbuild\bbs-3.6-bioc\R\bin\R.exe CMD build --keep-empty-dirs --no-resave-data cellHTS2
###
##############################################################################
##############################################################################
* checking for file 'cellHTS2/DESCRIPTION' ... OK
* preparing 'cellHTS2':
* checking DESCRIPTION meta-information ... OK
* installing the package to build vignettes
* creating vignettes ... OK
Warning: 'inst/doc' file
'cellhts2Complete.R'
ignored as vignettes have been rebuilt.
Run R CMD build with --no-build-vignettes to prevent rebuilding.
* checking for LF line-endings in source and make files and shell scripts
* checking for empty or unneeded directories
* looking to see if a 'data/datalist' file should be added
* building 'cellHTS2_2.42.0.tar.gz'