| Back to Multiple platform build/check report for BioC 3.6 |
|
This page was generated on 2018-04-12 13:36:18 -0400 (Thu, 12 Apr 2018).
| Package 168/1472 | Hostname | OS / Arch | INSTALL | BUILD | CHECK | BUILD BIN | ||||||
| bumphunter 1.20.0 Rafael A. Irizarry
| malbec1 | Linux (Ubuntu 16.04.1 LTS) / x86_64 | OK | OK | OK | |||||||
| tokay1 | Windows Server 2012 R2 Standard / x64 | OK | OK | WARNINGS | OK | |||||||
| veracruz1 | OS X 10.11.6 El Capitan / x86_64 | OK | OK | OK | [ OK ] |
| Package: bumphunter |
| Version: 1.20.0 |
| Command: rm -rf bumphunter.buildbin-libdir && mkdir bumphunter.buildbin-libdir && /Users/biocbuild/BBS/utils/build-universal.sh bumphunter_1.20.0.tar.gz /Library/Frameworks/R.framework/Versions/Current/Resources/bin/R bumphunter.buildbin-libdir |
| StartedAt: 2018-04-12 11:11:51 -0400 (Thu, 12 Apr 2018) |
| EndedAt: 2018-04-12 11:12:11 -0400 (Thu, 12 Apr 2018) |
| EllapsedTime: 20.6 seconds |
| RetCode: 0 |
| Status: OK |
| PackageFile: bumphunter_1.20.0.tgz |
| PackageFileSize: 4.42 MiB |
############################################################################## ############################################################################## ### ### Running command: ### ### rm -rf bumphunter.buildbin-libdir && mkdir bumphunter.buildbin-libdir && /Users/biocbuild/BBS/utils/build-universal.sh bumphunter_1.20.0.tar.gz /Library/Frameworks/R.framework/Versions/Current/Resources/bin/R bumphunter.buildbin-libdir ### ############################################################################## ############################################################################## >>>>>>> >>>>>>> INSTALLATION WITH 'R CMD INSTALL --preclean --no-multiarch --library=bumphunter.buildbin-libdir bumphunter_1.20.0.tar.gz' >>>>>>> * installing *source* package ‘bumphunter’ ... ** R ** data *** moving datasets to lazyload DB ** inst ** preparing package for lazy loading ** help *** installing help indices ** building package indices ** installing vignettes ** testing if installed package can be loaded * DONE (bumphunter)