| Back to Multiple platform build/check report for BioC 3.6 |
|
This page was generated on 2018-04-12 13:18:01 -0400 (Thu, 12 Apr 2018).
| Package 130/1472 | Hostname | OS / Arch | INSTALL | BUILD | CHECK | BUILD BIN | ||||||
| biocViews 1.46.0 Bioconductor Package Maintainer
| malbec1 | Linux (Ubuntu 16.04.1 LTS) / x86_64 | OK | OK | OK | |||||||
| tokay1 | Windows Server 2012 R2 Standard / x64 | [ OK ] | OK | OK | OK | |||||||
| veracruz1 | OS X 10.11.6 El Capitan / x86_64 | OK | OK | OK | OK |
| Package: biocViews |
| Version: 1.46.0 |
| Command: rm -rf biocViews.buildbin-libdir && mkdir biocViews.buildbin-libdir && C:\cygwin\bin\curl.exe -O https://malbec1.bioconductor.org/BBS/3.6/bioc/src/contrib/biocViews_1.46.0.tar.gz && C:\Users\biocbuild\bbs-3.6-bioc\R\bin\R.exe CMD INSTALL --build --library=biocViews.buildbin-libdir --merge-multiarch biocViews_1.46.0.tar.gz && C:\Users\biocbuild\bbs-3.6-bioc\R\bin\R.exe CMD INSTALL biocViews_1.46.0.zip && rm biocViews_1.46.0.tar.gz biocViews_1.46.0.zip |
| StartedAt: 2018-04-11 18:32:10 -0400 (Wed, 11 Apr 2018) |
| EndedAt: 2018-04-11 18:33:20 -0400 (Wed, 11 Apr 2018) |
| EllapsedTime: 70.1 seconds |
| RetCode: 0 |
| Status: OK |
##############################################################################
##############################################################################
###
### Running command:
###
### rm -rf biocViews.buildbin-libdir && mkdir biocViews.buildbin-libdir && C:\cygwin\bin\curl.exe -O https://malbec1.bioconductor.org/BBS/3.6/bioc/src/contrib/biocViews_1.46.0.tar.gz && C:\Users\biocbuild\bbs-3.6-bioc\R\bin\R.exe CMD INSTALL --build --library=biocViews.buildbin-libdir --merge-multiarch biocViews_1.46.0.tar.gz && C:\Users\biocbuild\bbs-3.6-bioc\R\bin\R.exe CMD INSTALL biocViews_1.46.0.zip && rm biocViews_1.46.0.tar.gz biocViews_1.46.0.zip
###
##############################################################################
##############################################################################
% Total % Received % Xferd Average Speed Time Time Time Current
Dload Upload Total Spent Left Speed
0 0 0 0 0 0 0 0 --:--:-- --:--:-- --:--:-- 0
100 66259 100 66259 0 0 2714k 0 --:--:-- --:--:-- --:--:-- 3081k
install for i386
* installing *source* package 'biocViews' ...
** R
** data
** inst
** preparing package for lazy loading
** help
*** installing help indices
converting help for package 'biocViews'
finding HTML links ... done
BiocView-class html
Htmlized-class html
PackageDetail-class html
RepositoryDetail-class html
biocViews-package html
biocViewsVocab html
extractManuals html
extractNEWS html
extractTopLevelFiles html
extractVignettes html
genReposControlFiles html
getBiocSubViews html
getBiocViews html
getCurrentbiocViews html
getPackageNEWS html
getPacksAndViews html
getSubTerms html
htmlDoc html
htmlFilename html
htmlValue html
recommendBiocViews html
recommendPackages html
validation_tests html
writeBiocViews html
writeHtmlDoc html
writePackageDetailHtml html
writeRFilesFromVignettes html
writeRepositoryHtml html
writeTopLevelView html
write_REPOSITORY html
write_SYMBOLS html
write_VIEWS html
** building package indices
** installing vignettes
'HOWTO-BCV.Rnw'
'createReposHtml.Rnw'
** testing if installed package can be loaded
In R CMD INSTALL
install for x64
* installing *source* package 'biocViews' ...
** testing if installed package can be loaded
* MD5 sums
packaged installation of 'biocViews' as biocViews_1.46.0.zip
* DONE (biocViews)
In R CMD INSTALL
In R CMD INSTALL
* installing to library 'C:/Users/biocbuild/bbs-3.6-bioc/R/library'
package 'biocViews' successfully unpacked and MD5 sums checked
In R CMD INSTALL