| Back to Multiple platform build/check report for BioC 3.6 |
|
This page was generated on 2018-04-12 13:33:22 -0400 (Thu, 12 Apr 2018).
| Package 98/1472 | Hostname | OS / Arch | INSTALL | BUILD | CHECK | BUILD BIN | ||||||
| baySeq 2.12.0 Thomas J. Hardcastle
| malbec1 | Linux (Ubuntu 16.04.1 LTS) / x86_64 | OK | OK | OK | |||||||
| tokay1 | Windows Server 2012 R2 Standard / x64 | OK | OK | OK | OK | |||||||
| veracruz1 | OS X 10.11.6 El Capitan / x86_64 | OK | OK | [ OK ] | OK |
| Package: baySeq |
| Version: 2.12.0 |
| Command: /Library/Frameworks/R.framework/Versions/Current/Resources/bin/R CMD check --no-vignettes --timings baySeq_2.12.0.tar.gz |
| StartedAt: 2018-04-12 00:46:00 -0400 (Thu, 12 Apr 2018) |
| EndedAt: 2018-04-12 00:49:45 -0400 (Thu, 12 Apr 2018) |
| EllapsedTime: 224.8 seconds |
| RetCode: 0 |
| Status: OK |
| CheckDir: baySeq.Rcheck |
| Warnings: 0 |
##############################################################################
##############################################################################
###
### Running command:
###
### /Library/Frameworks/R.framework/Versions/Current/Resources/bin/R CMD check --no-vignettes --timings baySeq_2.12.0.tar.gz
###
##############################################################################
##############################################################################
* using log directory ‘/Users/biocbuild/bbs-3.6-bioc/meat/baySeq.Rcheck’
* using R version 3.4.4 (2018-03-15)
* using platform: x86_64-apple-darwin15.6.0 (64-bit)
* using session charset: UTF-8
* using option ‘--no-vignettes’
* checking for file ‘baySeq/DESCRIPTION’ ... OK
* checking extension type ... Package
* this is package ‘baySeq’ version ‘2.12.0’
* checking package namespace information ... OK
* checking package dependencies ... OK
* checking if this is a source package ... OK
* checking if there is a namespace ... OK
* checking for hidden files and directories ... OK
* checking for portable file names ... OK
* checking for sufficient/correct file permissions ... OK
* checking whether package ‘baySeq’ can be installed ... OK
* checking installed package size ... OK
* checking package directory ... OK
* checking ‘build’ directory ... OK
* checking DESCRIPTION meta-information ... OK
* checking top-level files ... OK
* checking for left-over files ... OK
* checking index information ... OK
* checking package subdirectories ... OK
* checking R files for non-ASCII characters ... OK
* checking R files for syntax errors ... OK
* checking whether the package can be loaded ... OK
* checking whether the package can be loaded with stated dependencies ... OK
* checking whether the package can be unloaded cleanly ... OK
* checking whether the namespace can be loaded with stated dependencies ... OK
* checking whether the namespace can be unloaded cleanly ... OK
* checking dependencies in R code ... OK
* checking S3 generic/method consistency ... OK
* checking replacement functions ... OK
* checking foreign function calls ... OK
* checking R code for possible problems ... OK
* checking Rd files ... OK
* checking Rd metadata ... OK
* checking Rd cross-references ... OK
* checking for missing documentation entries ... OK
* checking for code/documentation mismatches ... OK
* checking Rd \usage sections ... OK
* checking Rd contents ... OK
* checking for unstated dependencies in examples ... OK
* checking contents of ‘data’ directory ... OK
* checking data for non-ASCII characters ... OK
* checking data for ASCII and uncompressed saves ... OK
* checking sizes of PDF files under ‘inst/doc’ ... OK
* checking installed files from ‘inst/doc’ ... OK
* checking files in ‘vignettes’ ... OK
* checking examples ... OK
Examples with CPU or elapsed time > 5s
user system elapsed
baySeq-package 57.084 0.266 59.227
getPriors 40.907 0.089 41.874
getLikelihoods 10.499 0.107 10.830
* checking for unstated dependencies in vignettes ... OK
* checking package vignettes in ‘inst/doc’ ... OK
* checking running R code from vignettes ... SKIPPED
* checking re-building of vignette outputs ... SKIPPED
* checking PDF version of manual ... OK
* DONE
Status: OK
baySeq.Rcheck/00install.out
* installing *source* package ‘baySeq’ ... ** R ** data ** inst ** preparing package for lazy loading ** help *** installing help indices ** building package indices ** installing vignettes ** testing if installed package can be loaded * DONE (baySeq)
baySeq.Rcheck/baySeq-Ex.timings
| name | user | system | elapsed | |
| allModels | 0.736 | 0.021 | 0.789 | |
| baySeq-classes | 0.194 | 0.004 | 0.213 | |
| baySeq-package | 57.084 | 0.266 | 59.227 | |
| bimodalSep | 0.001 | 0.000 | 0.002 | |
| densityFunction | 0.001 | 0.001 | 0.002 | |
| getLibsizes | 0.006 | 0.001 | 0.007 | |
| getLikelihoods | 10.499 | 0.107 | 10.830 | |
| getPosteriors | 0.027 | 0.001 | 0.029 | |
| getPriors | 40.907 | 0.089 | 41.874 | |
| getTPs | 0.031 | 0.004 | 0.036 | |
| makeOrderings | 0.054 | 0.004 | 0.059 | |
| marginaliseEqual | 0.490 | 0.005 | 0.504 | |
| marginalisePairwise | 0.481 | 0.002 | 0.499 | |
| plotMA.CD | 0.013 | 0.002 | 0.015 | |
| plotPosteriors | 0.024 | 0.001 | 0.026 | |
| plotPriors | 0.011 | 0.001 | 0.020 | |
| selectTop | 0.119 | 0.003 | 0.122 | |
| summarisePosteriors | 0.021 | 0.001 | 0.022 | |
| topCounts | 0.089 | 0.003 | 0.093 | |