| Back to Multiple platform build/check report for BioC 3.6 | 
 | 
This page was generated on 2018-04-12 13:31:07 -0400 (Thu, 12 Apr 2018).
| Package 17/1472 | Hostname | OS / Arch | INSTALL | BUILD | CHECK | BUILD BIN | ||||||
| affycomp 1.54.0 Rafael A. Irizarry 
 | malbec1 | Linux (Ubuntu 16.04.1 LTS) / x86_64 | OK | OK | OK |  | ||||||
| tokay1 | Windows Server 2012 R2 Standard / x64 | OK | OK | WARNINGS | OK |  | ||||||
| veracruz1 | OS X 10.11.6 El Capitan / x86_64 | OK | OK | OK | [ OK ] |  | 
| Package: affycomp | 
| Version: 1.54.0 | 
| Command: rm -rf affycomp.buildbin-libdir && mkdir affycomp.buildbin-libdir && /Users/biocbuild/BBS/utils/build-universal.sh affycomp_1.54.0.tar.gz /Library/Frameworks/R.framework/Versions/Current/Resources/bin/R affycomp.buildbin-libdir | 
| StartedAt: 2018-04-12 11:04:47 -0400 (Thu, 12 Apr 2018) | 
| EndedAt: 2018-04-12 11:04:58 -0400 (Thu, 12 Apr 2018) | 
| EllapsedTime: 10.7 seconds | 
| RetCode: 0 | 
| Status: OK | 
| PackageFile: affycomp_1.54.0.tgz | 
| PackageFileSize: 7.81 MiB | 
############################################################################## ############################################################################## ### ### Running command: ### ### rm -rf affycomp.buildbin-libdir && mkdir affycomp.buildbin-libdir && /Users/biocbuild/BBS/utils/build-universal.sh affycomp_1.54.0.tar.gz /Library/Frameworks/R.framework/Versions/Current/Resources/bin/R affycomp.buildbin-libdir ### ############################################################################## ############################################################################## >>>>>>> >>>>>>> INSTALLATION WITH 'R CMD INSTALL --preclean --no-multiarch --library=affycomp.buildbin-libdir affycomp_1.54.0.tar.gz' >>>>>>> * installing *source* package ‘affycomp’ ... ** R ** data ** inst ** preparing package for lazy loading ** help *** installing help indices ** building package indices ** installing vignettes ** testing if installed package can be loaded * DONE (affycomp)