| Back to Multiple platform build/check report for BioC 3.6 |
|
This page was generated on 2018-04-12 13:33:12 -0400 (Thu, 12 Apr 2018).
| Package 1384/1472 | Hostname | OS / Arch | INSTALL | BUILD | CHECK | BUILD BIN | ||||||
| TargetSearch 1.34.0 Alvaro Cuadros-Inostroza
| malbec1 | Linux (Ubuntu 16.04.1 LTS) / x86_64 | OK | OK | OK | |||||||
| tokay1 | Windows Server 2012 R2 Standard / x64 | OK | OK | WARNINGS | OK | |||||||
| veracruz1 | OS X 10.11.6 El Capitan / x86_64 | OK | OK | [ OK ] | OK |
| Package: TargetSearch |
| Version: 1.34.0 |
| Command: /Library/Frameworks/R.framework/Versions/Current/Resources/bin/R CMD check --no-vignettes --timings TargetSearch_1.34.0.tar.gz |
| StartedAt: 2018-04-12 10:11:40 -0400 (Thu, 12 Apr 2018) |
| EndedAt: 2018-04-12 10:12:55 -0400 (Thu, 12 Apr 2018) |
| EllapsedTime: 74.6 seconds |
| RetCode: 0 |
| Status: OK |
| CheckDir: TargetSearch.Rcheck |
| Warnings: 0 |
##############################################################################
##############################################################################
###
### Running command:
###
### /Library/Frameworks/R.framework/Versions/Current/Resources/bin/R CMD check --no-vignettes --timings TargetSearch_1.34.0.tar.gz
###
##############################################################################
##############################################################################
* using log directory ‘/Users/biocbuild/bbs-3.6-bioc/meat/TargetSearch.Rcheck’
* using R version 3.4.4 (2018-03-15)
* using platform: x86_64-apple-darwin15.6.0 (64-bit)
* using session charset: UTF-8
* using option ‘--no-vignettes’
* checking for file ‘TargetSearch/DESCRIPTION’ ... OK
* checking extension type ... Package
* this is package ‘TargetSearch’ version ‘1.34.0’
* checking package namespace information ... OK
* checking package dependencies ... OK
* checking if this is a source package ... OK
* checking if there is a namespace ... OK
* checking for hidden files and directories ... NOTE
Found the following hidden files and directories:
.BBSoptions
These were most likely included in error. See section ‘Package
structure’ in the ‘Writing R Extensions’ manual.
* checking for portable file names ... OK
* checking for sufficient/correct file permissions ... OK
* checking whether package ‘TargetSearch’ can be installed ... OK
* checking installed package size ... OK
* checking package directory ... OK
* checking ‘build’ directory ... OK
* checking DESCRIPTION meta-information ... OK
* checking top-level files ... OK
* checking for left-over files ... OK
* checking index information ... OK
* checking package subdirectories ... OK
* checking R files for non-ASCII characters ... OK
* checking R files for syntax errors ... OK
* checking whether the package can be loaded ... OK
* checking whether the package can be loaded with stated dependencies ... OK
* checking whether the package can be unloaded cleanly ... OK
* checking whether the namespace can be loaded with stated dependencies ... OK
* checking whether the namespace can be unloaded cleanly ... OK
* checking dependencies in R code ... OK
* checking S3 generic/method consistency ... OK
* checking replacement functions ... OK
* checking foreign function calls ... OK
* checking R code for possible problems ... NOTE
ProfileCleanUp: no visible global function definition for ‘as.dist’
plotPeak: no visible global function definition for ‘mtext’
plotPeak: no visible global function definition for ‘rect’
plotPeak: no visible global function definition for ‘gray’
plotPeak: no visible global function definition for ‘matlines’
Undefined global functions or variables:
as.dist gray matlines mtext rect
Consider adding
importFrom("grDevices", "gray")
importFrom("graphics", "matlines", "mtext", "rect")
importFrom("stats", "as.dist")
to your NAMESPACE file.
* checking Rd files ... OK
* checking Rd metadata ... OK
* checking Rd cross-references ... OK
* checking for missing documentation entries ... OK
* checking for code/documentation mismatches ... OK
* checking Rd \usage sections ... OK
* checking Rd contents ... OK
* checking for unstated dependencies in examples ... OK
* checking line endings in C/C++/Fortran sources/headers ... OK
* checking compiled code ... OK
* checking sizes of PDF files under ‘inst/doc’ ... OK
* checking installed files from ‘inst/doc’ ... OK
* checking files in ‘vignettes’ ... OK
* checking examples ... OK
Examples with CPU or elapsed time > 5s
user system elapsed
RIcorrect 14.835 0.532 15.653
* checking for unstated dependencies in vignettes ... OK
* checking package vignettes in ‘inst/doc’ ... OK
* checking running R code from vignettes ... SKIPPED
* checking re-building of vignette outputs ... SKIPPED
* checking PDF version of manual ... OK
* DONE
Status: 2 NOTEs
See
‘/Users/biocbuild/bbs-3.6-bioc/meat/TargetSearch.Rcheck/00check.log’
for details.
TargetSearch.Rcheck/00install.out
* installing *source* package ‘TargetSearch’ ... ** libs clang -I/Library/Frameworks/R.framework/Resources/include -DNDEBUG -I/usr/local/include -fPIC -Wall -g -O2 -c Rinit.c -o Rinit.o clang -I/Library/Frameworks/R.framework/Resources/include -DNDEBUG -I/usr/local/include -fPIC -Wall -g -O2 -c file.c -o file.o clang -I/Library/Frameworks/R.framework/Resources/include -DNDEBUG -I/usr/local/include -fPIC -Wall -g -O2 -c find_peaks.c -o find_peaks.o clang -I/Library/Frameworks/R.framework/Resources/include -DNDEBUG -I/usr/local/include -fPIC -Wall -g -O2 -c getLine.c -o getLine.o clang -I/Library/Frameworks/R.framework/Resources/include -DNDEBUG -I/usr/local/include -fPIC -Wall -g -O2 -c hpf.c -o hpf.o clang -I/Library/Frameworks/R.framework/Resources/include -DNDEBUG -I/usr/local/include -fPIC -Wall -g -O2 -c ncdf.c -o ncdf.o clang -I/Library/Frameworks/R.framework/Resources/include -DNDEBUG -I/usr/local/include -fPIC -Wall -g -O2 -c netcdf_peak_finding.c -o netcdf_peak_finding.o clang -I/Library/Frameworks/R.framework/Resources/include -DNDEBUG -I/usr/local/include -fPIC -Wall -g -O2 -c peakExtraction.c -o peakExtraction.o clang -I/Library/Frameworks/R.framework/Resources/include -DNDEBUG -I/usr/local/include -fPIC -Wall -g -O2 -c ppc.c -o ppc.o clang++ -dynamiclib -Wl,-headerpad_max_install_names -undefined dynamic_lookup -single_module -multiply_defined suppress -L/Library/Frameworks/R.framework/Resources/lib -L/usr/local/lib -o TargetSearch.so Rinit.o file.o find_peaks.o getLine.o hpf.o ncdf.o netcdf_peak_finding.o peakExtraction.o ppc.o -F/Library/Frameworks/R.framework/.. -framework R -Wl,-framework -Wl,CoreFoundation installing to /Users/biocbuild/bbs-3.6-bioc/meat/TargetSearch.Rcheck/TargetSearch/libs ** R ** inst ** preparing package for lazy loading ** help *** installing help indices ** building package indices ** installing vignettes ** testing if installed package can be loaded * DONE (TargetSearch)
TargetSearch.Rcheck/TargetSearch-Ex.timings
| name | user | system | elapsed | |
| FAMEoutliers | 0.112 | 0.013 | 0.129 | |
| FindPeaks | 0.342 | 0.022 | 0.379 | |
| ImportFameSettings | 0.011 | 0.001 | 0.012 | |
| ImportLibrary | 0.020 | 0.002 | 0.021 | |
| ImportSamples | 0.004 | 0.001 | 0.006 | |
| NetCDFPeakFinding | 1.218 | 0.090 | 1.357 | |
| Profile | 1.692 | 0.084 | 1.798 | |
| ProfileCleanUp | 1.470 | 0.062 | 1.551 | |
| RIcorrect | 14.835 | 0.532 | 15.653 | |
| fixRI | 1.547 | 0.057 | 1.650 | |
| medianRILib | 0.679 | 0.024 | 0.709 | |
| peakFind | 0.358 | 0.014 | 0.382 | |
| plotFAME | 0.012 | 0.003 | 0.014 | |
| plotPeak | 0.340 | 0.019 | 0.370 | |
| plotPeakSimple | 0.672 | 0.030 | 0.726 | |
| plotRIdev | 0.549 | 0.032 | 0.600 | |
| plotSpectra | 0.348 | 0.014 | 0.371 | |
| quantMatrix | 1.177 | 0.052 | 1.253 | |
| ri2rt | 0.006 | 0.001 | 0.006 | |
| riMatrix | 1.396 | 0.053 | 1.478 | |
| rt2ri | 0.005 | 0.000 | 0.005 | |
| sampleRI | 0.702 | 0.025 | 0.744 | |
| tsLib-class | 0.007 | 0.001 | 0.008 | |
| tsMSdata-class | 0.001 | 0.000 | 0.002 | |
| tsProfile-class | 0.002 | 0.001 | 0.002 | |
| tsRim-class | 0.003 | 0.000 | 0.003 | |
| tsSample-class | 0.037 | 0.003 | 0.040 | |
| writeLibText | 0.035 | 0.003 | 0.037 | |