| Back to Multiple platform build/check report for BioC 3.6 | 
  | 
This page was generated on 2018-04-12 13:27:42 -0400 (Thu, 12 Apr 2018).
| Package 1330/1472 | Hostname | OS / Arch | INSTALL | BUILD | CHECK | BUILD BIN | ||||||
| SpidermiR 1.8.2 Claudia Cava 
  | malbec1 | Linux (Ubuntu 16.04.1 LTS) / x86_64 | OK | OK | OK | |||||||
| tokay1 | Windows Server 2012 R2 Standard / x64 | [ OK ] | OK | OK | OK | |||||||
| veracruz1 | OS X 10.11.6 El Capitan / x86_64 | OK | OK | OK | OK | 
| Package: SpidermiR | 
| Version: 1.8.2 | 
| Command: rm -rf SpidermiR.buildbin-libdir && mkdir SpidermiR.buildbin-libdir && C:\cygwin\bin\curl.exe -O https://malbec1.bioconductor.org/BBS/3.6/bioc/src/contrib/SpidermiR_1.8.2.tar.gz && C:\Users\biocbuild\bbs-3.6-bioc\R\bin\R.exe CMD INSTALL --build --library=SpidermiR.buildbin-libdir --merge-multiarch SpidermiR_1.8.2.tar.gz && C:\Users\biocbuild\bbs-3.6-bioc\R\bin\R.exe CMD INSTALL SpidermiR_1.8.2.zip && rm SpidermiR_1.8.2.tar.gz SpidermiR_1.8.2.zip | 
| StartedAt: 2018-04-11 18:52:27 -0400 (Wed, 11 Apr 2018) | 
| EndedAt: 2018-04-11 18:53:17 -0400 (Wed, 11 Apr 2018) | 
| EllapsedTime: 50.1 seconds | 
| RetCode: 0 | 
| Status: OK | 
##############################################################################
##############################################################################
###
### Running command:
###
###   rm -rf SpidermiR.buildbin-libdir && mkdir SpidermiR.buildbin-libdir  && C:\cygwin\bin\curl.exe -O https://malbec1.bioconductor.org/BBS/3.6/bioc/src/contrib/SpidermiR_1.8.2.tar.gz && C:\Users\biocbuild\bbs-3.6-bioc\R\bin\R.exe CMD INSTALL --build --library=SpidermiR.buildbin-libdir --merge-multiarch SpidermiR_1.8.2.tar.gz && C:\Users\biocbuild\bbs-3.6-bioc\R\bin\R.exe CMD INSTALL SpidermiR_1.8.2.zip  && rm SpidermiR_1.8.2.tar.gz SpidermiR_1.8.2.zip
###
##############################################################################
##############################################################################
  % Total    % Received % Xferd  Average Speed   Time    Time     Time  Current
                                 Dload  Upload   Total   Spent    Left  Speed
  0     0    0     0    0     0      0      0 --:--:-- --:--:-- --:--:--     0
100  227k  100  227k    0     0  5671k      0 --:--:-- --:--:-- --:--:-- 6139k
install for i386
* installing *source* package 'SpidermiR' ...
** R
** data
*** moving datasets to lazyload DB
** inst
** preparing package for lazy loading
** help
*** installing help indices
  converting help for package 'SpidermiR'
    finding HTML links ... done
    Case_Study1_loading_1_network           html  
    Case_Study1_loading_2_network           html  
    Case_Study1_loading_3_network           html  
    Case_Study1_loading_4_network           html  
    Case_Study2_loading_1_network           html  
    Case_Study2_loading_2_network           html  
    Case_Study2_loading_3_network           html  
    Data_CANCER_normUQ_filt                 html  
    SpidermiR                               html  
    SpidermiRanalyze_Community_detection    html  
    SpidermiRanalyze_Community_detection_bi
                                            html  
    SpidermiRanalyze_Community_detection_net
                                            html  
    SpidermiRanalyze_degree_centrality      html  
    SpidermiRanalyze_direct_net             html  
    SpidermiRanalyze_direct_subnetwork      html  
    SpidermiRanalyze_mirna_gene_complnet    html  
    SpidermiRanalyze_mirna_network          html  
    SpidermiRanalyze_mirnanet_pharm         html  
    SpidermiRanalyze_subnetwork_neigh       html  
    SpidermiRdownload_miRNAextra_cir        html  
    SpidermiRdownload_miRNAprediction       html  
    SpidermiRdownload_miRNAvalidate         html  
    SpidermiRdownload_net                   html  
    SpidermiRdownload_pharmacomir           html  
    SpidermiRprepare_NET                    html  
    SpidermiRquery_disease                  html  
    SpidermiRquery_networks_type            html  
    SpidermiRquery_spec_networks            html  
    SpidermiRquery_species                  html  
    SpidermiRvisualize_3Dbarplot            html  
    SpidermiRvisualize_BI                   html  
    SpidermiRvisualize_adj_matrix           html  
    SpidermiRvisualize_degree_dist          html  
    SpidermiRvisualize_direction            html  
    SpidermiRvisualize_mirnanet             html  
    SpidermiRvisualize_plot_target          html  
    dataClin                                html  
** building package indices
** installing vignettes
** testing if installed package can be loaded
In R CMD INSTALL
install for x64
* installing *source* package 'SpidermiR' ...
** testing if installed package can be loaded
* MD5 sums
packaged installation of 'SpidermiR' as SpidermiR_1.8.2.zip
* DONE (SpidermiR)
In R CMD INSTALL
In R CMD INSTALL
* installing to library 'C:/Users/biocbuild/bbs-3.6-bioc/R/library'
package 'SpidermiR' successfully unpacked and MD5 sums checked
In R CMD INSTALL