| Back to Multiple platform build/check report for BioC 3.6 | 
 | 
This page was generated on 2018-04-12 13:23:09 -0400 (Thu, 12 Apr 2018).
| Package 1324/1472 | Hostname | OS / Arch | INSTALL | BUILD | CHECK | BUILD BIN | ||||||
| SpacePAC 1.16.0 Gregory Ryslik 
 | malbec1 | Linux (Ubuntu 16.04.1 LTS) / x86_64 | OK | OK | OK |  | ||||||
| tokay1 | Windows Server 2012 R2 Standard / x64 | [ OK ] | OK | OK | OK |  | ||||||
| veracruz1 | OS X 10.11.6 El Capitan / x86_64 | OK | OK | OK | OK |  | 
| Package: SpacePAC | 
| Version: 1.16.0 | 
| Command: rm -rf SpacePAC.buildbin-libdir && mkdir SpacePAC.buildbin-libdir && C:\cygwin\bin\curl.exe -O https://malbec1.bioconductor.org/BBS/3.6/bioc/src/contrib/SpacePAC_1.16.0.tar.gz && C:\Users\biocbuild\bbs-3.6-bioc\R\bin\R.exe CMD INSTALL --build --library=SpacePAC.buildbin-libdir --merge-multiarch SpacePAC_1.16.0.tar.gz && C:\Users\biocbuild\bbs-3.6-bioc\R\bin\R.exe CMD INSTALL SpacePAC_1.16.0.zip && rm SpacePAC_1.16.0.tar.gz SpacePAC_1.16.0.zip | 
| StartedAt: 2018-04-11 18:34:47 -0400 (Wed, 11 Apr 2018) | 
| EndedAt: 2018-04-11 18:35:13 -0400 (Wed, 11 Apr 2018) | 
| EllapsedTime: 25.6 seconds | 
| RetCode: 0 | 
| Status: OK | 
##############################################################################
##############################################################################
###
### Running command:
###
###   rm -rf SpacePAC.buildbin-libdir && mkdir SpacePAC.buildbin-libdir  && C:\cygwin\bin\curl.exe -O https://malbec1.bioconductor.org/BBS/3.6/bioc/src/contrib/SpacePAC_1.16.0.tar.gz && C:\Users\biocbuild\bbs-3.6-bioc\R\bin\R.exe CMD INSTALL --build --library=SpacePAC.buildbin-libdir --merge-multiarch SpacePAC_1.16.0.tar.gz && C:\Users\biocbuild\bbs-3.6-bioc\R\bin\R.exe CMD INSTALL SpacePAC_1.16.0.zip  && rm SpacePAC_1.16.0.tar.gz SpacePAC_1.16.0.zip
###
##############################################################################
##############################################################################
  % Total    % Received % Xferd  Average Speed   Time    Time     Time  Current
                                 Dload  Upload   Total   Spent    Left  Speed
  0     0    0     0    0     0      0      0 --:--:-- --:--:-- --:--:--     0
100  782k  100  782k    0     0  26.3M      0 --:--:-- --:--:-- --:--:-- 29.3M
install for i386
* installing *source* package 'SpacePAC' ...
** R
** inst
** preparing package for lazy loading
** help
*** installing help indices
  converting help for package 'SpacePAC'
    finding HTML links ... done
    SpaceClust                              html  
    SpacePAC-package                        html  
    make.3D.Sphere                          html  
** building package indices
** installing vignettes
** testing if installed package can be loaded
In R CMD INSTALL
install for x64
* installing *source* package 'SpacePAC' ...
** testing if installed package can be loaded
* MD5 sums
packaged installation of 'SpacePAC' as SpacePAC_1.16.0.zip
* DONE (SpacePAC)
In R CMD INSTALL
In R CMD INSTALL
* installing to library 'C:/Users/biocbuild/bbs-3.6-bioc/R/library'
package 'SpacePAC' successfully unpacked and MD5 sums checked
In R CMD INSTALL