| Back to Multiple platform build/check report for BioC 3.6 |
|
This page was generated on 2018-04-12 13:30:07 -0400 (Thu, 12 Apr 2018).
| Package 1305/1472 | Hostname | OS / Arch | INSTALL | BUILD | CHECK | BUILD BIN | ||||||
| SingleCellExperiment 1.0.0 Davide Risso
| malbec1 | Linux (Ubuntu 16.04.1 LTS) / x86_64 | OK | OK | OK | |||||||
| tokay1 | Windows Server 2012 R2 Standard / x64 | [ OK ] | OK | OK | OK | |||||||
| veracruz1 | OS X 10.11.6 El Capitan / x86_64 | OK | OK | OK | OK |
| Package: SingleCellExperiment |
| Version: 1.0.0 |
| Command: rm -rf SingleCellExperiment.buildbin-libdir && mkdir SingleCellExperiment.buildbin-libdir && C:\cygwin\bin\curl.exe -O https://malbec1.bioconductor.org/BBS/3.6/bioc/src/contrib/SingleCellExperiment_1.0.0.tar.gz && C:\Users\biocbuild\bbs-3.6-bioc\R\bin\R.exe CMD INSTALL --build --library=SingleCellExperiment.buildbin-libdir --merge-multiarch SingleCellExperiment_1.0.0.tar.gz && C:\Users\biocbuild\bbs-3.6-bioc\R\bin\R.exe CMD INSTALL SingleCellExperiment_1.0.0.zip && rm SingleCellExperiment_1.0.0.tar.gz SingleCellExperiment_1.0.0.zip |
| StartedAt: 2018-04-11 18:41:02 -0400 (Wed, 11 Apr 2018) |
| EndedAt: 2018-04-11 18:41:38 -0400 (Wed, 11 Apr 2018) |
| EllapsedTime: 36.1 seconds |
| RetCode: 0 |
| Status: OK |
##############################################################################
##############################################################################
###
### Running command:
###
### rm -rf SingleCellExperiment.buildbin-libdir && mkdir SingleCellExperiment.buildbin-libdir && C:\cygwin\bin\curl.exe -O https://malbec1.bioconductor.org/BBS/3.6/bioc/src/contrib/SingleCellExperiment_1.0.0.tar.gz && C:\Users\biocbuild\bbs-3.6-bioc\R\bin\R.exe CMD INSTALL --build --library=SingleCellExperiment.buildbin-libdir --merge-multiarch SingleCellExperiment_1.0.0.tar.gz && C:\Users\biocbuild\bbs-3.6-bioc\R\bin\R.exe CMD INSTALL SingleCellExperiment_1.0.0.zip && rm SingleCellExperiment_1.0.0.tar.gz SingleCellExperiment_1.0.0.zip
###
##############################################################################
##############################################################################
% Total % Received % Xferd Average Speed Time Time Time Current
Dload Upload Total Spent Left Speed
0 0 0 0 0 0 0 0 --:--:-- --:--:-- --:--:-- 0
0 19401 0 0 0 0 0 0 --:--:-- --:--:-- --:--:-- 0
100 19401 100 19401 0 0 98575 0 --:--:-- --:--:-- --:--:-- 99492
install for i386
* installing *source* package 'SingleCellExperiment' ...
** R
** inst
** preparing package for lazy loading
** help
*** installing help indices
converting help for package 'SingleCellExperiment'
finding HTML links ... done
SingleCellExperiment html
finding level-2 HTML links ... done
combine html
isSpike html
misc html
namedAssays html
reducedDims html
sizeFactors html
subset html
** building package indices
** installing vignettes
** testing if installed package can be loaded
In R CMD INSTALL
install for x64
* installing *source* package 'SingleCellExperiment' ...
** testing if installed package can be loaded
* MD5 sums
packaged installation of 'SingleCellExperiment' as SingleCellExperiment_1.0.0.zip
* DONE (SingleCellExperiment)
In R CMD INSTALL
In R CMD INSTALL
* installing to library 'C:/Users/biocbuild/bbs-3.6-bioc/R/library'
package 'SingleCellExperiment' successfully unpacked and MD5 sums checked
In R CMD INSTALL