| Back to Multiple platform build/check report for BioC 3.6 |
|
This page was generated on 2018-04-12 13:37:15 -0400 (Thu, 12 Apr 2018).
| Package 1282/1472 | Hostname | OS / Arch | INSTALL | BUILD | CHECK | BUILD BIN | ||||||
| SeqVarTools 1.16.1 Stephanie M. Gogarten
| malbec1 | Linux (Ubuntu 16.04.1 LTS) / x86_64 | OK | OK | OK | |||||||
| tokay1 | Windows Server 2012 R2 Standard / x64 | OK | OK | OK | OK | |||||||
| veracruz1 | OS X 10.11.6 El Capitan / x86_64 | OK | OK | OK | [ OK ] |
| Package: SeqVarTools |
| Version: 1.16.1 |
| Command: rm -rf SeqVarTools.buildbin-libdir && mkdir SeqVarTools.buildbin-libdir && /Users/biocbuild/BBS/utils/build-universal.sh SeqVarTools_1.16.1.tar.gz /Library/Frameworks/R.framework/Versions/Current/Resources/bin/R SeqVarTools.buildbin-libdir |
| StartedAt: 2018-04-12 12:15:06 -0400 (Thu, 12 Apr 2018) |
| EndedAt: 2018-04-12 12:15:21 -0400 (Thu, 12 Apr 2018) |
| EllapsedTime: 15.7 seconds |
| RetCode: 0 |
| Status: OK |
| PackageFile: SeqVarTools_1.16.1.tgz |
| PackageFileSize: 754.4 KiB |
############################################################################## ############################################################################## ### ### Running command: ### ### rm -rf SeqVarTools.buildbin-libdir && mkdir SeqVarTools.buildbin-libdir && /Users/biocbuild/BBS/utils/build-universal.sh SeqVarTools_1.16.1.tar.gz /Library/Frameworks/R.framework/Versions/Current/Resources/bin/R SeqVarTools.buildbin-libdir ### ############################################################################## ############################################################################## >>>>>>> >>>>>>> INSTALLATION WITH 'R CMD INSTALL --preclean --no-multiarch --library=SeqVarTools.buildbin-libdir SeqVarTools_1.16.1.tar.gz' >>>>>>> * installing *source* package ‘SeqVarTools’ ... ** R ** data *** moving datasets to lazyload DB ** inst ** preparing package for lazy loading ** help *** installing help indices ** building package indices ** installing vignettes ** testing if installed package can be loaded * DONE (SeqVarTools)