| Back to Multiple platform build/check report for BioC 3.6 |
|
This page was generated on 2018-04-12 13:23:23 -0400 (Thu, 12 Apr 2018).
| Package 1363/1472 | Hostname | OS / Arch | INSTALL | BUILD | CHECK | BUILD BIN | ||||||
| STRINGdb 1.18.0 Damian Szklarczyk
| malbec1 | Linux (Ubuntu 16.04.1 LTS) / x86_64 | OK | OK | OK | |||||||
| tokay1 | Windows Server 2012 R2 Standard / x64 | [ OK ] | OK | OK | OK | |||||||
| veracruz1 | OS X 10.11.6 El Capitan / x86_64 | OK | OK | OK | OK |
| Package: STRINGdb |
| Version: 1.18.0 |
| Command: rm -rf STRINGdb.buildbin-libdir && mkdir STRINGdb.buildbin-libdir && C:\cygwin\bin\curl.exe -O https://malbec1.bioconductor.org/BBS/3.6/bioc/src/contrib/STRINGdb_1.18.0.tar.gz && C:\Users\biocbuild\bbs-3.6-bioc\R\bin\R.exe CMD INSTALL --build --library=STRINGdb.buildbin-libdir --merge-multiarch STRINGdb_1.18.0.tar.gz && C:\Users\biocbuild\bbs-3.6-bioc\R\bin\R.exe CMD INSTALL STRINGdb_1.18.0.zip && rm STRINGdb_1.18.0.tar.gz STRINGdb_1.18.0.zip |
| StartedAt: 2018-04-11 18:25:36 -0400 (Wed, 11 Apr 2018) |
| EndedAt: 2018-04-11 18:27:27 -0400 (Wed, 11 Apr 2018) |
| EllapsedTime: 110.7 seconds |
| RetCode: 0 |
| Status: OK |
##############################################################################
##############################################################################
###
### Running command:
###
### rm -rf STRINGdb.buildbin-libdir && mkdir STRINGdb.buildbin-libdir && C:\cygwin\bin\curl.exe -O https://malbec1.bioconductor.org/BBS/3.6/bioc/src/contrib/STRINGdb_1.18.0.tar.gz && C:\Users\biocbuild\bbs-3.6-bioc\R\bin\R.exe CMD INSTALL --build --library=STRINGdb.buildbin-libdir --merge-multiarch STRINGdb_1.18.0.tar.gz && C:\Users\biocbuild\bbs-3.6-bioc\R\bin\R.exe CMD INSTALL STRINGdb_1.18.0.zip && rm STRINGdb_1.18.0.tar.gz STRINGdb_1.18.0.zip
###
##############################################################################
##############################################################################
% Total % Received % Xferd Average Speed Time Time Time Current
Dload Upload Total Spent Left Speed
0 0 0 0 0 0 0 0 --:--:-- --:--:-- --:--:-- 0
100 1066k 100 1066k 0 0 33.3M 0 --:--:-- --:--:-- --:--:-- 37.2M
install for i386
* installing *source* package 'STRINGdb' ...
** R
** data
** inst
** preparing package for lazy loading
** help
*** installing help indices
converting help for package 'STRINGdb'
finding HTML links ... done
STRINGdb-class html
add_diff_exp_color html
add_proteins_description html
benchmark_ppi html
benchmark_ppi_pathway_view html
coeffOfvar html
delColDf html
diff_exp_example1 html
downloadAbsentFile html
downloadAbsentFileSTRING html
get_STRING_species html
get_aliases html
get_annotations html
get_annotations_desc html
get_bioc_graph html
get_clusters html
get_enrichment html
get_graph html
get_homologs html
get_homologs_besthits html
get_interactions html
get_link html
get_neighbors html
get_png html
get_ppi_enrichment html
get_ppi_enrichment_full html
get_proteins html
get_pubmed html
get_pubmed_interaction html
get_subnetwork html
get_summary html
get_term_proteins html
interactions html
load html
load_all html
map html
mp html
multi_map_df html
plot_network html
plot_ppi_enrichment html
plot_ppi_enrichment_graph html
post_payload html
ppi_enrichment html
ppi_enrichment_full html
ppie.compLambda html
ppie.compLambdaL1L2 html
ppie.compPij html
ppie.getNumEdgesBetween html
remove_homologous_interactions html
renameColDf html
set_background html
** building package indices
** installing vignettes
** testing if installed package can be loaded
In R CMD INSTALL
install for x64
* installing *source* package 'STRINGdb' ...
** testing if installed package can be loaded
* MD5 sums
packaged installation of 'STRINGdb' as STRINGdb_1.18.0.zip
* DONE (STRINGdb)
In R CMD INSTALL
In R CMD INSTALL
* installing to library 'C:/Users/biocbuild/bbs-3.6-bioc/R/library'
package 'STRINGdb' successfully unpacked and MD5 sums checked
In R CMD INSTALL