| Back to Multiple platform build/check report for BioC 3.6 |
|
This page was generated on 2018-04-12 13:19:35 -0400 (Thu, 12 Apr 2018).
| Package 1329/1472 | Hostname | OS / Arch | INSTALL | BUILD | CHECK | BUILD BIN | ||||||
| SPIA 2.30.0 Adi Laurentiu Tarca
| malbec1 | Linux (Ubuntu 16.04.1 LTS) / x86_64 | OK | OK | OK | |||||||
| tokay1 | Windows Server 2012 R2 Standard / x64 | [ OK ] | OK | OK | OK | |||||||
| veracruz1 | OS X 10.11.6 El Capitan / x86_64 | OK | OK | OK | OK |
| Package: SPIA |
| Version: 2.30.0 |
| Command: rm -rf SPIA.buildbin-libdir && mkdir SPIA.buildbin-libdir && C:\cygwin\bin\curl.exe -O https://malbec1.bioconductor.org/BBS/3.6/bioc/src/contrib/SPIA_2.30.0.tar.gz && C:\Users\biocbuild\bbs-3.6-bioc\R\bin\R.exe CMD INSTALL --build --library=SPIA.buildbin-libdir --merge-multiarch SPIA_2.30.0.tar.gz && C:\Users\biocbuild\bbs-3.6-bioc\R\bin\R.exe CMD INSTALL SPIA_2.30.0.zip && rm SPIA_2.30.0.tar.gz SPIA_2.30.0.zip |
| StartedAt: 2018-04-11 18:18:32 -0400 (Wed, 11 Apr 2018) |
| EndedAt: 2018-04-11 18:19:13 -0400 (Wed, 11 Apr 2018) |
| EllapsedTime: 40.8 seconds |
| RetCode: 0 |
| Status: OK |
##############################################################################
##############################################################################
###
### Running command:
###
### rm -rf SPIA.buildbin-libdir && mkdir SPIA.buildbin-libdir && C:\cygwin\bin\curl.exe -O https://malbec1.bioconductor.org/BBS/3.6/bioc/src/contrib/SPIA_2.30.0.tar.gz && C:\Users\biocbuild\bbs-3.6-bioc\R\bin\R.exe CMD INSTALL --build --library=SPIA.buildbin-libdir --merge-multiarch SPIA_2.30.0.tar.gz && C:\Users\biocbuild\bbs-3.6-bioc\R\bin\R.exe CMD INSTALL SPIA_2.30.0.zip && rm SPIA_2.30.0.tar.gz SPIA_2.30.0.zip
###
##############################################################################
##############################################################################
% Total % Received % Xferd Average Speed Time Time Time Current
Dload Upload Total Spent Left Speed
0 0 0 0 0 0 0 0 --:--:-- --:--:-- --:--:-- 0
100 2332k 100 2332k 0 0 51.3M 0 --:--:-- --:--:-- --:--:-- 55.5M
install for i386
* installing *source* package 'SPIA' ...
** R
** data
** inst
** preparing package for lazy loading
** help
*** installing help indices
converting help for package 'SPIA'
finding HTML links ... done
SPIA-internal html
Vessels html
colorectalcancer html
combfunc html
makeSPIAdata html
plotP html
spia html
** building package indices
** installing vignettes
** testing if installed package can be loaded
In R CMD INSTALL
install for x64
* installing *source* package 'SPIA' ...
** testing if installed package can be loaded
* MD5 sums
packaged installation of 'SPIA' as SPIA_2.30.0.zip
* DONE (SPIA)
In R CMD INSTALL
In R CMD INSTALL
* installing to library 'C:/Users/biocbuild/bbs-3.6-bioc/R/library'
package 'SPIA' successfully unpacked and MD5 sums checked
In R CMD INSTALL