| Back to Multiple platform build/check report for BioC 3.6 |
|
This page was generated on 2018-04-12 13:29:19 -0400 (Thu, 12 Apr 2018).
| Package 1226/1472 | Hostname | OS / Arch | INSTALL | BUILD | CHECK | BUILD BIN | ||||||
| RTNduals 1.2.0 Vinicius Chagas
| malbec1 | Linux (Ubuntu 16.04.1 LTS) / x86_64 | OK | OK | OK | |||||||
| tokay1 | Windows Server 2012 R2 Standard / x64 | [ OK ] | OK | WARNINGS | OK | |||||||
| veracruz1 | OS X 10.11.6 El Capitan / x86_64 | OK | OK | OK | OK |
| Package: RTNduals |
| Version: 1.2.0 |
| Command: rm -rf RTNduals.buildbin-libdir && mkdir RTNduals.buildbin-libdir && C:\cygwin\bin\curl.exe -O https://malbec1.bioconductor.org/BBS/3.6/bioc/src/contrib/RTNduals_1.2.0.tar.gz && C:\Users\biocbuild\bbs-3.6-bioc\R\bin\R.exe CMD INSTALL --build --library=RTNduals.buildbin-libdir --merge-multiarch RTNduals_1.2.0.tar.gz && C:\Users\biocbuild\bbs-3.6-bioc\R\bin\R.exe CMD INSTALL RTNduals_1.2.0.zip && rm RTNduals_1.2.0.tar.gz RTNduals_1.2.0.zip |
| StartedAt: 2018-04-11 18:28:07 -0400 (Wed, 11 Apr 2018) |
| EndedAt: 2018-04-11 18:28:45 -0400 (Wed, 11 Apr 2018) |
| EllapsedTime: 38.0 seconds |
| RetCode: 0 |
| Status: OK |
##############################################################################
##############################################################################
###
### Running command:
###
### rm -rf RTNduals.buildbin-libdir && mkdir RTNduals.buildbin-libdir && C:\cygwin\bin\curl.exe -O https://malbec1.bioconductor.org/BBS/3.6/bioc/src/contrib/RTNduals_1.2.0.tar.gz && C:\Users\biocbuild\bbs-3.6-bioc\R\bin\R.exe CMD INSTALL --build --library=RTNduals.buildbin-libdir --merge-multiarch RTNduals_1.2.0.tar.gz && C:\Users\biocbuild\bbs-3.6-bioc\R\bin\R.exe CMD INSTALL RTNduals_1.2.0.zip && rm RTNduals_1.2.0.tar.gz RTNduals_1.2.0.zip
###
##############################################################################
##############################################################################
% Total % Received % Xferd Average Speed Time Time Time Current
Dload Upload Total Spent Left Speed
0 0 0 0 0 0 0 0 --:--:-- --:--:-- --:--:-- 0
100 94463 100 94463 0 0 3916k 0 --:--:-- --:--:-- --:--:-- 4612k
install for i386
* installing *source* package 'RTNduals' ...
** R
** inst
** preparing package for lazy loading
** help
*** installing help indices
converting help for package 'RTNduals'
finding HTML links ... done
MBR-class html
Rd warning: C:/Users/biocbuild/bbs-3.6-bioc/tmpdir/RtmpMf1ejt/R.INSTALL8c047e87973/RTNduals/man/MBR-class.Rd:30: missing file link 'mbrAssociation'
Rd warning: C:/Users/biocbuild/bbs-3.6-bioc/tmpdir/RtmpMf1ejt/R.INSTALL8c047e87973/RTNduals/man/MBR-class.Rd:46: missing file link 'mbrPreprocess'
Rd warning: C:/Users/biocbuild/bbs-3.6-bioc/tmpdir/RtmpMf1ejt/R.INSTALL8c047e87973/RTNduals/man/MBR-class.Rd:47: missing file link 'tni2mbrPreprocess'
RTNduals-package html
Rd warning: C:/Users/biocbuild/bbs-3.6-bioc/tmpdir/RtmpMf1ejt/R.INSTALL8c047e87973/RTNduals/man/RTNduals-package.Rd:32: missing file link 'mbrPreprocess'
Rd warning: C:/Users/biocbuild/bbs-3.6-bioc/tmpdir/RtmpMf1ejt/R.INSTALL8c047e87973/RTNduals/man/RTNduals-package.Rd:34: missing file link 'mbrPermutation'
Rd warning: C:/Users/biocbuild/bbs-3.6-bioc/tmpdir/RtmpMf1ejt/R.INSTALL8c047e87973/RTNduals/man/RTNduals-package.Rd:36: missing file link 'mbrBootstrap'
Rd warning: C:/Users/biocbuild/bbs-3.6-bioc/tmpdir/RtmpMf1ejt/R.INSTALL8c047e87973/RTNduals/man/RTNduals-package.Rd:38: missing file link 'mbrDpiFilter'
Rd warning: C:/Users/biocbuild/bbs-3.6-bioc/tmpdir/RtmpMf1ejt/R.INSTALL8c047e87973/RTNduals/man/RTNduals-package.Rd:40: missing file link 'mbrAssociation'
Rd warning: C:/Users/biocbuild/bbs-3.6-bioc/tmpdir/RtmpMf1ejt/R.INSTALL8c047e87973/RTNduals/man/RTNduals-package.Rd:42: missing file link 'mbrDuals'
Rd warning: C:/Users/biocbuild/bbs-3.6-bioc/tmpdir/RtmpMf1ejt/R.INSTALL8c047e87973/RTNduals/man/RTNduals-package.Rd:44: missing file link 'tni2mbrPreprocess'
mbrAssociation-methods html
Rd warning: C:/Users/biocbuild/bbs-3.6-bioc/tmpdir/RtmpMf1ejt/R.INSTALL8c047e87973/RTNduals/man/mbrAssociation-methods.Rd:15: missing file link 'mbrPermutation'
Rd warning: C:/Users/biocbuild/bbs-3.6-bioc/tmpdir/RtmpMf1ejt/R.INSTALL8c047e87973/RTNduals/man/mbrAssociation-methods.Rd:16: missing file link 'mbrBootstrap'
Rd warning: C:/Users/biocbuild/bbs-3.6-bioc/tmpdir/RtmpMf1ejt/R.INSTALL8c047e87973/RTNduals/man/mbrAssociation-methods.Rd:17: missing file link 'mbrDpiFilter'
mbrBootstrap-methods html
Rd warning: C:/Users/biocbuild/bbs-3.6-bioc/tmpdir/RtmpMf1ejt/R.INSTALL8c047e87973/RTNduals/man/mbrBootstrap-methods.Rd:13: missing file link 'mbrPermutation'
mbrDpiFilter-methods html
Rd warning: C:/Users/biocbuild/bbs-3.6-bioc/tmpdir/RtmpMf1ejt/R.INSTALL8c047e87973/RTNduals/man/mbrDpiFilter-methods.Rd:14: missing file link 'mbrPermutation'
Rd warning: C:/Users/biocbuild/bbs-3.6-bioc/tmpdir/RtmpMf1ejt/R.INSTALL8c047e87973/RTNduals/man/mbrDpiFilter-methods.Rd:15: missing file link 'mbrBootstrap'
mbrDuals-methods html
Rd warning: C:/Users/biocbuild/bbs-3.6-bioc/tmpdir/RtmpMf1ejt/R.INSTALL8c047e87973/RTNduals/man/mbrDuals-methods.Rd:14: missing file link 'mbrAssociation'
mbrGet-methods html
mbrPermutation-methods html
mbrPlotDuals html
Rd warning: C:/Users/biocbuild/bbs-3.6-bioc/tmpdir/RtmpMf1ejt/R.INSTALL8c047e87973/RTNduals/man/mbrPlotDuals.Rd:12: missing file link 'mbrAssociation'
mbrPreprocess-methods html
tni2mbrPreprocess-methods html
** building package indices
** installing vignettes
** testing if installed package can be loaded
In R CMD INSTALL
install for x64
* installing *source* package 'RTNduals' ...
** testing if installed package can be loaded
* MD5 sums
packaged installation of 'RTNduals' as RTNduals_1.2.0.zip
* DONE (RTNduals)
In R CMD INSTALL
In R CMD INSTALL
* installing to library 'C:/Users/biocbuild/bbs-3.6-bioc/R/library'
package 'RTNduals' successfully unpacked and MD5 sums checked
In R CMD INSTALL