| Back to Multiple platform build/check report for BioC 3.6 |
|
This page was generated on 2018-04-12 13:17:07 -0400 (Thu, 12 Apr 2018).
| Package 1201/1472 | Hostname | OS / Arch | INSTALL | BUILD | CHECK | BUILD BIN | ||||||
| ROC 1.54.0 Vince Carey
| malbec1 | Linux (Ubuntu 16.04.1 LTS) / x86_64 | OK | OK | OK | |||||||
| tokay1 | Windows Server 2012 R2 Standard / x64 | [ OK ] | OK | OK | OK | |||||||
| veracruz1 | OS X 10.11.6 El Capitan / x86_64 | OK | OK | OK | OK |
| Package: ROC |
| Version: 1.54.0 |
| Command: rm -rf ROC.buildbin-libdir && mkdir ROC.buildbin-libdir && C:\cygwin\bin\curl.exe -O https://malbec1.bioconductor.org/BBS/3.6/bioc/src/contrib/ROC_1.54.0.tar.gz && C:\Users\biocbuild\bbs-3.6-bioc\R\bin\R.exe CMD INSTALL --build --library=ROC.buildbin-libdir --merge-multiarch ROC_1.54.0.tar.gz && C:\Users\biocbuild\bbs-3.6-bioc\R\bin\R.exe CMD INSTALL ROC_1.54.0.zip && rm ROC_1.54.0.tar.gz ROC_1.54.0.zip |
| StartedAt: 2018-04-11 18:20:06 -0400 (Wed, 11 Apr 2018) |
| EndedAt: 2018-04-11 18:20:42 -0400 (Wed, 11 Apr 2018) |
| EllapsedTime: 36.2 seconds |
| RetCode: 0 |
| Status: OK |
##############################################################################
##############################################################################
###
### Running command:
###
### rm -rf ROC.buildbin-libdir && mkdir ROC.buildbin-libdir && C:\cygwin\bin\curl.exe -O https://malbec1.bioconductor.org/BBS/3.6/bioc/src/contrib/ROC_1.54.0.tar.gz && C:\Users\biocbuild\bbs-3.6-bioc\R\bin\R.exe CMD INSTALL --build --library=ROC.buildbin-libdir --merge-multiarch ROC_1.54.0.tar.gz && C:\Users\biocbuild\bbs-3.6-bioc\R\bin\R.exe CMD INSTALL ROC_1.54.0.zip && rm ROC_1.54.0.tar.gz ROC_1.54.0.zip
###
##############################################################################
##############################################################################
% Total % Received % Xferd Average Speed Time Time Time Current
Dload Upload Total Spent Left Speed
0 0 0 0 0 0 0 0 --:--:-- --:--:-- --:--:-- 0
100 16334 100 16334 0 0 671k 0 --:--:-- --:--:-- --:--:-- 797k
install for i386
* installing *source* package 'ROC' ...
** libs
C:/Rtools/mingw_32/bin/g++ -I"C:/Users/BIOCBU˜1/BBS-3˜1.6-B/R/include" -DNDEBUG -I"C:/local323/include" -O2 -Wall -mtune=generic -c ROC.cc -o ROC.o
C:/Rtools/mingw_32/bin/g++ -shared -s -static-libgcc -o ROC.dll tmp.def ROC.o -LC:/local323/lib/i386 -LC:/local323/lib -LC:/Users/BIOCBU˜1/BBS-3˜1.6-B/R/bin/i386 -lR
installing to C:/Users/biocbuild/bbs-3.6-bioc/meat/ROC.buildbin-libdir/ROC/libs/i386
** R
** preparing package for lazy loading
** help
*** installing help indices
converting help for package 'ROC'
finding HTML links ... done
AUC html
plot-methods html
rocc-class html
rocdemo.sca html
trapezint html
** building package indices
** installing vignettes
** testing if installed package can be loaded
In R CMD INSTALL
install for x64
* installing *source* package 'ROC' ...
** libs
C:/Rtools/mingw_64/bin/g++ -I"C:/Users/BIOCBU˜1/BBS-3˜1.6-B/R/include" -DNDEBUG -I"C:/local323/include" -O2 -Wall -mtune=generic -c ROC.cc -o ROC.o
C:/Rtools/mingw_64/bin/g++ -shared -s -static-libgcc -o ROC.dll tmp.def ROC.o -LC:/local323/lib/x64 -LC:/local323/lib -LC:/Users/BIOCBU˜1/BBS-3˜1.6-B/R/bin/x64 -lR
installing to C:/Users/biocbuild/bbs-3.6-bioc/meat/ROC.buildbin-libdir/ROC/libs/x64
** testing if installed package can be loaded
* MD5 sums
packaged installation of 'ROC' as ROC_1.54.0.zip
* DONE (ROC)
In R CMD INSTALL
In R CMD INSTALL
* installing to library 'C:/Users/biocbuild/bbs-3.6-bioc/R/library'
package 'ROC' successfully unpacked and MD5 sums checked
In R CMD INSTALL