| Back to Multiple platform build/check report for BioC 3.6 |
|
This page was generated on 2018-04-12 13:26:59 -0400 (Thu, 12 Apr 2018).
| Package 1077/1472 | Hostname | OS / Arch | INSTALL | BUILD | CHECK | BUILD BIN | ||||||
| Prostar 1.10.5 Samuel Wieczorek
| malbec1 | Linux (Ubuntu 16.04.1 LTS) / x86_64 | OK | OK | OK | |||||||
| tokay1 | Windows Server 2012 R2 Standard / x64 | [ OK ] | OK | OK | OK | |||||||
| veracruz1 | OS X 10.11.6 El Capitan / x86_64 | OK | OK | OK | OK |
| Package: Prostar |
| Version: 1.10.5 |
| Command: rm -rf Prostar.buildbin-libdir && mkdir Prostar.buildbin-libdir && C:\cygwin\bin\curl.exe -O https://malbec1.bioconductor.org/BBS/3.6/bioc/src/contrib/Prostar_1.10.5.tar.gz && C:\Users\biocbuild\bbs-3.6-bioc\R\bin\R.exe CMD INSTALL --build --library=Prostar.buildbin-libdir --merge-multiarch Prostar_1.10.5.tar.gz && C:\Users\biocbuild\bbs-3.6-bioc\R\bin\R.exe CMD INSTALL Prostar_1.10.5.zip && rm Prostar_1.10.5.tar.gz Prostar_1.10.5.zip |
| StartedAt: 2018-04-11 18:59:44 -0400 (Wed, 11 Apr 2018) |
| EndedAt: 2018-04-11 19:00:17 -0400 (Wed, 11 Apr 2018) |
| EllapsedTime: 32.9 seconds |
| RetCode: 0 |
| Status: OK |
##############################################################################
##############################################################################
###
### Running command:
###
### rm -rf Prostar.buildbin-libdir && mkdir Prostar.buildbin-libdir && C:\cygwin\bin\curl.exe -O https://malbec1.bioconductor.org/BBS/3.6/bioc/src/contrib/Prostar_1.10.5.tar.gz && C:\Users\biocbuild\bbs-3.6-bioc\R\bin\R.exe CMD INSTALL --build --library=Prostar.buildbin-libdir --merge-multiarch Prostar_1.10.5.tar.gz && C:\Users\biocbuild\bbs-3.6-bioc\R\bin\R.exe CMD INSTALL Prostar_1.10.5.zip && rm Prostar_1.10.5.tar.gz Prostar_1.10.5.zip
###
##############################################################################
##############################################################################
% Total % Received % Xferd Average Speed Time Time Time Current
Dload Upload Total Spent Left Speed
0 0 0 0 0 0 0 0 --:--:-- --:--:-- --:--:-- 0
100 1589k 100 1589k 0 0 26.4M 0 --:--:-- --:--:-- --:--:-- 28.2M
install for i386
* installing *source* package 'Prostar' ...
** R
** inst
** preparing package for lazy loading
** help
*** installing help indices
converting help for package 'Prostar'
finding HTML links ... done
Prostar html
** building package indices
** installing vignettes
** testing if installed package can be loaded
In R CMD INSTALL
install for x64
* installing *source* package 'Prostar' ...
** testing if installed package can be loaded
* MD5 sums
packaged installation of 'Prostar' as Prostar_1.10.5.zip
* DONE (Prostar)
In R CMD INSTALL
In R CMD INSTALL
* installing to library 'C:/Users/biocbuild/bbs-3.6-bioc/R/library'
package 'Prostar' successfully unpacked and MD5 sums checked
In R CMD INSTALL