| Back to Multiple platform build/check report for BioC 3.6 |
|
This page was generated on 2018-04-12 13:18:38 -0400 (Thu, 12 Apr 2018).
| Package 1027/1472 | Hostname | OS / Arch | INSTALL | BUILD | CHECK | BUILD BIN | ||||||
| PGSEA 1.52.0 Karl Dykema
| malbec1 | Linux (Ubuntu 16.04.1 LTS) / x86_64 | OK | OK | OK | |||||||
| tokay1 | Windows Server 2012 R2 Standard / x64 | OK | [ OK ] | OK | OK | |||||||
| veracruz1 | OS X 10.11.6 El Capitan / x86_64 | OK | OK | OK | OK |
| Package: PGSEA |
| Version: 1.52.0 |
| Command: chmod a+r PGSEA -R && C:\Users\biocbuild\bbs-3.6-bioc\R\bin\R.exe CMD build --keep-empty-dirs --no-resave-data PGSEA |
| StartedAt: 2018-04-11 19:13:39 -0400 (Wed, 11 Apr 2018) |
| EndedAt: 2018-04-11 19:35:41 -0400 (Wed, 11 Apr 2018) |
| EllapsedTime: 1321.9 seconds |
| RetCode: 0 |
| Status: OK |
| PackageFile: PGSEA_1.52.0.tar.gz |
| PackageFileSize: 1.157 MiB |
##############################################################################
##############################################################################
###
### Running command:
###
### chmod a+r PGSEA -R && C:\Users\biocbuild\bbs-3.6-bioc\R\bin\R.exe CMD build --keep-empty-dirs --no-resave-data PGSEA
###
##############################################################################
##############################################################################
* checking for file 'PGSEA/DESCRIPTION' ... OK
* preparing 'PGSEA':
* checking DESCRIPTION meta-information ... OK
* installing the package to build vignettes
* creating vignettes ... OK
Warning: 'inst/doc' file
'PGSEA2.R'
ignored as vignettes have been rebuilt.
Run R CMD build with --no-build-vignettes to prevent rebuilding.
* checking for LF line-endings in source and make files and shell scripts
* checking for empty or unneeded directories
* looking to see if a 'data/datalist' file should be added
* building 'PGSEA_1.52.0.tar.gz'