| Back to Multiple platform build/check report for BioC 3.6 |
|
This page was generated on 2018-04-12 13:23:38 -0400 (Thu, 12 Apr 2018).
| Package 1022/1472 | Hostname | OS / Arch | INSTALL | BUILD | CHECK | BUILD BIN | ||||||
| PECA 1.14.0 Tomi Suomi
| malbec1 | Linux (Ubuntu 16.04.1 LTS) / x86_64 | OK | OK | OK | |||||||
| tokay1 | Windows Server 2012 R2 Standard / x64 | [ OK ] | OK | OK | OK | |||||||
| veracruz1 | OS X 10.11.6 El Capitan / x86_64 | OK | OK | OK | OK |
| Package: PECA |
| Version: 1.14.0 |
| Command: rm -rf PECA.buildbin-libdir && mkdir PECA.buildbin-libdir && C:\cygwin\bin\curl.exe -O https://malbec1.bioconductor.org/BBS/3.6/bioc/src/contrib/PECA_1.14.0.tar.gz && C:\Users\biocbuild\bbs-3.6-bioc\R\bin\R.exe CMD INSTALL --build --library=PECA.buildbin-libdir --merge-multiarch PECA_1.14.0.tar.gz && C:\Users\biocbuild\bbs-3.6-bioc\R\bin\R.exe CMD INSTALL PECA_1.14.0.zip && rm PECA_1.14.0.tar.gz PECA_1.14.0.zip |
| StartedAt: 2018-04-11 18:33:11 -0400 (Wed, 11 Apr 2018) |
| EndedAt: 2018-04-11 18:34:21 -0400 (Wed, 11 Apr 2018) |
| EllapsedTime: 70.4 seconds |
| RetCode: 0 |
| Status: OK |
##############################################################################
##############################################################################
###
### Running command:
###
### rm -rf PECA.buildbin-libdir && mkdir PECA.buildbin-libdir && C:\cygwin\bin\curl.exe -O https://malbec1.bioconductor.org/BBS/3.6/bioc/src/contrib/PECA_1.14.0.tar.gz && C:\Users\biocbuild\bbs-3.6-bioc\R\bin\R.exe CMD INSTALL --build --library=PECA.buildbin-libdir --merge-multiarch PECA_1.14.0.tar.gz && C:\Users\biocbuild\bbs-3.6-bioc\R\bin\R.exe CMD INSTALL PECA_1.14.0.zip && rm PECA_1.14.0.tar.gz PECA_1.14.0.zip
###
##############################################################################
##############################################################################
% Total % Received % Xferd Average Speed Time Time Time Current
Dload Upload Total Spent Left Speed
0 0 0 0 0 0 0 0 --:--:-- --:--:-- --:--:-- 0
100 51567 100 51567 0 0 2173k 0 --:--:-- --:--:-- --:--:-- 2517k
install for i386
* installing *source* package 'PECA' ...
** R
** inst
** preparing package for lazy loading
** help
*** installing help indices
converting help for package 'PECA'
finding HTML links ... done
PECA html
PECASI html
** building package indices
** installing vignettes
** testing if installed package can be loaded
In R CMD INSTALL
install for x64
* installing *source* package 'PECA' ...
** testing if installed package can be loaded
* MD5 sums
packaged installation of 'PECA' as PECA_1.14.0.zip
* DONE (PECA)
In R CMD INSTALL
In R CMD INSTALL
* installing to library 'C:/Users/biocbuild/bbs-3.6-bioc/R/library'
package 'PECA' successfully unpacked and MD5 sums checked
In R CMD INSTALL