| Back to Multiple platform build/check report for BioC 3.6 | 
 | 
This page was generated on 2018-04-12 13:35:59 -0400 (Thu, 12 Apr 2018).
| Package 985/1472 | Hostname | OS / Arch | INSTALL | BUILD | CHECK | BUILD BIN | ||||||
| OrganismDbi 1.20.0 Biocore Data Team 
 | malbec1 | Linux (Ubuntu 16.04.1 LTS) / x86_64 | OK | OK | OK |  | ||||||
| tokay1 | Windows Server 2012 R2 Standard / x64 | OK | OK | WARNINGS | OK |  | ||||||
| veracruz1 | OS X 10.11.6 El Capitan / x86_64 | OK | OK | OK | [ OK ] |  | 
| Package: OrganismDbi | 
| Version: 1.20.0 | 
| Command: rm -rf OrganismDbi.buildbin-libdir && mkdir OrganismDbi.buildbin-libdir && /Users/biocbuild/BBS/utils/build-universal.sh OrganismDbi_1.20.0.tar.gz /Library/Frameworks/R.framework/Versions/Current/Resources/bin/R OrganismDbi.buildbin-libdir | 
| StartedAt: 2018-04-12 11:57:17 -0400 (Thu, 12 Apr 2018) | 
| EndedAt: 2018-04-12 11:57:37 -0400 (Thu, 12 Apr 2018) | 
| EllapsedTime: 20.2 seconds | 
| RetCode: 0 | 
| Status: OK | 
| PackageFile: OrganismDbi_1.20.0.tgz | 
| PackageFileSize: 365.6 KiB | 
############################################################################## ############################################################################## ### ### Running command: ### ### rm -rf OrganismDbi.buildbin-libdir && mkdir OrganismDbi.buildbin-libdir && /Users/biocbuild/BBS/utils/build-universal.sh OrganismDbi_1.20.0.tar.gz /Library/Frameworks/R.framework/Versions/Current/Resources/bin/R OrganismDbi.buildbin-libdir ### ############################################################################## ############################################################################## >>>>>>> >>>>>>> INSTALLATION WITH 'R CMD INSTALL --preclean --no-multiarch --library=OrganismDbi.buildbin-libdir OrganismDbi_1.20.0.tar.gz' >>>>>>> * installing *source* package ‘OrganismDbi’ ... ** R ** inst ** preparing package for lazy loading ** help *** installing help indices ** building package indices ** installing vignettes ** testing if installed package can be loaded * DONE (OrganismDbi)