| Back to Multiple platform build/check report for BioC 3.6 |
|
This page was generated on 2018-04-12 13:24:13 -0400 (Thu, 12 Apr 2018).
| Package 812/1472 | Hostname | OS / Arch | INSTALL | BUILD | CHECK | BUILD BIN | ||||||
| MeSHDbi 1.14.0 Koki Tsuyuzaki
| malbec1 | Linux (Ubuntu 16.04.1 LTS) / x86_64 | OK | OK | OK | |||||||
| tokay1 | Windows Server 2012 R2 Standard / x64 | [ OK ] | OK | OK | OK | |||||||
| veracruz1 | OS X 10.11.6 El Capitan / x86_64 | OK | OK | OK | OK |
| Package: MeSHDbi |
| Version: 1.14.0 |
| Command: rm -rf MeSHDbi.buildbin-libdir && mkdir MeSHDbi.buildbin-libdir && C:\cygwin\bin\curl.exe -O https://malbec1.bioconductor.org/BBS/3.6/bioc/src/contrib/MeSHDbi_1.14.0.tar.gz && C:\Users\biocbuild\bbs-3.6-bioc\R\bin\R.exe CMD INSTALL --build --library=MeSHDbi.buildbin-libdir --merge-multiarch MeSHDbi_1.14.0.tar.gz && C:\Users\biocbuild\bbs-3.6-bioc\R\bin\R.exe CMD INSTALL MeSHDbi_1.14.0.zip && rm MeSHDbi_1.14.0.tar.gz MeSHDbi_1.14.0.zip |
| StartedAt: 2018-04-11 18:28:24 -0400 (Wed, 11 Apr 2018) |
| EndedAt: 2018-04-11 18:29:11 -0400 (Wed, 11 Apr 2018) |
| EllapsedTime: 47.6 seconds |
| RetCode: 0 |
| Status: OK |
##############################################################################
##############################################################################
###
### Running command:
###
### rm -rf MeSHDbi.buildbin-libdir && mkdir MeSHDbi.buildbin-libdir && C:\cygwin\bin\curl.exe -O https://malbec1.bioconductor.org/BBS/3.6/bioc/src/contrib/MeSHDbi_1.14.0.tar.gz && C:\Users\biocbuild\bbs-3.6-bioc\R\bin\R.exe CMD INSTALL --build --library=MeSHDbi.buildbin-libdir --merge-multiarch MeSHDbi_1.14.0.tar.gz && C:\Users\biocbuild\bbs-3.6-bioc\R\bin\R.exe CMD INSTALL MeSHDbi_1.14.0.zip && rm MeSHDbi_1.14.0.tar.gz MeSHDbi_1.14.0.zip
###
##############################################################################
##############################################################################
% Total % Received % Xferd Average Speed Time Time Time Current
Dload Upload Total Spent Left Speed
0 0 0 0 0 0 0 0 --:--:-- --:--:-- --:--:-- 0
100 19536 100 19536 0 0 815k 0 --:--:-- --:--:-- --:--:-- 953k
install for i386
* installing *source* package 'MeSHDbi' ...
** R
** data
** inst
** preparing package for lazy loading
Creating a new generic function for 'packageName' in package 'MeSHDbi'
** help
*** installing help indices
converting help for package 'MeSHDbi'
finding HTML links ... done
MeSHDb html
PAO1 html
listDatabases html
makeMeSHPackage html
meshVersion html
metaPAO1 html
nomenclature html
packageName html
** building package indices
** installing vignettes
** testing if installed package can be loaded
In R CMD INSTALL
install for x64
* installing *source* package 'MeSHDbi' ...
** testing if installed package can be loaded
* MD5 sums
packaged installation of 'MeSHDbi' as MeSHDbi_1.14.0.zip
* DONE (MeSHDbi)
In R CMD INSTALL
In R CMD INSTALL
* installing to library 'C:/Users/biocbuild/bbs-3.6-bioc/R/library'
package 'MeSHDbi' successfully unpacked and MD5 sums checked
In R CMD INSTALL