| Back to Multiple platform build/check report for BioC 3.6 |
|
This page was generated on 2018-04-12 13:25:00 -0400 (Thu, 12 Apr 2018).
| Package 848/1472 | Hostname | OS / Arch | INSTALL | BUILD | CHECK | BUILD BIN | ||||||
| MGFM 1.12.0 Khadija El Amrani
| malbec1 | Linux (Ubuntu 16.04.1 LTS) / x86_64 | OK | OK | OK | |||||||
| tokay1 | Windows Server 2012 R2 Standard / x64 | [ OK ] | OK | OK | OK | |||||||
| veracruz1 | OS X 10.11.6 El Capitan / x86_64 | OK | OK | OK | OK |
| Package: MGFM |
| Version: 1.12.0 |
| Command: rm -rf MGFM.buildbin-libdir && mkdir MGFM.buildbin-libdir && C:\cygwin\bin\curl.exe -O https://malbec1.bioconductor.org/BBS/3.6/bioc/src/contrib/MGFM_1.12.0.tar.gz && C:\Users\biocbuild\bbs-3.6-bioc\R\bin\R.exe CMD INSTALL --build --library=MGFM.buildbin-libdir --merge-multiarch MGFM_1.12.0.tar.gz && C:\Users\biocbuild\bbs-3.6-bioc\R\bin\R.exe CMD INSTALL MGFM_1.12.0.zip && rm MGFM_1.12.0.tar.gz MGFM_1.12.0.zip |
| StartedAt: 2018-04-11 18:32:32 -0400 (Wed, 11 Apr 2018) |
| EndedAt: 2018-04-11 18:33:10 -0400 (Wed, 11 Apr 2018) |
| EllapsedTime: 37.5 seconds |
| RetCode: 0 |
| Status: OK |
##############################################################################
##############################################################################
###
### Running command:
###
### rm -rf MGFM.buildbin-libdir && mkdir MGFM.buildbin-libdir && C:\cygwin\bin\curl.exe -O https://malbec1.bioconductor.org/BBS/3.6/bioc/src/contrib/MGFM_1.12.0.tar.gz && C:\Users\biocbuild\bbs-3.6-bioc\R\bin\R.exe CMD INSTALL --build --library=MGFM.buildbin-libdir --merge-multiarch MGFM_1.12.0.tar.gz && C:\Users\biocbuild\bbs-3.6-bioc\R\bin\R.exe CMD INSTALL MGFM_1.12.0.zip && rm MGFM_1.12.0.tar.gz MGFM_1.12.0.zip
###
##############################################################################
##############################################################################
% Total % Received % Xferd Average Speed Time Time Time Current
Dload Upload Total Spent Left Speed
0 0 0 0 0 0 0 0 --:--:-- --:--:-- --:--:-- 0
100 2887k 100 2887k 0 0 58.8M 0 --:--:-- --:--:-- --:--:-- 64.0M
install for i386
* installing *source* package 'MGFM' ...
** R
** data
*** moving datasets to lazyload DB
** preparing package for lazy loading
** help
*** installing help indices
converting help for package 'MGFM'
finding HTML links ... done
MGFM-internal html
MGFM-package html
ds2.mat html
getHtmlpage html
getMarkerGenes html
** building package indices
** installing vignettes
** testing if installed package can be loaded
In R CMD INSTALL
install for x64
* installing *source* package 'MGFM' ...
** testing if installed package can be loaded
* MD5 sums
packaged installation of 'MGFM' as MGFM_1.12.0.zip
* DONE (MGFM)
In R CMD INSTALL
In R CMD INSTALL
* installing to library 'C:/Users/biocbuild/bbs-3.6-bioc/R/library'
package 'MGFM' successfully unpacked and MD5 sums checked
In R CMD INSTALL