| Back to Multiple platform build/check report for BioC 3.6 |
|
This page was generated on 2018-04-12 13:43:48 -0400 (Thu, 12 Apr 2018).
| Package 790/1472 | Hostname | OS / Arch | INSTALL | BUILD | CHECK | BUILD BIN | ||||||
| MAST 1.4.1 Andrew McDavid
| malbec1 | Linux (Ubuntu 16.04.1 LTS) / x86_64 | OK | OK | OK | |||||||
| tokay1 | Windows Server 2012 R2 Standard / x64 | OK | OK | OK | OK | |||||||
| veracruz1 | OS X 10.11.6 El Capitan / x86_64 | OK | OK | [ OK ] | OK |
| Package: MAST |
| Version: 1.4.1 |
| Command: /Library/Frameworks/R.framework/Versions/Current/Resources/bin/R CMD check --no-vignettes --timings MAST_1.4.1.tar.gz |
| StartedAt: 2018-04-12 05:53:00 -0400 (Thu, 12 Apr 2018) |
| EndedAt: 2018-04-12 05:57:06 -0400 (Thu, 12 Apr 2018) |
| EllapsedTime: 246.1 seconds |
| RetCode: 0 |
| Status: OK |
| CheckDir: MAST.Rcheck |
| Warnings: 0 |
##############################################################################
##############################################################################
###
### Running command:
###
### /Library/Frameworks/R.framework/Versions/Current/Resources/bin/R CMD check --no-vignettes --timings MAST_1.4.1.tar.gz
###
##############################################################################
##############################################################################
* using log directory ‘/Users/biocbuild/bbs-3.6-bioc/meat/MAST.Rcheck’
* using R version 3.4.4 (2018-03-15)
* using platform: x86_64-apple-darwin15.6.0 (64-bit)
* using session charset: UTF-8
* using option ‘--no-vignettes’
* checking for file ‘MAST/DESCRIPTION’ ... OK
* checking extension type ... Package
* this is package ‘MAST’ version ‘1.4.1’
* checking package namespace information ... OK
* checking package dependencies ... OK
* checking if this is a source package ... OK
* checking if there is a namespace ... OK
* checking for hidden files and directories ... NOTE
Found the following hidden files and directories:
.travis.yml
These were most likely included in error. See section ‘Package
structure’ in the ‘Writing R Extensions’ manual.
* checking for portable file names ... OK
* checking for sufficient/correct file permissions ... OK
* checking whether package ‘MAST’ can be installed ... OK
* checking installed package size ... NOTE
installed size is 9.2Mb
sub-directories of 1Mb or more:
data 3.7Mb
doc 4.7Mb
* checking package directory ... OK
* checking ‘build’ directory ... OK
* checking DESCRIPTION meta-information ... OK
* checking top-level files ... OK
* checking for left-over files ... OK
* checking index information ... OK
* checking package subdirectories ... OK
* checking R files for non-ASCII characters ... OK
* checking R files for syntax errors ... OK
* checking whether the package can be loaded ... OK
* checking whether the package can be loaded with stated dependencies ... OK
* checking whether the package can be unloaded cleanly ... OK
* checking whether the namespace can be loaded with stated dependencies ... OK
* checking whether the namespace can be unloaded cleanly ... OK
* checking dependencies in R code ... OK
* checking S3 generic/method consistency ... OK
* checking replacement functions ... OK
* checking foreign function calls ... OK
* checking R code for possible problems ... OK
* checking Rd files ... OK
* checking Rd metadata ... OK
* checking Rd cross-references ... OK
* checking for missing documentation entries ... OK
* checking for code/documentation mismatches ... OK
* checking Rd \usage sections ... OK
* checking Rd contents ... OK
* checking for unstated dependencies in examples ... OK
* checking contents of ‘data’ directory ... OK
* checking data for non-ASCII characters ... OK
* checking data for ASCII and uncompressed saves ... OK
* checking installed files from ‘inst/doc’ ... OK
* checking files in ‘vignettes’ ... OK
* checking examples ... OK
* checking for unstated dependencies in ‘tests’ ... OK
* checking tests ...
Running ‘testthat.R’
OK
* checking for unstated dependencies in vignettes ... OK
* checking package vignettes in ‘inst/doc’ ... OK
* checking running R code from vignettes ... SKIPPED
* checking re-building of vignette outputs ... SKIPPED
* checking PDF version of manual ... OK
* DONE
Status: 2 NOTEs
See
‘/Users/biocbuild/bbs-3.6-bioc/meat/MAST.Rcheck/00check.log’
for details.
MAST.Rcheck/00install.out
* installing *source* package ‘MAST’ ... ** R ** data *** moving datasets to lazyload DB ** inst ** preparing package for lazy loading ** help *** installing help indices ** building package indices ** installing vignettes ** testing if installed package can be loaded * DONE (MAST)
MAST.Rcheck/tests/testthat.Rout
R version 3.4.4 (2018-03-15) -- "Someone to Lean On"
Copyright (C) 2018 The R Foundation for Statistical Computing
Platform: x86_64-apple-darwin15.6.0 (64-bit)
R is free software and comes with ABSOLUTELY NO WARRANTY.
You are welcome to redistribute it under certain conditions.
Type 'license()' or 'licence()' for distribution details.
R is a collaborative project with many contributors.
Type 'contributors()' for more information and
'citation()' on how to cite R or R packages in publications.
Type 'demo()' for some demos, 'help()' for on-line help, or
'help.start()' for an HTML browser interface to help.
Type 'q()' to quit R.
> library(testthat)
> test_check("MAST")
Loading required package: MAST
Loading required package: SummarizedExperiment
Loading required package: GenomicRanges
Loading required package: stats4
Loading required package: BiocGenerics
Loading required package: parallel
Attaching package: 'BiocGenerics'
The following objects are masked from 'package:parallel':
clusterApply, clusterApplyLB, clusterCall, clusterEvalQ,
clusterExport, clusterMap, parApply, parCapply, parLapply,
parLapplyLB, parRapply, parSapply, parSapplyLB
The following objects are masked from 'package:stats':
IQR, mad, sd, var, xtabs
The following objects are masked from 'package:base':
Filter, Find, Map, Position, Reduce, anyDuplicated, append,
as.data.frame, cbind, colMeans, colSums, colnames, do.call,
duplicated, eval, evalq, get, grep, grepl, intersect, is.unsorted,
lapply, lengths, mapply, match, mget, order, paste, pmax, pmax.int,
pmin, pmin.int, rank, rbind, rowMeans, rowSums, rownames, sapply,
setdiff, sort, table, tapply, union, unique, unsplit, which,
which.max, which.min
Loading required package: S4Vectors
Attaching package: 'S4Vectors'
The following object is masked from 'package:base':
expand.grid
Loading required package: IRanges
Loading required package: GenomeInfoDb
Loading required package: Biobase
Welcome to Bioconductor
Vignettes contain introductory material; view with
'browseVignettes()'. To cite Bioconductor, see
'citation("Biobase")', and for packages 'citation("pkgname")'.
Loading required package: DelayedArray
Loading required package: matrixStats
Attaching package: 'matrixStats'
The following objects are masked from 'package:Biobase':
anyMissing, rowMedians
Attaching package: 'DelayedArray'
The following objects are masked from 'package:matrixStats':
colMaxs, colMins, colRanges, rowMaxs, rowMins, rowRanges
The following object is masked from 'package:base':
apply
Attaching package: 'MAST'
The following object is masked from 'package:stats':
filter
Error : number of levels of each grouping factor must be < number of observations
(0.0426,0.354] (0.354,0.757] (0.757,1.28] (1.28,1.96] (1.96,2.84]
2.258200 2.258200 2.258200 2.258200 2.258200
(2.84,3.99] (3.99,13.2]
2.258200 3.313588
(0.0602,0.436] (0.436,0.67] (0.67,0.944] (0.944,1.26] (1.26,1.63]
1.967142 1.967142 1.967142 2.003488 2.003488
(1.63,2.06] (2.06,2.56] (2.56,3.83]
2.600202 2.600202 2.600202
(0.03,1.56] (1.56,5.36] (5.36,14.8] (14.8,9.25e+03]
238.2279 238.2279 238.2279 4525.1912
Error in (function (x, y, weights = rep(1, nobs), start = NULL, etastart = NULL, :
NAs in V(mu)
══ testthat results ═══════════════════════════════════════════════════════════
OK: 277 SKIPPED: 5 FAILED: 0
>
> proc.time()
user system elapsed
38.732 1.699 51.664
MAST.Rcheck/MAST-Ex.timings
| name | user | system | elapsed | |
| Drop | 0 | 0 | 0 | |
| FromFlatDF | 1.414 | 0.147 | 1.138 | |
| FromMatrix | 0.190 | 0.021 | 0.224 | |
| Hypothesis | 0.01 | 0.00 | 0.01 | |
| LRT | 0.391 | 0.013 | 0.421 | |
| ZlmFit-class | 1.828 | 0.033 | 1.878 | |
| applyFlat | 0.001 | 0.000 | 0.002 | |
| bootVcov1 | 0.346 | 0.004 | 0.358 | |
| cData | 0.013 | 0.001 | 0.014 | |
| calcZ | 1.244 | 0.023 | 1.243 | |
| collectResiduals | 2.457 | 0.348 | 1.321 | |
| computeEtFromCt | 0.038 | 0.006 | 0.045 | |
| convertMASTClassicToSingleCellAssay | 0.009 | 0.002 | 0.011 | |
| defaultPrior | 0.001 | 0.000 | 0.001 | |
| expavg | 0.001 | 0.000 | 0.001 | |
| filterLowExpressedGenes | 0.014 | 0.003 | 0.016 | |
| freq | 0.013 | 0.003 | 0.016 | |
| getConcordance | 0.211 | 0.008 | 0.220 | |
| getwellKey | 0.017 | 0.004 | 0.021 | |
| gseaAfterBoot | 0.838 | 0.012 | 0.841 | |
| hushWarning | 0.003 | 0.001 | 0.001 | |
| impute | 3.058 | 0.132 | 2.862 | |
| invlogit | 0.002 | 0.001 | 0.001 | |
| logFC | 0.526 | 0.125 | 0.275 | |
| logmean | 0.004 | 0.000 | 0.002 | |
| lrTest | 0.826 | 0.101 | 0.654 | |
| mast_filter | 0.595 | 0.008 | 0.633 | |
| melt.SingleCellAssay | 0.041 | 0.003 | 0.047 | |
| plot.thresholdSCRNACountMatrix | 1.017 | 0.039 | 1.078 | |
| plotSCAConcordance | 0.717 | 0.021 | 0.750 | |
| predict.ZlmFit | 2.618 | 0.018 | 2.704 | |
| se.coef | 0.565 | 0.026 | 0.566 | |
| split-SingleCellAssay-character-method | 0.046 | 0.002 | 0.049 | |
| stat_ell | 1.494 | 0.009 | 1.553 | |
| subset-SingleCellAssay-method | 0.033 | 0.006 | 0.019 | |
| summary-GSEATests-method | 0.988 | 0.059 | 0.883 | |
| summary-ZlmFit-method | 0.303 | 0.047 | 0.179 | |
| thresholdSCRNACountMatrix | 0.578 | 0.075 | 0.490 | |
| waldTest | 0.534 | 0.012 | 0.554 | |
| zlm | 0.190 | 0.005 | 0.195 | |