| Back to Multiple platform build/check report for BioC 3.6 |
|
This page was generated on 2018-04-12 13:22:26 -0400 (Thu, 12 Apr 2018).
| Package 736/1472 | Hostname | OS / Arch | INSTALL | BUILD | CHECK | BUILD BIN | ||||||
| KEGGREST 1.18.1 Bioconductor Package Maintainer
| malbec1 | Linux (Ubuntu 16.04.1 LTS) / x86_64 | OK | OK | OK | |||||||
| tokay1 | Windows Server 2012 R2 Standard / x64 | [ OK ] | OK | OK | OK | |||||||
| veracruz1 | OS X 10.11.6 El Capitan / x86_64 | OK | OK | OK | OK |
| Package: KEGGREST |
| Version: 1.18.1 |
| Command: rm -rf KEGGREST.buildbin-libdir && mkdir KEGGREST.buildbin-libdir && C:\cygwin\bin\curl.exe -O https://malbec1.bioconductor.org/BBS/3.6/bioc/src/contrib/KEGGREST_1.18.1.tar.gz && C:\Users\biocbuild\bbs-3.6-bioc\R\bin\R.exe CMD INSTALL --build --library=KEGGREST.buildbin-libdir --merge-multiarch KEGGREST_1.18.1.tar.gz && C:\Users\biocbuild\bbs-3.6-bioc\R\bin\R.exe CMD INSTALL KEGGREST_1.18.1.zip && rm KEGGREST_1.18.1.tar.gz KEGGREST_1.18.1.zip |
| StartedAt: 2018-04-11 18:33:16 -0400 (Wed, 11 Apr 2018) |
| EndedAt: 2018-04-11 18:33:37 -0400 (Wed, 11 Apr 2018) |
| EllapsedTime: 20.8 seconds |
| RetCode: 0 |
| Status: OK |
##############################################################################
##############################################################################
###
### Running command:
###
### rm -rf KEGGREST.buildbin-libdir && mkdir KEGGREST.buildbin-libdir && C:\cygwin\bin\curl.exe -O https://malbec1.bioconductor.org/BBS/3.6/bioc/src/contrib/KEGGREST_1.18.1.tar.gz && C:\Users\biocbuild\bbs-3.6-bioc\R\bin\R.exe CMD INSTALL --build --library=KEGGREST.buildbin-libdir --merge-multiarch KEGGREST_1.18.1.tar.gz && C:\Users\biocbuild\bbs-3.6-bioc\R\bin\R.exe CMD INSTALL KEGGREST_1.18.1.zip && rm KEGGREST_1.18.1.tar.gz KEGGREST_1.18.1.zip
###
##############################################################################
##############################################################################
% Total % Received % Xferd Average Speed Time Time Time Current
Dload Upload Total Spent Left Speed
0 0 0 0 0 0 0 0 --:--:-- --:--:-- --:--:-- 0
100 13732 100 13732 0 0 567k 0 --:--:-- --:--:-- --:--:-- 670k
install for i386
* installing *source* package 'KEGGREST' ...
** R
** inst
** preparing package for lazy loading
** help
*** installing help indices
converting help for package 'KEGGREST'
finding HTML links ... done
keggConv html
keggFind html
keggGet html
keggInfo html
keggLink html
keggList html
listDatabases html
mark.pathway.by.objects html
** building package indices
** installing vignettes
** testing if installed package can be loaded
In R CMD INSTALL
install for x64
* installing *source* package 'KEGGREST' ...
** testing if installed package can be loaded
* MD5 sums
packaged installation of 'KEGGREST' as KEGGREST_1.18.1.zip
* DONE (KEGGREST)
In R CMD INSTALL
In R CMD INSTALL
* installing to library 'C:/Users/biocbuild/bbs-3.6-bioc/R/library'
package 'KEGGREST' successfully unpacked and MD5 sums checked
In R CMD INSTALL