| Back to Multiple platform build/check report for BioC 3.6 |
|
This page was generated on 2018-04-12 13:21:33 -0400 (Thu, 12 Apr 2018).
| Package 633/1472 | Hostname | OS / Arch | INSTALL | BUILD | CHECK | BUILD BIN | ||||||
| Gviz 1.22.3 Robert Ivanek
| malbec1 | Linux (Ubuntu 16.04.1 LTS) / x86_64 | OK | OK | OK | |||||||
| tokay1 | Windows Server 2012 R2 Standard / x64 | OK | OK | [ OK ] | OK | |||||||
| veracruz1 | OS X 10.11.6 El Capitan / x86_64 | OK | OK | OK | OK |
| Package: Gviz |
| Version: 1.22.3 |
| Command: rm -rf Gviz.buildbin-libdir Gviz.Rcheck && mkdir Gviz.buildbin-libdir Gviz.Rcheck && C:\Users\biocbuild\bbs-3.6-bioc\R\bin\R.exe CMD INSTALL --build --merge-multiarch --library=Gviz.buildbin-libdir Gviz_1.22.3.tar.gz >Gviz.Rcheck\00install.out 2>&1 && cp Gviz.Rcheck\00install.out Gviz-install.out && C:\Users\biocbuild\bbs-3.6-bioc\R\bin\R.exe CMD check --library=Gviz.buildbin-libdir --install="check:Gviz-install.out" --force-multiarch --no-vignettes --timings Gviz_1.22.3.tar.gz |
| StartedAt: 2018-04-12 00:38:27 -0400 (Thu, 12 Apr 2018) |
| EndedAt: 2018-04-12 00:48:18 -0400 (Thu, 12 Apr 2018) |
| EllapsedTime: 591.7 seconds |
| RetCode: 0 |
| Status: OK |
| CheckDir: Gviz.Rcheck |
| Warnings: 0 |
##############################################################################
##############################################################################
###
### Running command:
###
### rm -rf Gviz.buildbin-libdir Gviz.Rcheck && mkdir Gviz.buildbin-libdir Gviz.Rcheck && C:\Users\biocbuild\bbs-3.6-bioc\R\bin\R.exe CMD INSTALL --build --merge-multiarch --library=Gviz.buildbin-libdir Gviz_1.22.3.tar.gz >Gviz.Rcheck\00install.out 2>&1 && cp Gviz.Rcheck\00install.out Gviz-install.out && C:\Users\biocbuild\bbs-3.6-bioc\R\bin\R.exe CMD check --library=Gviz.buildbin-libdir --install="check:Gviz-install.out" --force-multiarch --no-vignettes --timings Gviz_1.22.3.tar.gz
###
##############################################################################
##############################################################################
* using log directory 'C:/Users/biocbuild/bbs-3.6-bioc/meat/Gviz.Rcheck'
* using R version 3.4.4 (2018-03-15)
* using platform: x86_64-w64-mingw32 (64-bit)
* using session charset: ISO8859-1
* using option '--no-vignettes'
* checking for file 'Gviz/DESCRIPTION' ... OK
* this is package 'Gviz' version '1.22.3'
* checking package namespace information ... OK
* checking package dependencies ... OK
* checking if this is a source package ... OK
* checking if there is a namespace ... OK
* checking for hidden files and directories ... OK
* checking for portable file names ... OK
* checking whether package 'Gviz' can be installed ... OK
* checking installed package size ... NOTE
installed size is 6.8Mb
sub-directories of 1Mb or more:
doc 1.8Mb
extdata 2.1Mb
* checking package directory ... OK
* checking 'build' directory ... OK
* checking DESCRIPTION meta-information ... OK
* checking top-level files ... OK
* checking for left-over files ... OK
* checking index information ... OK
* checking package subdirectories ... OK
* checking R files for non-ASCII characters ... OK
* checking R files for syntax errors ... OK
* loading checks for arch 'i386'
** checking whether the package can be loaded ... OK
** checking whether the package can be loaded with stated dependencies ... OK
** checking whether the package can be unloaded cleanly ... OK
** checking whether the namespace can be loaded with stated dependencies ... OK
** checking whether the namespace can be unloaded cleanly ... OK
* loading checks for arch 'x64'
** checking whether the package can be loaded ... OK
** checking whether the package can be loaded with stated dependencies ... OK
** checking whether the package can be unloaded cleanly ... OK
** checking whether the namespace can be loaded with stated dependencies ... OK
** checking whether the namespace can be unloaded cleanly ... OK
* checking dependencies in R code ... OK
* checking S3 generic/method consistency ... OK
* checking replacement functions ... OK
* checking foreign function calls ... OK
* checking R code for possible problems ... OK
* checking Rd files ... OK
* checking Rd metadata ... OK
* checking Rd cross-references ... OK
* checking for missing documentation entries ... OK
* checking for code/documentation mismatches ... OK
* checking Rd \usage sections ... OK
* checking Rd contents ... OK
* checking for unstated dependencies in examples ... OK
* checking contents of 'data' directory ... OK
* checking data for non-ASCII characters ... OK
* checking data for ASCII and uncompressed saves ... OK
* checking installed files from 'inst/doc' ... OK
* checking files in 'vignettes' ... OK
* checking examples ...
** running examples for arch 'i386' ... OK
Examples with CPU or elapsed time > 5s
user system elapsed
SequenceTrack-class 11.78 0.53 12.31
AlignmentsTrack-class 10.46 0.75 11.21
** running examples for arch 'x64' ... OK
Examples with CPU or elapsed time > 5s
user system elapsed
AlignmentsTrack-class 13.06 0.68 13.75
SequenceTrack-class 9.48 0.48 9.96
AnnotationTrack-class 5.88 0.02 5.89
GeneRegionTrack-class 5.49 0.07 5.55
* checking for unstated dependencies in vignettes ... OK
* checking package vignettes in 'inst/doc' ... OK
* checking running R code from vignettes ... SKIPPED
* checking re-building of vignette outputs ... SKIPPED
* checking PDF version of manual ... OK
* DONE
Status: 1 NOTE
See
'C:/Users/biocbuild/bbs-3.6-bioc/meat/Gviz.Rcheck/00check.log'
for details.
Gviz.Rcheck/00install.out
install for i386
* installing *source* package 'Gviz' ...
** R
** data
** inst
** preparing package for lazy loading
** help
*** installing help indices
converting help for package 'Gviz'
finding HTML links ... done
AlignedReadTrack-class html
finding level-2 HTML links ... done
AlignmentsTrack-class html
AnnotationTrack-class html
BiomartGeneRegionTrack-class html
CustomTrack-class html
DataTrack-class html
DisplayPars-class html
GdObject-class html
GeneRegionTrack-class html
GenomeAxisTrack-class html
HighlightTrack-class html
IdeogramTrack-class html
ImageMap-class html
NumericTrack-class html
OverlayTrack-class html
RangeTrack-class html
ReferenceTrack-class html
SequenceTrack-class html
StackedTrack-class html
UcscTrack html
collapsing html
datasets html
exportTracks html
grouping html
plotTracks html
settings html
** building package indices
** installing vignettes
** testing if installed package can be loaded
In R CMD INSTALL
install for x64
* installing *source* package 'Gviz' ...
** testing if installed package can be loaded
* MD5 sums
packaged installation of 'Gviz' as Gviz_1.22.3.zip
* DONE (Gviz)
In R CMD INSTALL
In R CMD INSTALL
|
Gviz.Rcheck/examples_i386/Gviz-Ex.timings
|
Gviz.Rcheck/examples_x64/Gviz-Ex.timings
|