| Back to Multiple platform build/check report for BioC 3.6 |
|
This page was generated on 2018-04-12 13:27:54 -0400 (Thu, 12 Apr 2018).
| Package 589/1472 | Hostname | OS / Arch | INSTALL | BUILD | CHECK | BUILD BIN | ||||||
| Glimma 1.6.0 Shian Su
| malbec1 | Linux (Ubuntu 16.04.1 LTS) / x86_64 | OK | OK | OK | |||||||
| tokay1 | Windows Server 2012 R2 Standard / x64 | [ OK ] | OK | OK | OK | |||||||
| veracruz1 | OS X 10.11.6 El Capitan / x86_64 | OK | OK | OK | OK |
| Package: Glimma |
| Version: 1.6.0 |
| Command: rm -rf Glimma.buildbin-libdir && mkdir Glimma.buildbin-libdir && C:\cygwin\bin\curl.exe -O https://malbec1.bioconductor.org/BBS/3.6/bioc/src/contrib/Glimma_1.6.0.tar.gz && C:\Users\biocbuild\bbs-3.6-bioc\R\bin\R.exe CMD INSTALL --build --library=Glimma.buildbin-libdir --merge-multiarch Glimma_1.6.0.tar.gz && C:\Users\biocbuild\bbs-3.6-bioc\R\bin\R.exe CMD INSTALL Glimma_1.6.0.zip && rm Glimma_1.6.0.tar.gz Glimma_1.6.0.zip |
| StartedAt: 2018-04-11 18:24:26 -0400 (Wed, 11 Apr 2018) |
| EndedAt: 2018-04-11 18:26:01 -0400 (Wed, 11 Apr 2018) |
| EllapsedTime: 94.7 seconds |
| RetCode: 0 |
| Status: OK |
##############################################################################
##############################################################################
###
### Running command:
###
### rm -rf Glimma.buildbin-libdir && mkdir Glimma.buildbin-libdir && C:\cygwin\bin\curl.exe -O https://malbec1.bioconductor.org/BBS/3.6/bioc/src/contrib/Glimma_1.6.0.tar.gz && C:\Users\biocbuild\bbs-3.6-bioc\R\bin\R.exe CMD INSTALL --build --library=Glimma.buildbin-libdir --merge-multiarch Glimma_1.6.0.tar.gz && C:\Users\biocbuild\bbs-3.6-bioc\R\bin\R.exe CMD INSTALL Glimma_1.6.0.zip && rm Glimma_1.6.0.tar.gz Glimma_1.6.0.zip
###
##############################################################################
##############################################################################
% Total % Received % Xferd Average Speed Time Time Time Current
Dload Upload Total Spent Left Speed
0 0 0 0 0 0 0 0 --:--:-- --:--:-- --:--:-- 0
100 3902k 100 3902k 0 0 65.6M 0 --:--:-- --:--:-- --:--:-- 69.2M
install for i386
* installing *source* package 'Glimma' ...
** R
** data
*** moving datasets to lazyload DB
** inst
** preparing package for lazy loading
** help
*** installing help indices
converting help for package 'Glimma'
finding HTML links ... done
arraydata html
as.hexcol html
glBar html
glBar.default html
glMDPlot.DESeqDataSet html
glMDPlot.DESeqResults html
glMDPlot.DGEExact html
glMDPlot.DGELRT html
glMDPlot.MArrayLM html
glMDPlot html
glMDPlot.default html
glMDRmd html
glMDSPlot.DESeqDataSet html
glMDSPlot.DGEList html
glMDSPlot html
glMDSPlot.default html
glScatter html
glScatter.default html
glTable html
glXYPlot html
glimma html
gllink html
gltablink html
is.hex html
lymphomaRNAseq html
makeJson html
makeJson.data.frame html
makeJson.jschart html
** building package indices
** installing vignettes
** testing if installed package can be loaded
In R CMD INSTALL
install for x64
* installing *source* package 'Glimma' ...
** testing if installed package can be loaded
* MD5 sums
packaged installation of 'Glimma' as Glimma_1.6.0.zip
* DONE (Glimma)
In R CMD INSTALL
In R CMD INSTALL
* installing to library 'C:/Users/biocbuild/bbs-3.6-bioc/R/library'
package 'Glimma' successfully unpacked and MD5 sums checked
In R CMD INSTALL