| Back to Multiple platform build/check report for BioC 3.6 | 
  | 
This page was generated on 2018-04-12 13:19:57 -0400 (Thu, 12 Apr 2018).
| Package 570/1472 | Hostname | OS / Arch | INSTALL | BUILD | CHECK | BUILD BIN | ||||||
| Genominator 1.32.0 James Bullard 
  | malbec1 | Linux (Ubuntu 16.04.1 LTS) / x86_64 | OK | OK | OK | |||||||
| tokay1 | Windows Server 2012 R2 Standard / x64 | [ OK ] | OK | OK | OK | |||||||
| veracruz1 | OS X 10.11.6 El Capitan / x86_64 | OK | OK | OK | OK | 
| Package: Genominator | 
| Version: 1.32.0 | 
| Command: rm -rf Genominator.buildbin-libdir && mkdir Genominator.buildbin-libdir && C:\cygwin\bin\curl.exe -O https://malbec1.bioconductor.org/BBS/3.6/bioc/src/contrib/Genominator_1.32.0.tar.gz && C:\Users\biocbuild\bbs-3.6-bioc\R\bin\R.exe CMD INSTALL --build --library=Genominator.buildbin-libdir --merge-multiarch Genominator_1.32.0.tar.gz && C:\Users\biocbuild\bbs-3.6-bioc\R\bin\R.exe CMD INSTALL Genominator_1.32.0.zip && rm Genominator_1.32.0.tar.gz Genominator_1.32.0.zip | 
| StartedAt: 2018-04-11 18:42:05 -0400 (Wed, 11 Apr 2018) | 
| EndedAt: 2018-04-11 18:43:20 -0400 (Wed, 11 Apr 2018) | 
| EllapsedTime: 74.7 seconds | 
| RetCode: 0 | 
| Status: OK | 
##############################################################################
##############################################################################
###
### Running command:
###
###   rm -rf Genominator.buildbin-libdir && mkdir Genominator.buildbin-libdir  && C:\cygwin\bin\curl.exe -O https://malbec1.bioconductor.org/BBS/3.6/bioc/src/contrib/Genominator_1.32.0.tar.gz && C:\Users\biocbuild\bbs-3.6-bioc\R\bin\R.exe CMD INSTALL --build --library=Genominator.buildbin-libdir --merge-multiarch Genominator_1.32.0.tar.gz && C:\Users\biocbuild\bbs-3.6-bioc\R\bin\R.exe CMD INSTALL Genominator_1.32.0.zip  && rm Genominator_1.32.0.tar.gz Genominator_1.32.0.zip
###
##############################################################################
##############################################################################
  % Total    % Received % Xferd  Average Speed   Time    Time     Time  Current
                                 Dload  Upload   Total   Spent    Left  Speed
  0     0    0     0    0     0      0      0 --:--:-- --:--:-- --:--:--     0
  0 1478k    0     0    0     0      0      0 --:--:-- --:--:-- --:--:--     0
100 1478k  100 1478k    0     0  3815k      0 --:--:-- --:--:-- --:--:-- 3839k
install for i386
* installing *source* package 'Genominator' ...
** R
** data
** inst
** preparing package for lazy loading
** help
*** installing help indices
  converting help for package 'Genominator'
    finding HTML links ... done
    ExpData                                 html  
    Genominator                             html  
    addPrimingWeights                       html  
    aggregateExpData                        html  
    applyMapped                             html  
    collapseExpData                         html  
    computeCoverage                         html  
    computePrimingWeights                   html  
    getRegion                               html  
    importFromAlignedReads                  html  
    importToExpData                         html  
    joinExpData                             html  
    makeGeneRepresentation                  html  
    mergeWithAnnotation                     html  
    plot.genominator.coverage               html  
    plot.genominator.goodness.of.fit        html  
    regionGoodnessOfFit-methods             html  
    splitByAnnotation                       html  
    summarizeByAnnotation                   html  
    summarizeExpData                        html  
    validAnnotation                         html  
    yeastAnno                               html  
** building package indices
** installing vignettes
** testing if installed package can be loaded
In R CMD INSTALL
install for x64
* installing *source* package 'Genominator' ...
** testing if installed package can be loaded
* MD5 sums
packaged installation of 'Genominator' as Genominator_1.32.0.zip
* DONE (Genominator)
In R CMD INSTALL
In R CMD INSTALL
* installing to library 'C:/Users/biocbuild/bbs-3.6-bioc/R/library'
package 'Genominator' successfully unpacked and MD5 sums checked
In R CMD INSTALL