| Back to Multiple platform build/check report for BioC 3.6 |
|
This page was generated on 2018-04-12 13:44:50 -0400 (Thu, 12 Apr 2018).
| Package 568/1472 | Hostname | OS / Arch | INSTALL | BUILD | CHECK | BUILD BIN | ||||||
| GenomicScores 1.2.2 Robert Castelo
| malbec1 | Linux (Ubuntu 16.04.1 LTS) / x86_64 | OK | OK | OK | |||||||
| tokay1 | Windows Server 2012 R2 Standard / x64 | OK | OK | WARNINGS | OK | |||||||
| veracruz1 | OS X 10.11.6 El Capitan / x86_64 | OK | OK | OK | [ OK ] |
| Package: GenomicScores |
| Version: 1.2.2 |
| Command: rm -rf GenomicScores.buildbin-libdir && mkdir GenomicScores.buildbin-libdir && /Users/biocbuild/BBS/utils/build-universal.sh GenomicScores_1.2.2.tar.gz /Library/Frameworks/R.framework/Versions/Current/Resources/bin/R GenomicScores.buildbin-libdir |
| StartedAt: 2018-04-12 11:33:12 -0400 (Thu, 12 Apr 2018) |
| EndedAt: 2018-04-12 11:33:33 -0400 (Thu, 12 Apr 2018) |
| EllapsedTime: 21.2 seconds |
| RetCode: 0 |
| Status: OK |
| PackageFile: GenomicScores_1.2.2.tgz |
| PackageFileSize: 2.725 MiB |
############################################################################## ############################################################################## ### ### Running command: ### ### rm -rf GenomicScores.buildbin-libdir && mkdir GenomicScores.buildbin-libdir && /Users/biocbuild/BBS/utils/build-universal.sh GenomicScores_1.2.2.tar.gz /Library/Frameworks/R.framework/Versions/Current/Resources/bin/R GenomicScores.buildbin-libdir ### ############################################################################## ############################################################################## >>>>>>> >>>>>>> INSTALLATION WITH 'R CMD INSTALL --preclean --no-multiarch --library=GenomicScores.buildbin-libdir GenomicScores_1.2.2.tar.gz' >>>>>>> * installing *source* package ‘GenomicScores’ ... ** R ** inst ** preparing package for lazy loading ** help *** installing help indices ** building package indices ** installing vignettes ** testing if installed package can be loaded * DONE (GenomicScores)