| Back to Multiple platform build/check report for BioC 3.6 |
|
This page was generated on 2018-04-12 13:33:21 -0400 (Thu, 12 Apr 2018).
| Package 564/1472 | Hostname | OS / Arch | INSTALL | BUILD | CHECK | BUILD BIN | ||||||
| GenomicFeatures 1.30.3 Bioconductor Package Maintainer
| malbec1 | Linux (Ubuntu 16.04.1 LTS) / x86_64 | OK | OK | ERROR | |||||||
| tokay1 | Windows Server 2012 R2 Standard / x64 | OK | OK | ERROR | OK | |||||||
| veracruz1 | OS X 10.11.6 El Capitan / x86_64 | OK | [ OK ] | ERROR | OK |
| Package: GenomicFeatures |
| Version: 1.30.3 |
| Command: /Library/Frameworks/R.framework/Versions/Current/Resources/bin/R CMD build --keep-empty-dirs --no-resave-data GenomicFeatures |
| StartedAt: 2018-04-11 19:03:26 -0400 (Wed, 11 Apr 2018) |
| EndedAt: 2018-04-11 19:04:46 -0400 (Wed, 11 Apr 2018) |
| EllapsedTime: 80.0 seconds |
| RetCode: 0 |
| Status: OK |
| PackageFile: GenomicFeatures_1.30.3.tar.gz |
| PackageFileSize: 872.3 KiB |
############################################################################## ############################################################################## ### ### Running command: ### ### /Library/Frameworks/R.framework/Versions/Current/Resources/bin/R CMD build --keep-empty-dirs --no-resave-data GenomicFeatures ### ############################################################################## ############################################################################## * checking for file ‘GenomicFeatures/DESCRIPTION’ ... OK * preparing ‘GenomicFeatures’: * checking DESCRIPTION meta-information ... OK * installing the package to build vignettes * creating vignettes ... OK * checking for LF line-endings in source and make files and shell scripts * checking for empty or unneeded directories * building ‘GenomicFeatures_1.30.3.tar.gz’