| Back to Multiple platform build/check report for BioC 3.6 |
|
This page was generated on 2018-04-12 13:08:39 -0400 (Thu, 12 Apr 2018).
| Package 547/1472 | Hostname | OS / Arch | INSTALL | BUILD | CHECK | BUILD BIN | ||||||
| GeneSelectMMD 2.22.0 Weiliang Qiu
| malbec1 | Linux (Ubuntu 16.04.1 LTS) / x86_64 | [ OK ] | OK | OK | |||||||
| tokay1 | Windows Server 2012 R2 Standard / x64 | OK | OK | OK | OK | |||||||
| veracruz1 | OS X 10.11.6 El Capitan / x86_64 | OK | OK | OK | OK |
| Package: GeneSelectMMD |
| Version: 2.22.0 |
| Command: /home/biocbuild/bbs-3.6-bioc/R/bin/R CMD INSTALL GeneSelectMMD |
| StartedAt: 2018-04-11 18:00:01 -0400 (Wed, 11 Apr 2018) |
| EndedAt: 2018-04-11 18:00:07 -0400 (Wed, 11 Apr 2018) |
| EllapsedTime: 5.5 seconds |
| RetCode: 0 |
| Status: OK |
##############################################################################
##############################################################################
###
### Running command:
###
### /home/biocbuild/bbs-3.6-bioc/R/bin/R CMD INSTALL GeneSelectMMD
###
##############################################################################
##############################################################################
* installing to library ‘/home/biocbuild/bbs-3.6-bioc/R/library’
* installing *source* package ‘GeneSelectMMD’ ...
** libs
f95 -fpic -g -O2 -Wall -c Qfunc.f -o Qfunc.o
f95 -fpic -g -O2 -Wall -c blas.f -o blas.o
gcc -I/home/biocbuild/bbs-3.6-bioc/R/include -DNDEBUG -I/usr/local/include -fpic -g -O2 -Wall -c isnan.c -o isnan.o
f95 -fpic -g -O2 -Wall -c lbfgsb.f -o lbfgsb.o
lbfgsb.f:1491:0:
t(nbreak) = tu/neggi
^
Warning: ‘tu’ may be used uninitialized in this function [-Wmaybe-uninitialized]
lbfgsb.f:1482:0:
t(nbreak) = tl/(-neggi)
^
Warning: ‘tl’ may be used uninitialized in this function [-Wmaybe-uninitialized]
f95 -fpic -g -O2 -Wall -c lbfgsbDriver.f -o lbfgsbDriver.o
f95 -fpic -g -O2 -Wall -c linpack.f -o linpack.o
f95 -fpic -g -O2 -Wall -c llkhFun.f -o llkhFun.o
f95 -fpic -g -O2 -Wall -c myTtest.f -o myTtest.o
f95 -fpic -g -O2 -Wall -c paraEstLoop.f -o paraEstLoop.o
gcc -I/home/biocbuild/bbs-3.6-bioc/R/include -DNDEBUG -I/usr/local/include -fpic -g -O2 -Wall -c pt.c -o pt.o
f95 -fpic -g -O2 -Wall -c timer.f -o timer.o
f95 -fpic -g -O2 -Wall -c wiFun.f -o wiFun.o
g++ -shared -L/home/biocbuild/bbs-3.6-bioc/R/lib -L/usr/local/lib -o GeneSelectMMD.so Qfunc.o blas.o isnan.o lbfgsb.o lbfgsbDriver.o linpack.o llkhFun.o myTtest.o paraEstLoop.o pt.o timer.o wiFun.o -lgfortran -lm -lquadmath -L/home/biocbuild/bbs-3.6-bioc/R/lib -lR
installing to /home/biocbuild/bbs-3.6-bioc/R/library/GeneSelectMMD/libs
** R
** preparing package for lazy loading
** help
*** installing help indices
** building package indices
** installing vignettes
** testing if installed package can be loaded
* DONE (GeneSelectMMD)